From mboxrd@z Thu Jan  1 00:00:00 1970
Return-Path: <test-report-bounces@dpdk.org>
Received: from mails.dpdk.org (mails.dpdk.org [217.70.189.124])
	by inbox.dpdk.org (Postfix) with ESMTP id E88C143BAC
	for <public@inbox.dpdk.org>; Fri,  1 Mar 2024 04:13:36 +0100 (CET)
Received: from mails.dpdk.org (localhost [127.0.0.1])
	by mails.dpdk.org (Postfix) with ESMTP id E3F29402CD;
	Fri,  1 Mar 2024 04:13:36 +0100 (CET)
Received: from mail-pf1-f226.google.com (mail-pf1-f226.google.com
 [209.85.210.226])
 by mails.dpdk.org (Postfix) with ESMTP id 5F5BC4025C
 for <test-report@dpdk.org>; Fri,  1 Mar 2024 04:13:35 +0100 (CET)
Received: by mail-pf1-f226.google.com with SMTP id
 d2e1a72fcca58-6e5c0be115aso52674b3a.3
 for <test-report@dpdk.org>; Thu, 29 Feb 2024 19:13:35 -0800 (PST)
DKIM-Signature: v=1; a=rsa-sha256; c=relaxed/relaxed;
 d=iol.unh.edu; s=unh-iol; t=1709262814; x=1709867614; darn=dpdk.org;
 h=references:in-reply-to:cc:to:from:subject:message-id:date:from:to
 :cc:subject:date:message-id:reply-to;
 bh=1clH/R/dAS4DuzWjOiosR9UFugq4DrX32eHRj3VNyZI=;
 b=dSaFzWrvv9RRDdtts4KsZKMOzUFgAqjI4JrQfmuSV+0w1de7quhl9pepgXEZ7nDKYv
 bW8tbkG7K6+PmeS+oyL4uLDfdHYMNzMVjx28RDd61U6ejlOi9dDNDN+GfzfIjd8OKVix
 4tzFFPToQQDnPGxPCqviFd0ocua9kGPkWwSHw=
X-Google-DKIM-Signature: v=1; a=rsa-sha256; c=relaxed/relaxed;
 d=1e100.net; s=20230601; t=1709262814; x=1709867614;
 h=references:in-reply-to:cc:to:from:subject:message-id:date
 :x-gm-message-state:from:to:cc:subject:date:message-id:reply-to;
 bh=1clH/R/dAS4DuzWjOiosR9UFugq4DrX32eHRj3VNyZI=;
 b=gZm6DGKsPBZ/j+PjPj+2yl9X50urqNEN9j8bmzJnB5IzTx0VwCECkUUaO9LgYzrsEY
 h7s9Hl6tpDfpAdKxROCcEJVsJLdLsJfTP6FcZGvPeNGfmXXaRQMjyhH1barL+kQ6k3UP
 1cKyITK8Dx5rFkJovE1AsY+BafvgetgM3hnagON8Cs9D4U1IJjD4k47+WHFBZXzil3+4
 wpxADCNnfOBL1aqAuIq9dboJbuurFXisysfdNdwQWcBM1YcSHuizGNb2kHGD2M8f1dv+
 +u1l1HuQc81LuH2F3cquSbP4KGcsOZjCPxGtX1tj4YQ2WziYzajZWD4gqtn+oUyXr8Fh
 T/rw==
X-Gm-Message-State: AOJu0YzFIyUjSCK8CCNnD9/Ka0u3YlReB8gArtcoXPLtrvbW7Z0ld+QU
 ylRGSqFBW5hZnjmYTUIV7MJ9cHeHjZaUUECwjw5ryGpqzfkDSfWIpQcUoS+1cO2zjKek30EKfDV
 NN8qbnU3l3xokF/UgWOTLKa6TEXGKMIbdVfH/D3cv
X-Google-Smtp-Source: AGHT+IF16SQzQRMEw/hvpvsJQGjjHVia7C6eaL6DWhQYtET1ZZNy8KXWJo96JcKrEPTjDhe1lMFalUxJ58IH
X-Received: by 2002:a05:6a20:bb05:b0:1a1:3513:e56e with SMTP id
 fc5-20020a056a20bb0500b001a13513e56emr300708pzb.52.1709262814497; 
 Thu, 29 Feb 2024 19:13:34 -0800 (PST)
Received: from postal.iol.unh.edu (postal.iol.unh.edu. [132.177.123.84])
 by smtp-relay.gmail.com with ESMTPS id
 l14-20020a17090b078e00b0029954a48c3bsm212932pjz.7.2024.02.29.19.13.34
 (version=TLS1_2 cipher=ECDHE-ECDSA-AES128-GCM-SHA256 bits=128/128);
 Thu, 29 Feb 2024 19:13:34 -0800 (PST)
X-Relaying-Domain: iol.unh.edu
Date: Thu, 29 Feb 2024 19:13:34 -0800 (PST)
Message-ID: <65e147de.170a0220.5c88a.e1dbSMTPIN_ADDED_MISSING@mx.google.com>
Received: from [172.17.0.8] (unknown [172.18.0.217])
 by postal.iol.unh.edu (Postfix) with ESMTP id 510596052511;
 Thu, 29 Feb 2024 22:13:33 -0500 (EST)
Subject: |SUCCESS| pw137522-137524 [PATCH] [v8,3/3] test/cryptodev: add tests
From: dpdklab@iol.unh.edu
To: Test Report <test-report@dpdk.org>
Cc: dpdk-test-reports@iol.unh.edu
In-Reply-To: <20240229194510.2741004-4-ciara.power@intel.com>
References: <20240229194510.2741004-4-ciara.power@intel.com>
Content-Type: text/plain
X-BeenThere: test-report@dpdk.org
X-Mailman-Version: 2.1.29
Precedence: list
List-Id: automatic DPDK test reports <test-report.dpdk.org>
List-Unsubscribe: <https://mails.dpdk.org/options/test-report>,
 <mailto:test-report-request@dpdk.org?subject=unsubscribe>
List-Archive: <http://mails.dpdk.org/archives/test-report/>
List-Post: <mailto:test-report@dpdk.org>
List-Help: <mailto:test-report-request@dpdk.org?subject=help>
List-Subscribe: <https://mails.dpdk.org/listinfo/test-report>,
 <mailto:test-report-request@dpdk.org?subject=subscribe>
Errors-To: test-report-bounces@dpdk.org

Test-Label: iol-unit-arm64-testing
Test-Status: SUCCESS
http://dpdk.org/patch/137524

_Testing PASS_

Submitter: Ciara Power <ciara.power@intel.com>
Date: Thursday, February 29 2024 19:45:09 
DPDK git baseline: Repo:dpdk
  Branch: master
  CommitID:8f27705b70911d12dc0f356a728d73279fbc1e84

137522-137524 --> testing pass

Test environment and result as below:

+--------------------------+--------------+----------------+
|       Environment        | lpm_autotest | dpdk_unit_test |
+==========================+==============+================+
| Ubuntu 20.04 ARM SVE     | PASS         | SKIPPED        |
+--------------------------+--------------+----------------+
| Debian 11 (Buster) (ARM) | SKIPPED      | PASS           |
+--------------------------+--------------+----------------+
| CentOS Stream 9 (ARM)    | SKIPPED      | PASS           |
+--------------------------+--------------+----------------+
| Debian 12 (arm)          | SKIPPED      | PASS           |
+--------------------------+--------------+----------------+
| Fedora 38 (ARM)          | SKIPPED      | PASS           |
+--------------------------+--------------+----------------+


Ubuntu 20.04 ARM SVE
	Kernel: 5.4.0-80-generic
	Compiler: gcc 10.3.0 (Ubuntu 10.3.0-1ubuntu1~20.04)

Debian 11 (Buster) (ARM)
	Kernel: Container Host Kernel
	Compiler: gcc 10.2.1

CentOS Stream 9 (ARM)
	Kernel: Container Host Kernel
	Compiler: gcc 11.3.1

Debian 12 (arm)
	Kernel: Container Host Kernel
	Compiler: gcc 11

Fedora 38 (ARM)
	Kernel: Depends on container host
	Compiler: gcc 13.1.1

To view detailed results, visit:
https://lab.dpdk.org/results/dashboard/patchsets/29350/

UNH-IOL DPDK Community Lab

To manage your email subscriptions, visit: 
https://lab.dpdk.org/results/dashboard/preferences/subscriptions/