From mboxrd@z Thu Jan  1 00:00:00 1970
Return-Path: <test-report-bounces@dpdk.org>
Received: from mails.dpdk.org (mails.dpdk.org [217.70.189.124])
	by inbox.dpdk.org (Postfix) with ESMTP id C062D43B6A
	for <public@inbox.dpdk.org>; Fri,  1 Mar 2024 04:21:57 +0100 (CET)
Received: from mails.dpdk.org (localhost [127.0.0.1])
	by mails.dpdk.org (Postfix) with ESMTP id BA732402CD;
	Fri,  1 Mar 2024 04:21:57 +0100 (CET)
Received: from mail-yw1-f225.google.com (mail-yw1-f225.google.com
 [209.85.128.225])
 by mails.dpdk.org (Postfix) with ESMTP id 165CE4025C
 for <test-report@dpdk.org>; Fri,  1 Mar 2024 04:21:56 +0100 (CET)
Received: by mail-yw1-f225.google.com with SMTP id
 00721157ae682-607dec82853so16243057b3.3
 for <test-report@dpdk.org>; Thu, 29 Feb 2024 19:21:56 -0800 (PST)
DKIM-Signature: v=1; a=rsa-sha256; c=relaxed/relaxed;
 d=iol.unh.edu; s=unh-iol; t=1709263315; x=1709868115; darn=dpdk.org;
 h=references:in-reply-to:cc:to:from:subject:message-id:date:from:to
 :cc:subject:date:message-id:reply-to;
 bh=KjVLSoYRc7JvxopArRrS5GZgeKtm7DFlvOe664nPZpM=;
 b=NWbHguiK4sFHPEgaP24u0LIgmQeV4+fTR2EBlNswvpog6+d4U1Fwruw0tw+9K8IkgM
 GvqBbClYiQWcVNmJl3ex6NctvZxJW0r3800ps2jg0CoHvUQFmlpji0gKKSqScQvSCzR5
 uWW6a0biR7bf1P1aSmi8YintPveNm0OKDSEm4=
X-Google-DKIM-Signature: v=1; a=rsa-sha256; c=relaxed/relaxed;
 d=1e100.net; s=20230601; t=1709263315; x=1709868115;
 h=references:in-reply-to:cc:to:from:subject:message-id:date
 :x-gm-message-state:from:to:cc:subject:date:message-id:reply-to;
 bh=KjVLSoYRc7JvxopArRrS5GZgeKtm7DFlvOe664nPZpM=;
 b=hpeWH7G8tSyyVQpAo+TCkqsjsOyotYu/MO8oYwiKfo7UwdGRyM/ptwbwG+SD0lz96t
 zB1iOpZjCvr3mD6SaPuV8ZjZfM0h0rseIlXoSig2oScc49yDsIcKTsCtGxsRsN+tEBeg
 lRxSjq0oAuL+QBe/p7VpmG6zUZA2g9tMzjxEkLW8taWlI2dxfdGBbM2/NiWvraz2h2y7
 N6vt0gjRknloJNp2EFJFGdnviFSClQI0fGtx0kgFCxd9JcztR0AbEmXrAYWffDTqzsum
 LYzwNDjLtLmhym5DXabgJN2dqTd6FMSr/W5Fd0V02I81yhkMa4KcWzF7X4Rxrum1+sdu
 vBbw==
X-Gm-Message-State: AOJu0Yx2M/Z9EZ46ozTYjzLArBg0hXoe70RMs7ruN+niQ2EZq3AWaDhB
 rJHSOLBUYGmjjhOKhHhc0M4bqhOr7raIjMddUqUrhBZgIE7kAI7Y4DzktVvhNXKuwQmtvNbuykC
 LBmNDUw+W+T8/u7s52fZg8LQiF4dG65adgx19+a13
X-Google-Smtp-Source: AGHT+IE2XbHxiOJEWJDq78dBqkduDkLDYyLcB7gNAqIEA8SmZjQqxxzxfJo7VyJc5lMG+BcwPcpsSmYHV0hA
X-Received: by 2002:a0d:eb52:0:b0:608:b556:cd38 with SMTP id
 u79-20020a0deb52000000b00608b556cd38mr490981ywe.1.1709263315469; 
 Thu, 29 Feb 2024 19:21:55 -0800 (PST)
Received: from postal.iol.unh.edu (postal.iol.unh.edu. [132.177.123.84])
 by smtp-relay.gmail.com with ESMTPS id
 f129-20020a0dc387000000b0060965c6c7bfsm143344ywd.31.2024.02.29.19.21.55
 (version=TLS1_2 cipher=ECDHE-ECDSA-AES128-GCM-SHA256 bits=128/128);
 Thu, 29 Feb 2024 19:21:55 -0800 (PST)
X-Relaying-Domain: iol.unh.edu
Date: Thu, 29 Feb 2024 19:21:55 -0800 (PST)
Message-ID: <65e149d3.0d0a0220.833a3.9e71SMTPIN_ADDED_MISSING@mx.google.com>
Received: from [172.21.0.8] (unknown [172.18.0.240])
 by postal.iol.unh.edu (Postfix) with ESMTP id 1D82B6052511;
 Thu, 29 Feb 2024 22:21:55 -0500 (EST)
Subject: |SUCCESS| pw137522-137524 [PATCH] [v8,3/3] test/cryptodev: add tests
From: dpdklab@iol.unh.edu
To: Test Report <test-report@dpdk.org>
Cc: dpdk-test-reports@iol.unh.edu
In-Reply-To: <20240229194510.2741004-4-ciara.power@intel.com>
References: <20240229194510.2741004-4-ciara.power@intel.com>
Content-Type: text/plain
X-BeenThere: test-report@dpdk.org
X-Mailman-Version: 2.1.29
Precedence: list
List-Id: automatic DPDK test reports <test-report.dpdk.org>
List-Unsubscribe: <https://mails.dpdk.org/options/test-report>,
 <mailto:test-report-request@dpdk.org?subject=unsubscribe>
List-Archive: <http://mails.dpdk.org/archives/test-report/>
List-Post: <mailto:test-report@dpdk.org>
List-Help: <mailto:test-report-request@dpdk.org?subject=help>
List-Subscribe: <https://mails.dpdk.org/listinfo/test-report>,
 <mailto:test-report-request@dpdk.org?subject=subscribe>
Errors-To: test-report-bounces@dpdk.org

Test-Label: iol-unit-arm64-testing
Test-Status: SUCCESS
http://dpdk.org/patch/137524

_Testing PASS_

Submitter: Ciara Power <ciara.power@intel.com>
Date: Thursday, February 29 2024 19:45:09 
DPDK git baseline: Repo:dpdk
  Branch: master
  CommitID:8f27705b70911d12dc0f356a728d73279fbc1e84

137522-137524 --> testing pass

Test environment and result as below:

+--------------------------+--------------+----------------+------------------------------+
|       Environment        | lpm_autotest | dpdk_unit_test | cryptodev_sw_snow3g_autotest |
+==========================+==============+================+==============================+
| Ubuntu 20.04 ARM SVE     | PASS         | SKIPPED        | SKIPPED                      |
+--------------------------+--------------+----------------+------------------------------+
| Debian 11 (Buster) (ARM) | SKIPPED      | PASS           | SKIPPED                      |
+--------------------------+--------------+----------------+------------------------------+
| CentOS Stream 9 (ARM)    | SKIPPED      | PASS           | SKIPPED                      |
+--------------------------+--------------+----------------+------------------------------+
| Debian 12 (arm)          | SKIPPED      | PASS           | PASS                         |
+--------------------------+--------------+----------------+------------------------------+
| Fedora 38 (ARM)          | SKIPPED      | PASS           | SKIPPED                      |
+--------------------------+--------------+----------------+------------------------------+
| Fedora 37 (ARM)          | SKIPPED      | PASS           | SKIPPED                      |
+--------------------------+--------------+----------------+------------------------------+


Ubuntu 20.04 ARM SVE
	Kernel: 5.4.0-80-generic
	Compiler: gcc 10.3.0 (Ubuntu 10.3.0-1ubuntu1~20.04)

Debian 11 (Buster) (ARM)
	Kernel: Container Host Kernel
	Compiler: gcc 10.2.1

CentOS Stream 9 (ARM)
	Kernel: Container Host Kernel
	Compiler: gcc 11.3.1

Debian 12 (arm)
	Kernel: Container Host Kernel
	Compiler: gcc 11

Fedora 38 (ARM)
	Kernel: Depends on container host
	Compiler: gcc 13.1.1

Fedora 37 (ARM)
	Kernel: Depends on container host
	Compiler: gcc 12.3.1

To view detailed results, visit:
https://lab.dpdk.org/results/dashboard/patchsets/29350/

UNH-IOL DPDK Community Lab

To manage your email subscriptions, visit: 
https://lab.dpdk.org/results/dashboard/preferences/subscriptions/