From mboxrd@z Thu Jan  1 00:00:00 1970
Return-Path: <test-report-bounces@dpdk.org>
Received: from mails.dpdk.org (mails.dpdk.org [217.70.189.124])
	by inbox.dpdk.org (Postfix) with ESMTP id ECA8643B97
	for <public@inbox.dpdk.org>; Fri,  1 Mar 2024 04:58:15 +0100 (CET)
Received: from mails.dpdk.org (localhost [127.0.0.1])
	by mails.dpdk.org (Postfix) with ESMTP id E4450402CD;
	Fri,  1 Mar 2024 04:58:15 +0100 (CET)
Received: from mail-ua1-f97.google.com (mail-ua1-f97.google.com
 [209.85.222.97]) by mails.dpdk.org (Postfix) with ESMTP id 009AE4025C
 for <test-report@dpdk.org>; Fri,  1 Mar 2024 04:58:14 +0100 (CET)
Received: by mail-ua1-f97.google.com with SMTP id
 a1e0cc1a2514c-7dad83f225cso546929241.2
 for <test-report@dpdk.org>; Thu, 29 Feb 2024 19:58:14 -0800 (PST)
DKIM-Signature: v=1; a=rsa-sha256; c=relaxed/relaxed;
 d=iol.unh.edu; s=unh-iol; t=1709265494; x=1709870294; darn=dpdk.org;
 h=references:in-reply-to:cc:to:from:subject:message-id:date:from:to
 :cc:subject:date:message-id:reply-to;
 bh=Qc9knln5lFuLJrq1wUXINrFEc2Q0YYGNinOTY4q0v4w=;
 b=hObv/V16AHJVgOelGyUBj9YeH0XABRpvhtgKvA/Q77yXUR1qw3kKmVWxs88L66Z8Si
 hWHUBFxXT+6B+zhyiIkhhFOisYnqMxqRgOHGCVS/rPAfXGoz5QVule2sQJOpby2YXXkI
 nerR6UZ1O+MjSYEMJcF08U3K6Ay8Lk+fDhGkU=
X-Google-DKIM-Signature: v=1; a=rsa-sha256; c=relaxed/relaxed;
 d=1e100.net; s=20230601; t=1709265494; x=1709870294;
 h=references:in-reply-to:cc:to:from:subject:message-id:date
 :x-gm-message-state:from:to:cc:subject:date:message-id:reply-to;
 bh=Qc9knln5lFuLJrq1wUXINrFEc2Q0YYGNinOTY4q0v4w=;
 b=lP8Y75gB4cilmmITsmvUN9gzYxBnR1KxlO35r4DtE40D+Kmijx+OitZubwCb7md+Ey
 2I5+AQOYhfDL4IL1a0vXibk5RNKamqjBoiuKDVDbm7AwMqeeZ4GZXmqanCm7GX2bCx2R
 vjYl65lugL1q0OOqfQ+stQjD47k8a6sPAVJO9RpXBhSTBlTvvRPgu1Sgzvm2StYG9RE4
 Ppct0ed85abHZlef5OwtGshp8e7cmMkTrLlr6qqnsNdRKu5A0MjoDa/6wRoGMbtV57pp
 bb9esf7G0pXcW+Y8AXtIeBTRXlt9FhOvSe4rF8bIivRQvz9gMSCKUz97RIpBdnwK0oju
 jQAA==
X-Gm-Message-State: AOJu0Yx8BnqD2pIgb3pWmKm8pc1yj2pG5x3eJBLgn3VcpPoUBDUa2AwM
 sNVBp7dq9HhlTAzNaOBA49u5EZKuEBPiP1VjHtN8ywrLa1cTz8RMiueGaS+2cQXhBstGPnc+6kv
 pgLPcjlkRjrNZMBlcvWNrDp21e+QrgJ+6CGskGynXc6wLP1VHbGm0fi7v
X-Google-Smtp-Source: AGHT+IFY3qF/3Xbq6mdXCNVIQj7yeuU6bFiegrGUKXyBP7PNiy2mO+Cx8DN1opyPCr7LNSlvh3Tad0ar+wn4
X-Received: by 2002:a05:6102:129a:b0:472:7747:14d6 with SMTP id
 jc26-20020a056102129a00b00472774714d6mr295458vsb.26.1709265494394; 
 Thu, 29 Feb 2024 19:58:14 -0800 (PST)
Received: from postal.iol.unh.edu (postal.iol.unh.edu.
 [2606:4100:3880:1234::84]) by smtp-relay.gmail.com with ESMTPS id
 2-20020a0562140dc200b0068f412353fesm152445qvt.7.2024.02.29.19.58.14
 (version=TLS1_2 cipher=ECDHE-ECDSA-AES128-GCM-SHA256 bits=128/128);
 Thu, 29 Feb 2024 19:58:14 -0800 (PST)
X-Relaying-Domain: iol.unh.edu
Date: Thu, 29 Feb 2024 19:58:14 -0800 (PST)
Message-ID: <65e15256.050a0220.c1af9.b6c0SMTPIN_ADDED_MISSING@mx.google.com>
Received: from [172.17.0.9] (unknown [172.18.0.217])
 by postal.iol.unh.edu (Postfix) with ESMTP id 1CD1D6052511;
 Thu, 29 Feb 2024 22:58:14 -0500 (EST)
Subject: |SUCCESS| pw137501 [PATCH] [v2] net/mlx5: add HWS support for matchi
From: dpdklab@iol.unh.edu
To: Test Report <test-report@dpdk.org>
Cc: dpdk-test-reports@iol.unh.edu
In-Reply-To: <20240229134913.3197558-1-michaelba@nvidia.com>
References: <20240229134913.3197558-1-michaelba@nvidia.com>
Content-Type: text/plain
X-BeenThere: test-report@dpdk.org
X-Mailman-Version: 2.1.29
Precedence: list
List-Id: automatic DPDK test reports <test-report.dpdk.org>
List-Unsubscribe: <https://mails.dpdk.org/options/test-report>,
 <mailto:test-report-request@dpdk.org?subject=unsubscribe>
List-Archive: <http://mails.dpdk.org/archives/test-report/>
List-Post: <mailto:test-report@dpdk.org>
List-Help: <mailto:test-report-request@dpdk.org?subject=help>
List-Subscribe: <https://mails.dpdk.org/listinfo/test-report>,
 <mailto:test-report-request@dpdk.org?subject=subscribe>
Errors-To: test-report-bounces@dpdk.org

Test-Label: iol-unit-amd64-testing
Test-Status: SUCCESS
http://dpdk.org/patch/137501

_Testing PASS_

Submitter: Michael Baum <michaelba@nvidia.com>
Date: Thursday, February 29 2024 13:49:14 
DPDK git baseline: Repo:dpdk
  Branch: master
  CommitID:387aefe9fab8f1033071659a758ccda61a220ffd

137501 --> testing pass

Test environment and result as below:

+---------------------+----------------+
|     Environment     | dpdk_unit_test |
+=====================+================+
| CentOS Stream 8     | PASS           |
+---------------------+----------------+
| Debian Bullseye     | PASS           |
+---------------------+----------------+
| CentOS Stream 9     | PASS           |
+---------------------+----------------+
| Debian 12 (arm)     | PASS           |
+---------------------+----------------+
| Fedora 38           | PASS           |
+---------------------+----------------+
| Fedora 37           | PASS           |
+---------------------+----------------+
| Ubuntu 20.04        | PASS           |
+---------------------+----------------+
| RHEL8               | PASS           |
+---------------------+----------------+
| openSUSE Leap 15    | PASS           |
+---------------------+----------------+
| Ubuntu 22.04        | PASS           |
+---------------------+----------------+
| Windows Server 2019 | PASS           |
+---------------------+----------------+


CentOS Stream 8
	Kernel: 4.18.0-240.10.1.el8_3.x86_64
	Compiler: gcc 8.4.1 20200928

Debian Bullseye
	Kernel: 5.4.0-122-generic
	Compiler: gcc 10.2.1-6

CentOS Stream 9
	Kernel: 4.18.0-240.10.1.el8_3.x86_64
	Compiler: gcc 11.3.1 20220421

Debian 12 (arm)
	Kernel: Container Host Kernel
	Compiler: gcc 11

Fedora 38
	Kernel: Depends on container host
	Compiler: gcc 13.1.1

Fedora 37
	Kernel: Depends on container host system
	Compiler: gcc 12.3.1

Ubuntu 20.04
	Kernel: 5.4.0-153-generic
	Compiler: gcc 9.4.0-1ubuntu1~20.04.1

RHEL8
	Kernel: 4.18.0-240.10.1.el8_3.x86_64
	Compiler: gcc 8.3.1 20191121 (Red Hat 8.3.1-5)

openSUSE Leap 15
	Kernel: 4.18.0-240.10.1.el8_3.x86_64
	Compiler: gcc 7.5.0

Ubuntu 22.04
	Kernel: 4.18.0-240.10.1.el8_3.x86_64
	Compiler: gcc 11.3.0

Windows Server 2019
	Kernel: 10.0
	Compiler: clang 14.0 and gcc 8.1.0 (MinGW)

To view detailed results, visit:
https://lab.dpdk.org/results/dashboard/patchsets/29339/

UNH-IOL DPDK Community Lab

To manage your email subscriptions, visit: 
https://lab.dpdk.org/results/dashboard/preferences/subscriptions/