From mboxrd@z Thu Jan  1 00:00:00 1970
Return-Path: <test-report-bounces@dpdk.org>
Received: from mails.dpdk.org (mails.dpdk.org [217.70.189.124])
	by inbox.dpdk.org (Postfix) with ESMTP id C102D43BA2
	for <public@inbox.dpdk.org>; Fri,  1 Mar 2024 05:08:50 +0100 (CET)
Received: from mails.dpdk.org (localhost [127.0.0.1])
	by mails.dpdk.org (Postfix) with ESMTP id BC787402CD;
	Fri,  1 Mar 2024 05:08:50 +0100 (CET)
Received: from mail-oo1-f98.google.com (mail-oo1-f98.google.com
 [209.85.161.98]) by mails.dpdk.org (Postfix) with ESMTP id 8349C4025C
 for <test-report@dpdk.org>; Fri,  1 Mar 2024 05:08:49 +0100 (CET)
Received: by mail-oo1-f98.google.com with SMTP id
 006d021491bc7-5a0e7fef61dso645009eaf.0
 for <test-report@dpdk.org>; Thu, 29 Feb 2024 20:08:49 -0800 (PST)
DKIM-Signature: v=1; a=rsa-sha256; c=relaxed/relaxed;
 d=iol.unh.edu; s=unh-iol; t=1709266129; x=1709870929; darn=dpdk.org;
 h=references:in-reply-to:cc:to:from:subject:message-id:date:from:to
 :cc:subject:date:message-id:reply-to;
 bh=0PljD8NIsKMg5ahmAkaK5dzHq5RllZwT4ZbTXddLBfA=;
 b=Ibl+JJ35heWaKVUhOXRdOXSuGaMNniZIlmeGa7IJN3v7VkHK1Fm3Rt/NVuxcWg5Ear
 S1P+W6e++glJJNhrTQUUJJmrJWLpE2+4CLRh1y2zVJWCfdRXmNpU+fod+p9uILeuq7my
 V8/dAxwkkcskGxRVWeSy/7HZxmC+CGM6DD1ck=
X-Google-DKIM-Signature: v=1; a=rsa-sha256; c=relaxed/relaxed;
 d=1e100.net; s=20230601; t=1709266129; x=1709870929;
 h=references:in-reply-to:cc:to:from:subject:message-id:date
 :x-gm-message-state:from:to:cc:subject:date:message-id:reply-to;
 bh=0PljD8NIsKMg5ahmAkaK5dzHq5RllZwT4ZbTXddLBfA=;
 b=oo1TRVDG9ADu+L9k7WLKqWaECCJwtZvyOKLH1GI9R2Oc3IiTZpeZSmiqrNjkFfpLhx
 dL/XG1H68GaaL+fW+r+3rKQHuzpFNtY082hxYLIXofAS4M1DQBxzTOgqtxPoSKIP0Ou3
 e0XPd1gHGg1Fg5dpnU0iHp6JUXBZd5sd9QYXUasJTijr2s/S2q5fsd5VwSEoSdDCXlmP
 /G7QyOXoEZNA+cpOra95jxaQoPXkRNvoG+MArMy6TgKIF8pobB3dKZjofci1yVZDeJZv
 zSmvCdE0r8HHJKnND6fA8LTf6ZOoLXxvXP3Pl66bUHKY8G09311BzeyS2mCr1g3mV/Vb
 4GRg==
X-Gm-Message-State: AOJu0Yxt/oEVmtnVcq5Wg/y0rK5vwNS8Xmw+9ByQZ2fu9QM7qqFgn17Y
 r2TBqIHWchgSI4YbWkEng/7W3e599LWQ7d7ppkQ/1wav9pe/9VDWpF8fMK+wduJh3T9RmsyII64
 YD3Cygrz6skAGE/8BW0IJTuQwXzrT8h8b12qqucGh
X-Google-Smtp-Source: AGHT+IEc5e5o5LC5Q+sMYnfklFLtUdS9/rj5A85CXgJ0K09HKf9gV4UppbvsBb7ED8jEt4IWn1sJYug0+/0h
X-Received: by 2002:a05:6358:939e:b0:17b:f03f:4d37 with SMTP id
 h30-20020a056358939e00b0017bf03f4d37mr668498rwb.8.1709266128847; 
 Thu, 29 Feb 2024 20:08:48 -0800 (PST)
Received: from postal.iol.unh.edu (postal.iol.unh.edu. [132.177.123.84])
 by smtp-relay.gmail.com with ESMTPS id
 ke25-20020a056214301900b0068f732494easm140372qvb.42.2024.02.29.20.08.48
 (version=TLS1_2 cipher=ECDHE-ECDSA-AES128-GCM-SHA256 bits=128/128);
 Thu, 29 Feb 2024 20:08:48 -0800 (PST)
X-Relaying-Domain: iol.unh.edu
Date: Thu, 29 Feb 2024 20:08:48 -0800 (PST)
Message-ID: <65e154d0.050a0220.b238a.99d0SMTPIN_ADDED_MISSING@mx.google.com>
Received: from [172.21.0.6] (unknown [172.18.0.240])
 by postal.iol.unh.edu (Postfix) with ESMTP id 890B16052511;
 Thu, 29 Feb 2024 23:08:48 -0500 (EST)
Subject: |SUCCESS| pw137549-137564 [PATCH] [v5,22/22] devtools: forbid use ar
From: dpdklab@iol.unh.edu
To: Test Report <test-report@dpdk.org>
Cc: dpdk-test-reports@iol.unh.edu
In-Reply-To: <1709242325-17218-23-git-send-email-roretzla@linux.microsoft.com>
References: <1709242325-17218-23-git-send-email-roretzla@linux.microsoft.com>
Content-Type: text/plain
X-BeenThere: test-report@dpdk.org
X-Mailman-Version: 2.1.29
Precedence: list
List-Id: automatic DPDK test reports <test-report.dpdk.org>
List-Unsubscribe: <https://mails.dpdk.org/options/test-report>,
 <mailto:test-report-request@dpdk.org?subject=unsubscribe>
List-Archive: <http://mails.dpdk.org/archives/test-report/>
List-Post: <mailto:test-report@dpdk.org>
List-Help: <mailto:test-report-request@dpdk.org?subject=help>
List-Subscribe: <https://mails.dpdk.org/listinfo/test-report>,
 <mailto:test-report-request@dpdk.org?subject=subscribe>
Errors-To: test-report-bounces@dpdk.org

Test-Label: iol-unit-amd64-testing
Test-Status: SUCCESS
http://dpdk.org/patch/137564

_Testing PASS_

Submitter: Tyler Retzlaff <roretzla@linux.microsoft.com>
Date: Thursday, February 29 2024 21:32:05 
DPDK git baseline: Repo:dpdk
  Branch: master
  CommitID:92c0ad70caf3ed6f4b93de6ddaf7bc369737c049

137549-137564 --> testing pass

Test environment and result as below:

+------------------+----------------+
|   Environment    | dpdk_unit_test |
+==================+================+
| CentOS Stream 8  | PASS           |
+------------------+----------------+
| Debian Bullseye  | PASS           |
+------------------+----------------+
| CentOS Stream 9  | PASS           |
+------------------+----------------+
| Debian 12 (arm)  | PASS           |
+------------------+----------------+
| Fedora 37        | PASS           |
+------------------+----------------+
| Fedora 38        | PASS           |
+------------------+----------------+
| openSUSE Leap 15 | PASS           |
+------------------+----------------+
| RHEL8            | PASS           |
+------------------+----------------+
| Ubuntu 20.04     | PASS           |
+------------------+----------------+
| Ubuntu 22.04     | PASS           |
+------------------+----------------+


CentOS Stream 8
	Kernel: 4.18.0-240.10.1.el8_3.x86_64
	Compiler: gcc 8.4.1 20200928

Debian Bullseye
	Kernel: 5.4.0-122-generic
	Compiler: gcc 10.2.1-6

CentOS Stream 9
	Kernel: 4.18.0-240.10.1.el8_3.x86_64
	Compiler: gcc 11.3.1 20220421

Debian 12 (arm)
	Kernel: Container Host Kernel
	Compiler: gcc 11

Fedora 37
	Kernel: Depends on container host system
	Compiler: gcc 12.3.1

Fedora 38
	Kernel: Depends on container host
	Compiler: gcc 13.1.1

openSUSE Leap 15
	Kernel: 4.18.0-240.10.1.el8_3.x86_64
	Compiler: gcc 7.5.0

RHEL8
	Kernel: 4.18.0-240.10.1.el8_3.x86_64
	Compiler: gcc 8.3.1 20191121 (Red Hat 8.3.1-5)

Ubuntu 20.04
	Kernel: 5.4.0-153-generic
	Compiler: gcc 9.4.0-1ubuntu1~20.04.1

Ubuntu 22.04
	Kernel: 4.18.0-240.10.1.el8_3.x86_64
	Compiler: gcc 11.3.0

To view detailed results, visit:
https://lab.dpdk.org/results/dashboard/patchsets/29352/

UNH-IOL DPDK Community Lab

To manage your email subscriptions, visit: 
https://lab.dpdk.org/results/dashboard/preferences/subscriptions/