From mboxrd@z Thu Jan  1 00:00:00 1970
Return-Path: <test-report-bounces@dpdk.org>
Received: from mails.dpdk.org (mails.dpdk.org [217.70.189.124])
	by inbox.dpdk.org (Postfix) with ESMTP id 1141943BA8
	for <public@inbox.dpdk.org>; Fri,  1 Mar 2024 05:20:28 +0100 (CET)
Received: from mails.dpdk.org (localhost [127.0.0.1])
	by mails.dpdk.org (Postfix) with ESMTP id 0C4B4402CD;
	Fri,  1 Mar 2024 05:20:28 +0100 (CET)
Received: from mail-io1-f97.google.com (mail-io1-f97.google.com
 [209.85.166.97]) by mails.dpdk.org (Postfix) with ESMTP id 736A64025C
 for <test-report@dpdk.org>; Fri,  1 Mar 2024 05:20:26 +0100 (CET)
Received: by mail-io1-f97.google.com with SMTP id
 ca18e2360f4ac-7c48e13e0d7so85588539f.1
 for <test-report@dpdk.org>; Thu, 29 Feb 2024 20:20:26 -0800 (PST)
DKIM-Signature: v=1; a=rsa-sha256; c=relaxed/relaxed;
 d=iol.unh.edu; s=unh-iol; t=1709266826; x=1709871626; darn=dpdk.org;
 h=references:in-reply-to:cc:to:from:subject:message-id:date:from:to
 :cc:subject:date:message-id:reply-to;
 bh=a9PxPzeaMFTPODo41eTbpyeSuxtFfJP7sMHJMUlFS2w=;
 b=i+ZUCWR+vEnuYp1bvsuxykKgPRON4cU/OyJ+1dC37KIg1YMcPLitSiH8LiY71idheE
 DCgKp/1s68O/qimOBgavH+Sw9Z+vi3gNEqmn6Lyn+IYa8FhbMtBccHyEHe2DQJD2O0Sc
 EYJEkHCBfv5MMXfkQZxTSlMW6ZFSXr8bXerVM=
X-Google-DKIM-Signature: v=1; a=rsa-sha256; c=relaxed/relaxed;
 d=1e100.net; s=20230601; t=1709266826; x=1709871626;
 h=references:in-reply-to:cc:to:from:subject:message-id:date
 :x-gm-message-state:from:to:cc:subject:date:message-id:reply-to;
 bh=a9PxPzeaMFTPODo41eTbpyeSuxtFfJP7sMHJMUlFS2w=;
 b=K5QKMu5VJUIfwNIOE8AfptqSKeNw6bzgStr+12ZbUCd9l4WfjwaBkJ8IhsL6bP+E+L
 evYkYru+0/DAf2KIvS6I6fKyvBZnxtiMKequpJmWFjxUbgzDHhTl5pI+lUDDHxj6t9f7
 01CtnHz3kJZI+Wa2wgT+fRs00XR3DG2ZFypajzgB9H62LiYKCzlT8ShejKvKZckUMzYq
 5ImI+YZEFy3arf/yEi61EOlv/K/s5vKUXTjdqWrg+k/ZNpQd342YRG4NwtLM+0G6Iv2V
 Cz0SEZ1NHUnQXwckADstvWsxSvSpfJoP23IUui9JvAvanZLc8VbDE7b+rKte4eKFRb78
 /3ww==
X-Gm-Message-State: AOJu0Yz3Zt7Av9wW0IGO/84TJOT02qP62y480zECN1prqNrq/9oTv2zu
 1KXFSlyx5ZqGOLKiWmexr3MfwBkU4Q4E77/1wx1+hdG8fRl9NDi3NsBSNzoplT2tYOBaH1IlsnD
 zVUx5uUsTmW7S9Ey08riD7di6SgOudqglI8OGNP52JV3DsiS2Ftw9rlm3
X-Google-Smtp-Source: AGHT+IG1y149uMeSxG51Wa8E3n5nUT0M1/U1pL0p/i7bD+/0otuaKrGgjNVdLI6p2jyJD+w+Sgl4sGwRAlxD
X-Received: by 2002:a5e:a90b:0:b0:7c8:8e6:413e with SMTP id
 c11-20020a5ea90b000000b007c808e6413emr548790iod.16.1709266825872; 
 Thu, 29 Feb 2024 20:20:25 -0800 (PST)
Received: from postal.iol.unh.edu (postal.iol.unh.edu.
 [2606:4100:3880:1234::84]) by smtp-relay.gmail.com with ESMTPS id
 s4-20020a5edc44000000b007c76bc20260sm87450iop.20.2024.02.29.20.20.25
 (version=TLS1_2 cipher=ECDHE-ECDSA-AES128-GCM-SHA256 bits=128/128);
 Thu, 29 Feb 2024 20:20:25 -0800 (PST)
X-Relaying-Domain: iol.unh.edu
Date: Thu, 29 Feb 2024 20:20:25 -0800 (PST)
Message-ID: <65e15789.5e0a0220.4f1f.5f7eSMTPIN_ADDED_MISSING@mx.google.com>
Received: from [172.21.0.6] (unknown [172.18.0.240])
 by postal.iol.unh.edu (Postfix) with ESMTP id 663826052511;
 Thu, 29 Feb 2024 23:20:25 -0500 (EST)
Subject: |SUCCESS| pw137549-137564 [PATCH] [v5,22/22] devtools: forbid use ar
From: dpdklab@iol.unh.edu
To: Test Report <test-report@dpdk.org>
Cc: dpdk-test-reports@iol.unh.edu
In-Reply-To: <1709242325-17218-23-git-send-email-roretzla@linux.microsoft.com>
References: <1709242325-17218-23-git-send-email-roretzla@linux.microsoft.com>
Content-Type: text/plain
X-BeenThere: test-report@dpdk.org
X-Mailman-Version: 2.1.29
Precedence: list
List-Id: automatic DPDK test reports <test-report.dpdk.org>
List-Unsubscribe: <https://mails.dpdk.org/options/test-report>,
 <mailto:test-report-request@dpdk.org?subject=unsubscribe>
List-Archive: <http://mails.dpdk.org/archives/test-report/>
List-Post: <mailto:test-report@dpdk.org>
List-Help: <mailto:test-report-request@dpdk.org?subject=help>
List-Subscribe: <https://mails.dpdk.org/listinfo/test-report>,
 <mailto:test-report-request@dpdk.org?subject=subscribe>
Errors-To: test-report-bounces@dpdk.org

Test-Label: iol-unit-arm64-testing
Test-Status: SUCCESS
http://dpdk.org/patch/137564

_Testing PASS_

Submitter: Tyler Retzlaff <roretzla@linux.microsoft.com>
Date: Thursday, February 29 2024 21:32:05 
DPDK git baseline: Repo:dpdk
  Branch: master
  CommitID:92c0ad70caf3ed6f4b93de6ddaf7bc369737c049

137549-137564 --> testing pass

Test environment and result as below:

+--------------------------+--------------+------------------------------+---------------------------+----------------+
|       Environment        | lpm_autotest | cryptodev_sw_snow3g_autotest | cryptodev_sw_zuc_autotest | dpdk_unit_test |
+==========================+==============+==============================+===========================+================+
| Ubuntu 20.04 ARM SVE     | PASS         | SKIPPED                      | SKIPPED                   | SKIPPED        |
+--------------------------+--------------+------------------------------+---------------------------+----------------+
| Debian 12 (arm)          | SKIPPED      | PASS                         | PASS                      | PASS           |
+--------------------------+--------------+------------------------------+---------------------------+----------------+
| Debian 11 (Buster) (ARM) | SKIPPED      | SKIPPED                      | SKIPPED                   | PASS           |
+--------------------------+--------------+------------------------------+---------------------------+----------------+
| Fedora 38 (ARM)          | SKIPPED      | SKIPPED                      | SKIPPED                   | PASS           |
+--------------------------+--------------+------------------------------+---------------------------+----------------+
| CentOS Stream 9 (ARM)    | SKIPPED      | SKIPPED                      | SKIPPED                   | PASS           |
+--------------------------+--------------+------------------------------+---------------------------+----------------+


Ubuntu 20.04 ARM SVE
	Kernel: 5.4.0-80-generic
	Compiler: gcc 10.3.0 (Ubuntu 10.3.0-1ubuntu1~20.04)

Debian 12 (arm)
	Kernel: Container Host Kernel
	Compiler: gcc 11

Debian 11 (Buster) (ARM)
	Kernel: Container Host Kernel
	Compiler: gcc 10.2.1

Fedora 38 (ARM)
	Kernel: Depends on container host
	Compiler: gcc 13.1.1

CentOS Stream 9 (ARM)
	Kernel: Container Host Kernel
	Compiler: gcc 11.3.1

To view detailed results, visit:
https://lab.dpdk.org/results/dashboard/patchsets/29352/

UNH-IOL DPDK Community Lab

To manage your email subscriptions, visit: 
https://lab.dpdk.org/results/dashboard/preferences/subscriptions/