From mboxrd@z Thu Jan  1 00:00:00 1970
Return-Path: <test-report-bounces@dpdk.org>
Received: from mails.dpdk.org (mails.dpdk.org [217.70.189.124])
	by inbox.dpdk.org (Postfix) with ESMTP id E06EF43BAC
	for <public@inbox.dpdk.org>; Fri,  1 Mar 2024 05:48:04 +0100 (CET)
Received: from mails.dpdk.org (localhost [127.0.0.1])
	by mails.dpdk.org (Postfix) with ESMTP id DC1A3402CD;
	Fri,  1 Mar 2024 05:48:04 +0100 (CET)
Received: from mail-oa1-f99.google.com (mail-oa1-f99.google.com
 [209.85.160.99]) by mails.dpdk.org (Postfix) with ESMTP id D6A674025C
 for <test-report@dpdk.org>; Fri,  1 Mar 2024 05:48:03 +0100 (CET)
Received: by mail-oa1-f99.google.com with SMTP id
 586e51a60fabf-21fed501addso829407fac.2
 for <test-report@dpdk.org>; Thu, 29 Feb 2024 20:48:03 -0800 (PST)
DKIM-Signature: v=1; a=rsa-sha256; c=relaxed/relaxed;
 d=iol.unh.edu; s=unh-iol; t=1709268483; x=1709873283; darn=dpdk.org;
 h=references:in-reply-to:cc:to:from:subject:message-id:date:from:to
 :cc:subject:date:message-id:reply-to;
 bh=Bflbc8qgqKlQG7SJizovqCgdoRCWYitxLLnLlDSU1AA=;
 b=YRbW44pKokyCoBGeZvgGMqbkFCfUMP588kq8KCJhc2ViSDjXm1lTjIWNv+5ETGieal
 qbm8cjKJTSej3NTyPDXH+LrG8pn/vy4Tfox6U09Tu9sp86PQPemPg3f6fVR5NbASYZ+e
 p52FuUN+ex9HMU62yxLbCt/zhFnVYY31mEdS8=
X-Google-DKIM-Signature: v=1; a=rsa-sha256; c=relaxed/relaxed;
 d=1e100.net; s=20230601; t=1709268483; x=1709873283;
 h=references:in-reply-to:cc:to:from:subject:message-id:date
 :x-gm-message-state:from:to:cc:subject:date:message-id:reply-to;
 bh=Bflbc8qgqKlQG7SJizovqCgdoRCWYitxLLnLlDSU1AA=;
 b=LyIxgCaunOu4i4jTXLl/+h1+NLWWU/AKiZzOLjIUeBx2+wyY54TwVZGYvywVjHkwBF
 Bro86ffvC5qghW9WQZupry7++NWl837Q+zFchKOwpvmW66SBC4ln7Ni5jCCW82AjwhdW
 ZESgxX7snf2ZOiwm5rHvJynaBxhmBxN4LXhsbV99r6Egu2Eo538SstujtdbCpYUjnWb4
 nC/s7fz6CMWh9POXfRhsLETgw4tTCw9wZRwEt0F9ipU6QpSq5zRWqMgMJnx7igpl/Xib
 LZ4b5h2TyVfwQiTgf/Z3mTqo3ySS5NommnsRTkHS8PPuVrz7xwDoD+fKg+RjhZ/aWo4a
 77eg==
X-Gm-Message-State: AOJu0YzO352sF5Qbufa8Fg/GJuTVlGKbXc00vgd8EYGQyH50StcslzoB
 P1cwYc3BdkVdrYUMVqjSekq5CZ4sOpmpcNX9iO/qiB7fgwstsRHoHzseJN48ccT8dSBa4q0lbyC
 Eb1nuiq5SQMiOuROViAwEOVNwA/t2hyDhxp+P6o+Y
X-Google-Smtp-Source: AGHT+IH8cET532Sn0OsG3QCZ6J/uDpRQAOL0VRIcuZMNdUWqEGtV7LdADV8rR+RGTsP0nItkx7LwnVP1e5Jk
X-Received: by 2002:a05:6870:15d3:b0:220:8d30:8e8e with SMTP id
 k19-20020a05687015d300b002208d308e8emr579077oad.51.1709268483083; 
 Thu, 29 Feb 2024 20:48:03 -0800 (PST)
Received: from postal.iol.unh.edu (postal.iol.unh.edu. [132.177.123.84])
 by smtp-relay.gmail.com with ESMTPS id
 m3-20020a056870030300b00204cd7ebbcasm95909oaf.15.2024.02.29.20.48.03
 (version=TLS1_2 cipher=ECDHE-ECDSA-AES128-GCM-SHA256 bits=128/128);
 Thu, 29 Feb 2024 20:48:03 -0800 (PST)
X-Relaying-Domain: iol.unh.edu
Date: Thu, 29 Feb 2024 20:48:03 -0800 (PST)
Message-ID: <65e15e03.050a0220.5791a.671bSMTPIN_ADDED_MISSING@mx.google.com>
Received: from [172.17.0.7] (unknown [172.18.0.217])
 by postal.iol.unh.edu (Postfix) with ESMTP id 8D8246052511;
 Thu, 29 Feb 2024 23:48:02 -0500 (EST)
Subject: |SUCCESS| pw137575-137645 [PATCH] [71/71] examples: replace use of f
From: dpdklab@iol.unh.edu
To: Test Report <test-report@dpdk.org>
Cc: dpdk-test-reports@iol.unh.edu
In-Reply-To: <20240229225936.483472-72-stephen@networkplumber.org>
References: <20240229225936.483472-72-stephen@networkplumber.org>
Content-Type: text/plain
X-BeenThere: test-report@dpdk.org
X-Mailman-Version: 2.1.29
Precedence: list
List-Id: automatic DPDK test reports <test-report.dpdk.org>
List-Unsubscribe: <https://mails.dpdk.org/options/test-report>,
 <mailto:test-report-request@dpdk.org?subject=unsubscribe>
List-Archive: <http://mails.dpdk.org/archives/test-report/>
List-Post: <mailto:test-report@dpdk.org>
List-Help: <mailto:test-report-request@dpdk.org?subject=help>
List-Subscribe: <https://mails.dpdk.org/listinfo/test-report>,
 <mailto:test-report-request@dpdk.org?subject=subscribe>
Errors-To: test-report-bounces@dpdk.org

Test-Label: iol-unit-arm64-testing
Test-Status: SUCCESS
http://dpdk.org/patch/137645

_Testing PASS_

Submitter: Stephen Hemminger <stephen@networkplumber.org>
Date: Thursday, February 29 2024 22:58:58 
DPDK git baseline: Repo:dpdk
  Branch: master
  CommitID:92c0ad70caf3ed6f4b93de6ddaf7bc369737c049

137575-137645 --> testing pass

Test environment and result as below:

+-----------------------+--------------+------------------------------+---------------------------+----------------+
|      Environment      | lpm_autotest | cryptodev_sw_snow3g_autotest | cryptodev_sw_zuc_autotest | dpdk_unit_test |
+=======================+==============+==============================+===========================+================+
| Ubuntu 20.04 ARM SVE  | PASS         | SKIPPED                      | SKIPPED                   | SKIPPED        |
+-----------------------+--------------+------------------------------+---------------------------+----------------+
| Debian 12 (arm)       | SKIPPED      | PASS                         | PASS                      | PASS           |
+-----------------------+--------------+------------------------------+---------------------------+----------------+
| CentOS Stream 9 (ARM) | SKIPPED      | SKIPPED                      | SKIPPED                   | PASS           |
+-----------------------+--------------+------------------------------+---------------------------+----------------+


Ubuntu 20.04 ARM SVE
	Kernel: 5.4.0-80-generic
	Compiler: gcc 10.3.0 (Ubuntu 10.3.0-1ubuntu1~20.04)

Debian 12 (arm)
	Kernel: Container Host Kernel
	Compiler: gcc 11

CentOS Stream 9 (ARM)
	Kernel: Container Host Kernel
	Compiler: gcc 11.3.1

To view detailed results, visit:
https://lab.dpdk.org/results/dashboard/patchsets/29354/

UNH-IOL DPDK Community Lab

To manage your email subscriptions, visit: 
https://lab.dpdk.org/results/dashboard/preferences/subscriptions/