From mboxrd@z Thu Jan  1 00:00:00 1970
Return-Path: <test-report-bounces@dpdk.org>
Received: from mails.dpdk.org (mails.dpdk.org [217.70.189.124])
	by inbox.dpdk.org (Postfix) with ESMTP id 0F82843BAC
	for <public@inbox.dpdk.org>; Fri,  1 Mar 2024 05:48:48 +0100 (CET)
Received: from mails.dpdk.org (localhost [127.0.0.1])
	by mails.dpdk.org (Postfix) with ESMTP id 0791C402CD;
	Fri,  1 Mar 2024 05:48:48 +0100 (CET)
Received: from mail-ot1-f98.google.com (mail-ot1-f98.google.com
 [209.85.210.98]) by mails.dpdk.org (Postfix) with ESMTP id E1C214025C
 for <test-report@dpdk.org>; Fri,  1 Mar 2024 05:48:46 +0100 (CET)
Received: by mail-ot1-f98.google.com with SMTP id
 46e09a7af769-6e480fe439aso889695a34.0
 for <test-report@dpdk.org>; Thu, 29 Feb 2024 20:48:46 -0800 (PST)
DKIM-Signature: v=1; a=rsa-sha256; c=relaxed/relaxed;
 d=iol.unh.edu; s=unh-iol; t=1709268526; x=1709873326; darn=dpdk.org;
 h=references:in-reply-to:cc:to:from:subject:message-id:date:from:to
 :cc:subject:date:message-id:reply-to;
 bh=x5SHwjdZbuH/Dng9We90Bve6wMlKdC2VUB/a4JocoGA=;
 b=QaQCxl0CiEFgmA3UHaWbpRat6dIn++c2RMJGnN9a/p/z6Zut2JVN7TVbkqit5rZwiU
 p54LvCkeRpeXEhKg+o+GYi1Vp4ScdIo+J7iS5zJ5CHWvYrRrcQ/n0HY3R1XZ5JbEqOUZ
 OOqMpAAyDF0NhL+RVcs77HNlZPl4ZL300Jypo=
X-Google-DKIM-Signature: v=1; a=rsa-sha256; c=relaxed/relaxed;
 d=1e100.net; s=20230601; t=1709268526; x=1709873326;
 h=references:in-reply-to:cc:to:from:subject:message-id:date
 :x-gm-message-state:from:to:cc:subject:date:message-id:reply-to;
 bh=x5SHwjdZbuH/Dng9We90Bve6wMlKdC2VUB/a4JocoGA=;
 b=IIkT+19n74vd2w0UHY9AMU5TTFlqfgxWteWyweEtMSrjzqYyTYNDykBLn/I2Y+s5HK
 ceSNTCPfiKTBSRDtKibHkpy0iBiMKGAsCki8R0Uj4zkLQxFBGpZ5J0MCbgiIFWsGxWRz
 64tTMjxU4zFDAEliEw3HEEfWE91X1M5VpdUVOsjkOhXelHRMUGhE1pLwQjLoooGIWMqz
 6ZeNIx0Ey5GbxsOANqRHUCGRwivVnk4WZOcYpchuf6KzDljJWxayT6B5d0hMwvjqnDzR
 6jvw0wW0Zo+R62QdMeexetBu4hZA8KS8n8SMEX5JTq6qqOEWBO3926EGjLbALdu8qwLp
 AdjQ==
X-Gm-Message-State: AOJu0YxoSkUNMAxASGv+JKxoggOCmWpbHXdibC4SsHT0EeZIzsfYKLwK
 86D1BYi5vpy5IvNuWyo2gygv+vlR3kyuC09qX0iRHjhSK+tk/3m7LQYZlYdY7f5Xq1plNckKCYA
 kflHMcC5A3TfLLBdylhJXkEWkeuDX8vrAST8pdy58
X-Google-Smtp-Source: AGHT+IGtmkMQ98QnVCB98dfibXm6gteFimA70DWKQI1EmZQIkVV2gKrybA1nscZ2l7sEMAGGVQnTsXtKHZlS
X-Received: by 2002:a9d:7a99:0:b0:6e4:81c2:a794 with SMTP id
 l25-20020a9d7a99000000b006e481c2a794mr837678otn.12.1709268526168; 
 Thu, 29 Feb 2024 20:48:46 -0800 (PST)
Received: from postal.iol.unh.edu (postal.iol.unh.edu. [132.177.123.84])
 by smtp-relay.gmail.com with ESMTPS id
 q14-20020a9d664e000000b006e4973c3ce1sm108827otm.8.2024.02.29.20.48.46
 (version=TLS1_2 cipher=ECDHE-ECDSA-AES128-GCM-SHA256 bits=128/128);
 Thu, 29 Feb 2024 20:48:46 -0800 (PST)
X-Relaying-Domain: iol.unh.edu
Date: Thu, 29 Feb 2024 20:48:46 -0800 (PST)
Message-ID: <65e15e2e.9d0a0220.64ecb.6037SMTPIN_ADDED_MISSING@mx.google.com>
Received: from [172.17.0.7] (unknown [172.18.0.217])
 by postal.iol.unh.edu (Postfix) with ESMTP id A04266052511;
 Thu, 29 Feb 2024 23:48:45 -0500 (EST)
Subject: |SUCCESS| pw137575-137645 [PATCH] [71/71] examples: replace use of f
From: dpdklab@iol.unh.edu
To: Test Report <test-report@dpdk.org>
Cc: dpdk-test-reports@iol.unh.edu
In-Reply-To: <20240229225936.483472-72-stephen@networkplumber.org>
References: <20240229225936.483472-72-stephen@networkplumber.org>
Content-Type: text/plain
X-BeenThere: test-report@dpdk.org
X-Mailman-Version: 2.1.29
Precedence: list
List-Id: automatic DPDK test reports <test-report.dpdk.org>
List-Unsubscribe: <https://mails.dpdk.org/options/test-report>,
 <mailto:test-report-request@dpdk.org?subject=unsubscribe>
List-Archive: <http://mails.dpdk.org/archives/test-report/>
List-Post: <mailto:test-report@dpdk.org>
List-Help: <mailto:test-report-request@dpdk.org?subject=help>
List-Subscribe: <https://mails.dpdk.org/listinfo/test-report>,
 <mailto:test-report-request@dpdk.org?subject=subscribe>
Errors-To: test-report-bounces@dpdk.org

Test-Label: iol-compile-amd64-testing
Test-Status: SUCCESS
http://dpdk.org/patch/137645

_Testing PASS_

Submitter: Stephen Hemminger <stephen@networkplumber.org>
Date: Thursday, February 29 2024 22:58:58 
DPDK git baseline: Repo:dpdk
  Branch: master
  CommitID:92c0ad70caf3ed6f4b93de6ddaf7bc369737c049

137575-137645 --> testing pass

Test environment and result as below:

+------------------+--------------------+
|   Environment    | dpdk_meson_compile |
+==================+====================+
| CentOS Stream 8  | PASS               |
+------------------+--------------------+
| FreeBSD 13.2     | PASS               |
+------------------+--------------------+
| CentOS Stream 9  | PASS               |
+------------------+--------------------+
| Debian 12 (arm)  | PASS               |
+------------------+--------------------+
| openSUSE Leap 15 | PASS               |
+------------------+--------------------+
| Debian Bullseye  | PASS               |
+------------------+--------------------+
| Fedora 37        | PASS               |
+------------------+--------------------+
| Fedora 38        | PASS               |
+------------------+--------------------+
| Ubuntu 20.04     | PASS               |
+------------------+--------------------+
| Ubuntu 22.04     | PASS               |
+------------------+--------------------+
| RHEL8            | PASS               |
+------------------+--------------------+
| Alpine           | PASS               |
+------------------+--------------------+


CentOS Stream 8
	Kernel: 4.18.0-240.10.1.el8_3.x86_64
	Compiler: gcc 8.4.1 20200928

FreeBSD 13.2
	Kernel: 13.2
	Compiler: clang 11.3.0

CentOS Stream 9
	Kernel: 4.18.0-240.10.1.el8_3.x86_64
	Compiler: gcc 11.3.1 20220421

Debian 12 (arm)
	Kernel: Container Host Kernel
	Compiler: gcc 11

openSUSE Leap 15
	Kernel: 4.18.0-240.10.1.el8_3.x86_64
	Compiler: gcc 7.5.0

Debian Bullseye
	Kernel: 5.4.0-122-generic
	Compiler: gcc 10.2.1-6

Fedora 37
	Kernel: Depends on container host system
	Compiler: gcc 12.3.1

Fedora 38
	Kernel: Depends on container host
	Compiler: gcc 13.1.1

Ubuntu 20.04
	Kernel: 5.4.0-153-generic
	Compiler: gcc 9.4.0-1ubuntu1~20.04.1

Ubuntu 22.04
	Kernel: 4.18.0-240.10.1.el8_3.x86_64
	Compiler: gcc 11.3.0

RHEL8
	Kernel: 4.18.0-240.10.1.el8_3.x86_64
	Compiler: gcc 8.3.1 20191121 (Red Hat 8.3.1-5)

Alpine
	Kernel: 5.4.0-73-generic
	Compiler: gcc (Alpine 10.3.1_git20210424) 10.3.1 20210424

To view detailed results, visit:
https://lab.dpdk.org/results/dashboard/patchsets/29354/

UNH-IOL DPDK Community Lab

To manage your email subscriptions, visit: 
https://lab.dpdk.org/results/dashboard/preferences/subscriptions/