From mboxrd@z Thu Jan  1 00:00:00 1970
Return-Path: <test-report-bounces@dpdk.org>
Received: from mails.dpdk.org (mails.dpdk.org [217.70.189.124])
	by inbox.dpdk.org (Postfix) with ESMTP id 98C3F43BAC
	for <public@inbox.dpdk.org>; Fri,  1 Mar 2024 05:51:33 +0100 (CET)
Received: from mails.dpdk.org (localhost [127.0.0.1])
	by mails.dpdk.org (Postfix) with ESMTP id 945AC402CD;
	Fri,  1 Mar 2024 05:51:33 +0100 (CET)
Received: from mail-qv1-f99.google.com (mail-qv1-f99.google.com
 [209.85.219.99]) by mails.dpdk.org (Postfix) with ESMTP id 8AE0D4025C
 for <test-report@dpdk.org>; Fri,  1 Mar 2024 05:51:32 +0100 (CET)
Received: by mail-qv1-f99.google.com with SMTP id
 6a1803df08f44-6904de1d549so4176296d6.1
 for <test-report@dpdk.org>; Thu, 29 Feb 2024 20:51:32 -0800 (PST)
DKIM-Signature: v=1; a=rsa-sha256; c=relaxed/relaxed;
 d=iol.unh.edu; s=unh-iol; t=1709268692; x=1709873492; darn=dpdk.org;
 h=references:in-reply-to:cc:to:from:subject:message-id:date:from:to
 :cc:subject:date:message-id:reply-to;
 bh=VqBTO2z4KeedUxc28gETXkY1pm42Wt23o1vpqv5EAsU=;
 b=MTIU54CdJRvVJW2+y7a32CI2SStXdXR5yeT4Uohs/AB2FPx/afIv9TFOgdbUyGiylb
 gaUry1kCyuNNGig/nP0pHqksITOg511qMy4fGSjc/XKk+irmMP8wCg+o8bU1lSZ3jwp/
 gLdF8xLhOO51sHMyQJZWBo3e39tLbn9exCMhE=
X-Google-DKIM-Signature: v=1; a=rsa-sha256; c=relaxed/relaxed;
 d=1e100.net; s=20230601; t=1709268692; x=1709873492;
 h=references:in-reply-to:cc:to:from:subject:message-id:date
 :x-gm-message-state:from:to:cc:subject:date:message-id:reply-to;
 bh=VqBTO2z4KeedUxc28gETXkY1pm42Wt23o1vpqv5EAsU=;
 b=se8ZOYD1JjJzPGkxrsnyz/gpfiLRHhGuSnjuy2aXePIFx7RH+WEsU98/BhZvjkP3sR
 LeJop1n+n1wu0TyFKh6ZhBP9yjhi007YBRjo1H7bitdAXhYmonrArI5i81c2heKpwXX3
 36DEpUZV28q3lxKoTUAPlJprZOuUWv6Gpe6SqAOM1hUt7MfEMY2GlvjYizNbMdGwFtVS
 g4Y30yUaSymFEb4Tr5y7bfazV7W3NYNzDGDQ7F3bitIoABpeKBCJ+QhWhIWuWLrY3IGI
 5zHis/j2Z1cf1z9olm7zinHopohnankEBhzUfnOBxbie0Zsksiup1szRVpXeHAQNSE/q
 NytQ==
X-Gm-Message-State: AOJu0YzgduPbSXlMLuLQHUfTa6xdefuPG8na/a0SRo3DOGkWA+Bw0EeL
 wrJ8nrZ8EM6NUuMdWEn4LukyK9y/FJW64S4Ij0n4WFxTCd+S6Vb0pDh5sFlB/GleaOqT8NpOb1O
 yYBNQ9vUI+S1DXoBO9bMJE0EFV2UvBcpDGmoiLFJ2
X-Google-Smtp-Source: AGHT+IEsZBF6Po56TjaQU0sZFpXJVp0SvOnUtOcMT1vFXN6NBXivRYaRZYMMlVbyJJpLmQMOVafYPhA8J5mu
X-Received: by 2002:a0c:9c86:0:b0:68f:3453:7bf1 with SMTP id
 i6-20020a0c9c86000000b0068f34537bf1mr732650qvf.28.1709268692118; 
 Thu, 29 Feb 2024 20:51:32 -0800 (PST)
Received: from postal.iol.unh.edu (postal.iol.unh.edu. [132.177.123.84])
 by smtp-relay.gmail.com with ESMTPS id
 dv4-20020ad44ee4000000b0068fb96267a8sm143562qvb.25.2024.02.29.20.51.32
 (version=TLS1_2 cipher=ECDHE-ECDSA-AES128-GCM-SHA256 bits=128/128);
 Thu, 29 Feb 2024 20:51:32 -0800 (PST)
X-Relaying-Domain: iol.unh.edu
Date: Thu, 29 Feb 2024 20:51:32 -0800 (PST)
Message-ID: <65e15ed4.d40a0220.778a1.a828SMTPIN_ADDED_MISSING@mx.google.com>
Received: from [172.17.0.8] (unknown [172.18.0.217])
 by postal.iol.unh.edu (Postfix) with ESMTP id CE4896052511;
 Thu, 29 Feb 2024 23:51:31 -0500 (EST)
Subject: |SUCCESS| pw137575-137645 [PATCH] [71/71] examples: replace use of f
From: dpdklab@iol.unh.edu
To: Test Report <test-report@dpdk.org>
Cc: dpdk-test-reports@iol.unh.edu
In-Reply-To: <20240229225936.483472-72-stephen@networkplumber.org>
References: <20240229225936.483472-72-stephen@networkplumber.org>
Content-Type: text/plain
X-BeenThere: test-report@dpdk.org
X-Mailman-Version: 2.1.29
Precedence: list
List-Id: automatic DPDK test reports <test-report.dpdk.org>
List-Unsubscribe: <https://mails.dpdk.org/options/test-report>,
 <mailto:test-report-request@dpdk.org?subject=unsubscribe>
List-Archive: <http://mails.dpdk.org/archives/test-report/>
List-Post: <mailto:test-report@dpdk.org>
List-Help: <mailto:test-report-request@dpdk.org?subject=help>
List-Subscribe: <https://mails.dpdk.org/listinfo/test-report>,
 <mailto:test-report-request@dpdk.org?subject=subscribe>
Errors-To: test-report-bounces@dpdk.org

Test-Label: iol-compile-arm64-testing
Test-Status: SUCCESS
http://dpdk.org/patch/137645

_Testing PASS_

Submitter: Stephen Hemminger <stephen@networkplumber.org>
Date: Thursday, February 29 2024 22:58:58 
DPDK git baseline: Repo:dpdk
  Branch: master
  CommitID:92c0ad70caf3ed6f4b93de6ddaf7bc369737c049

137575-137645 --> testing pass

Test environment and result as below:

+----------------------------------------+--------------------+
|              Environment               | dpdk_meson_compile |
+========================================+====================+
| Ubuntu 20.04 ARM SVE                   | PASS               |
+----------------------------------------+--------------------+
| Ubuntu 20.04 aarch32 GCC Cross Compile | PASS               |
+----------------------------------------+--------------------+
| CentOS Stream 9 (ARM)                  | PASS               |
+----------------------------------------+--------------------+
| Ubuntu 20.04 ARM Clang Cross Compile   | PASS               |
+----------------------------------------+--------------------+
| Ubuntu 20.04 (ARM)                     | PASS               |
+----------------------------------------+--------------------+
| Fedora 38 (ARM)                        | PASS               |
+----------------------------------------+--------------------+
| Fedora 37 (ARM)                        | PASS               |
+----------------------------------------+--------------------+
| Debian 12 (arm)                        | PASS               |
+----------------------------------------+--------------------+
| Ubuntu 20.04 ARM GCC Cross Compile     | PASS               |
+----------------------------------------+--------------------+


Ubuntu 20.04 ARM SVE
	Kernel: 5.4.0-80-generic
	Compiler: gcc 10.3.0 (Ubuntu 10.3.0-1ubuntu1~20.04)

Ubuntu 20.04 aarch32 GCC Cross Compile
	Kernel: 5.4.0-72-generic
	Compiler: gcc 9.3.0

CentOS Stream 9 (ARM)
	Kernel: Container Host Kernel
	Compiler: gcc 11.3.1

Ubuntu 20.04 ARM Clang Cross Compile
	Kernel: 5.4.0-72-generic
	Compiler: clang version 10.0.0-4ubuntu1

Ubuntu 20.04 (ARM)
	Kernel: Container Host Kernel
	Compiler: gcc 9.4.0

Fedora 38 (ARM)
	Kernel: Depends on container host
	Compiler: gcc 13.1.1

Fedora 37 (ARM)
	Kernel: Depends on container host
	Compiler: gcc 12.3.1

Debian 12 (arm)
	Kernel: Container Host Kernel
	Compiler: gcc 11

Ubuntu 20.04 ARM GCC Cross Compile
	Kernel: 5.4.0-72-generic
	Compiler: aarch64-linux-gnu-gcc (Ubuntu 9.3.0-17ubuntu1~20.04) 9.3.0

To view detailed results, visit:
https://lab.dpdk.org/results/dashboard/patchsets/29354/

UNH-IOL DPDK Community Lab

To manage your email subscriptions, visit: 
https://lab.dpdk.org/results/dashboard/preferences/subscriptions/