From mboxrd@z Thu Jan  1 00:00:00 1970
Return-Path: <test-report-bounces@dpdk.org>
Received: from mails.dpdk.org (mails.dpdk.org [217.70.189.124])
	by inbox.dpdk.org (Postfix) with ESMTP id 7AD2843BCF
	for <public@inbox.dpdk.org>; Fri,  1 Mar 2024 14:13:32 +0100 (CET)
Received: from mails.dpdk.org (localhost [127.0.0.1])
	by mails.dpdk.org (Postfix) with ESMTP id 1544E4346A;
	Fri,  1 Mar 2024 14:13:31 +0100 (CET)
Received: from mail-pl1-f226.google.com (mail-pl1-f226.google.com
 [209.85.214.226])
 by mails.dpdk.org (Postfix) with ESMTP id 1F0654026C
 for <test-report@dpdk.org>; Fri,  1 Mar 2024 14:13:29 +0100 (CET)
Received: by mail-pl1-f226.google.com with SMTP id
 d9443c01a7336-1dc13fb0133so17019945ad.3
 for <test-report@dpdk.org>; Fri, 01 Mar 2024 05:13:29 -0800 (PST)
DKIM-Signature: v=1; a=rsa-sha256; c=relaxed/relaxed;
 d=iol.unh.edu; s=unh-iol; t=1709298808; x=1709903608; darn=dpdk.org;
 h=references:in-reply-to:cc:to:from:subject:message-id:date:from:to
 :cc:subject:date:message-id:reply-to;
 bh=YnzWDfDmah0E4zlfZ5iYBauqPz/Yti/L/mzqvZymGfw=;
 b=jqRwlF08X1I03pMkmeunhByRpctYYJ0wFG01lcBbazfSIdgzH8Cf6hS8PGjvef5xFN
 s/ac3D+loOO9IT5X+m/z1jzwrENUHMwJgBzcrhgdo1mESShaG3IqbLX1hEd+XGq8sg9z
 G1razotu4cPM/wyx3NYlttcTcw3suhPRKzt2Q=
X-Google-DKIM-Signature: v=1; a=rsa-sha256; c=relaxed/relaxed;
 d=1e100.net; s=20230601; t=1709298808; x=1709903608;
 h=references:in-reply-to:cc:to:from:subject:message-id:date
 :x-gm-message-state:from:to:cc:subject:date:message-id:reply-to;
 bh=YnzWDfDmah0E4zlfZ5iYBauqPz/Yti/L/mzqvZymGfw=;
 b=pqaiXX9k8VT3GbZ+P/eijtLLjt3HjULPThvVgRMysAF54kyl3LhEOJZHsWutfFvwx6
 TInK2GnGe8O/UUuI2StFZKBmDW+Ze1RlH5PJAxeSGmhXwtE3GWvqsltPKURQoe7rK6aw
 qSu1ZwoHSdu+qLgZ0PpRYP5bK8F77lZXyHxHsQm0ErM81k9c5m0PVXTZzx/xrxs/s7lA
 uXxtBvHFuuw7GWuu4QzEIEVzeeLjTxd6mcJiNPn/Gk+HqcxdOJETNOpmtJxgUu6I/JOH
 6hcFLIjdnDD7AebLjBZWAr9BJeobyGooug16pwp/Fx08FpCeYQIXs9Ozn8Ue1897fTIY
 /iRQ==
X-Gm-Message-State: AOJu0Yzr0P9JGr2OWkkadJaAJDH/PH38OcSFoVLXrrjEVziV1o8NOJnI
 n19i+Qz52UUDMEIRkXSeDpIV87ZFF429ol9SOMahF3coUR7w7NqPJYN76tv4oD5jnbbWUW+2SfF
 sUsnaMTtPpZ1r28Zoo8KX+egxcY23MOYScsSmhKKIrtvbTdPZyGxFJgeo
X-Google-Smtp-Source: AGHT+IFSKhZMXvXd3YcOcapxG+NyEvpYyx9KVfBOMRwi9brMzPMrmGilu9tLJ2+ny2dko7D6hbGh+AyKdme6
X-Received: by 2002:a17:902:da8b:b0:1dc:b063:34ac with SMTP id
 j11-20020a170902da8b00b001dcb06334acmr1636725plx.21.1709298808429; 
 Fri, 01 Mar 2024 05:13:28 -0800 (PST)
Received: from postal.iol.unh.edu (postal.iol.unh.edu.
 [2606:4100:3880:1234::84]) by smtp-relay.gmail.com with ESMTPS id
 kt15-20020a170903088f00b001db2ff1dde2sm95010plb.2.2024.03.01.05.13.28
 (version=TLS1_2 cipher=ECDHE-ECDSA-AES128-GCM-SHA256 bits=128/128);
 Fri, 01 Mar 2024 05:13:28 -0800 (PST)
X-Relaying-Domain: iol.unh.edu
Date: Fri, 01 Mar 2024 05:13:28 -0800 (PST)
Message-ID: <65e1d478.170a0220.e65e.65d6SMTPIN_ADDED_MISSING@mx.google.com>
Received: from [172.21.0.6] (unknown [172.18.0.240])
 by postal.iol.unh.edu (Postfix) with ESMTP id 6675F6052510;
 Fri,  1 Mar 2024 08:13:27 -0500 (EST)
Subject: |SUCCESS| pw137673 [PATCH] crypto/mlx5: add virtual function device 
From: dpdklab@iol.unh.edu
To: Test Report <test-report@dpdk.org>
Cc: dpdk-test-reports@iol.unh.edu
In-Reply-To: <20240301123037.1216332-1-suanmingm@nvidia.com>
References: <20240301123037.1216332-1-suanmingm@nvidia.com>
Content-Type: text/plain
X-BeenThere: test-report@dpdk.org
X-Mailman-Version: 2.1.29
Precedence: list
List-Id: automatic DPDK test reports <test-report.dpdk.org>
List-Unsubscribe: <https://mails.dpdk.org/options/test-report>,
 <mailto:test-report-request@dpdk.org?subject=unsubscribe>
List-Archive: <http://mails.dpdk.org/archives/test-report/>
List-Post: <mailto:test-report@dpdk.org>
List-Help: <mailto:test-report-request@dpdk.org?subject=help>
List-Subscribe: <https://mails.dpdk.org/listinfo/test-report>,
 <mailto:test-report-request@dpdk.org?subject=subscribe>
Errors-To: test-report-bounces@dpdk.org

Test-Label: iol-compile-amd64-testing
Test-Status: SUCCESS
http://dpdk.org/patch/137673

_Testing PASS_

Submitter: Suanming Mou <suanmingm@nvidia.com>
Date: Friday, March 01 2024 12:30:37 
DPDK git baseline: Repo:dpdk
  Branch: master
  CommitID:5ac50824383c2683c0dfdf24c6dc493f1fa54852

137673 --> testing pass

Test environment and result as below:

+---------------------+--------------------+----------------------+
|     Environment     | dpdk_meson_compile | dpdk_mingw64_compile |
+=====================+====================+======================+
| Windows Server 2022 | PASS               | SKIPPED              |
+---------------------+--------------------+----------------------+
| Debian 12 (arm)     | PASS               | SKIPPED              |
+---------------------+--------------------+----------------------+
| Fedora 37           | PASS               | SKIPPED              |
+---------------------+--------------------+----------------------+
| CentOS Stream 9     | PASS               | SKIPPED              |
+---------------------+--------------------+----------------------+
| CentOS Stream 8     | PASS               | SKIPPED              |
+---------------------+--------------------+----------------------+
| FreeBSD 13.2        | PASS               | SKIPPED              |
+---------------------+--------------------+----------------------+
| Windows Server 2019 | PASS               | PASS                 |
+---------------------+--------------------+----------------------+
| Ubuntu 22.04        | PASS               | SKIPPED              |
+---------------------+--------------------+----------------------+
| Debian Bullseye     | PASS               | SKIPPED              |
+---------------------+--------------------+----------------------+
| Fedora 38           | PASS               | SKIPPED              |
+---------------------+--------------------+----------------------+
| RHEL8               | PASS               | SKIPPED              |
+---------------------+--------------------+----------------------+


Windows Server 2022
	Kernel: OS Build 20348.2031
	Compiler: MSVC VS-Preview

Debian 12 (arm)
	Kernel: Container Host Kernel
	Compiler: gcc 11

Fedora 37
	Kernel: Depends on container host system
	Compiler: gcc 12.3.1

CentOS Stream 9
	Kernel: 4.18.0-240.10.1.el8_3.x86_64
	Compiler: gcc 11.3.1 20220421

CentOS Stream 8
	Kernel: 4.18.0-240.10.1.el8_3.x86_64
	Compiler: gcc 8.4.1 20200928

FreeBSD 13.2
	Kernel: 13.2
	Compiler: clang 11.3.0

Windows Server 2019
	Kernel: 10.0
	Compiler: clang 14.0 and gcc 8.1.0 (MinGW)

Ubuntu 22.04
	Kernel: 4.18.0-240.10.1.el8_3.x86_64
	Compiler: gcc 11.3.0

Debian Bullseye
	Kernel: 5.4.0-122-generic
	Compiler: gcc 10.2.1-6

Fedora 38
	Kernel: Depends on container host
	Compiler: gcc 13.1.1

RHEL8
	Kernel: 4.18.0-240.10.1.el8_3.x86_64
	Compiler: gcc 8.3.1 20191121 (Red Hat 8.3.1-5)

To view detailed results, visit:
https://lab.dpdk.org/results/dashboard/patchsets/29370/

UNH-IOL DPDK Community Lab

To manage your email subscriptions, visit: 
https://lab.dpdk.org/results/dashboard/preferences/subscriptions/