From mboxrd@z Thu Jan  1 00:00:00 1970
Return-Path: <test-report-bounces@dpdk.org>
Received: from mails.dpdk.org (mails.dpdk.org [217.70.189.124])
	by inbox.dpdk.org (Postfix) with ESMTP id 81CD743BCF
	for <public@inbox.dpdk.org>; Fri,  1 Mar 2024 14:14:20 +0100 (CET)
Received: from mails.dpdk.org (localhost [127.0.0.1])
	by mails.dpdk.org (Postfix) with ESMTP id 7CB5743368;
	Fri,  1 Mar 2024 14:14:20 +0100 (CET)
Received: from mail-ot1-f100.google.com (mail-ot1-f100.google.com
 [209.85.210.100])
 by mails.dpdk.org (Postfix) with ESMTP id E57194335A
 for <test-report@dpdk.org>; Fri,  1 Mar 2024 14:14:18 +0100 (CET)
Received: by mail-ot1-f100.google.com with SMTP id
 46e09a7af769-6ddf26eba3cso1389268a34.0
 for <test-report@dpdk.org>; Fri, 01 Mar 2024 05:14:18 -0800 (PST)
DKIM-Signature: v=1; a=rsa-sha256; c=relaxed/relaxed;
 d=iol.unh.edu; s=unh-iol; t=1709298858; x=1709903658; darn=dpdk.org;
 h=references:in-reply-to:cc:to:from:subject:message-id:date:from:to
 :cc:subject:date:message-id:reply-to;
 bh=YnzWDfDmah0E4zlfZ5iYBauqPz/Yti/L/mzqvZymGfw=;
 b=GXpwwA+ZQQ6uMV10VfEYfCf5VY/fRH9PUUXQ3sG0OjGW51W327rhpR7zUJWPnXgq/v
 kwDrPnlnOpqrHHSDrCuXtd0aA2wLeYRfGPxcgpwjzivLsbySiLvCRwj+Z/GZduFhDPDG
 g0ZIEN35C886zpkPU2y6f2/SKDxjhuBIYlu2w=
X-Google-DKIM-Signature: v=1; a=rsa-sha256; c=relaxed/relaxed;
 d=1e100.net; s=20230601; t=1709298858; x=1709903658;
 h=references:in-reply-to:cc:to:from:subject:message-id:date
 :x-gm-message-state:from:to:cc:subject:date:message-id:reply-to;
 bh=YnzWDfDmah0E4zlfZ5iYBauqPz/Yti/L/mzqvZymGfw=;
 b=D2jfnKWQ+wTbK8f4oyja56P9+yVc3VqRHW0CXDUIJAKrQ4BbiYU1341cOUx+v+fZXl
 8L1I4INKJY8JLzD46KtNenamFWwCEWdzUNbbHRipoQflM8wIrjB6HesNE+AWifCLJ7sg
 GjYUpKnMvtRnf61mZy7z+FjvKD3jd9XafJGmQGsFTsj5XFJyPLs6g57TOj8T/RBSZjQ7
 wkkS2O5gRYFapLAnrc+4pVpMIhuPmXLly6jVS9JcGU5t7T3U3NVHoIzCgPaTXGljh8M8
 TIEqANZh/EyKQ4s0Hu+dQBW7tZdkGVbinSenSDl1L/BvAOSrQrtwTHVHXKmW48uFhgHD
 2pKQ==
X-Gm-Message-State: AOJu0Yx6wQGo0t0om/8BmGPgrJfQSL1NYR0R6P7Kby5m+oNhvkmmF0kf
 eA6WFMxCujZftmxXyy98/4d6XIQBlrhNBNhlFdua1cejtuoEs7rlOlGRBAnQLKABAQeK/UBrsF5
 19zngwYj/BdvbTra6jKJrnFIVJ9WaCcmmS0F9us/9dpjPJIYkF79WR4dX
X-Google-Smtp-Source: AGHT+IGNDTqUGEZBet/uqTUFg6MjjntPq5PtqV4zlrEwtwhdD3Gy7UfI+EB89EbLh/YKVzm2HGQHdDM4+AUk
X-Received: by 2002:a05:6870:210b:b0:21e:f03b:8836 with SMTP id
 f11-20020a056870210b00b0021ef03b8836mr1630227oae.52.1709298858117; 
 Fri, 01 Mar 2024 05:14:18 -0800 (PST)
Received: from postal.iol.unh.edu (postal.iol.unh.edu.
 [2606:4100:3880:1234::84]) by smtp-relay.gmail.com with ESMTPS id
 lb2-20020a05687c330200b0021e25ae2dd7sm111568oac.33.2024.03.01.05.14.18
 (version=TLS1_2 cipher=ECDHE-ECDSA-AES128-GCM-SHA256 bits=128/128);
 Fri, 01 Mar 2024 05:14:18 -0800 (PST)
X-Relaying-Domain: iol.unh.edu
Date: Fri, 01 Mar 2024 05:14:18 -0800 (PST)
Message-ID: <65e1d4aa.050a0220.b1708.7403SMTPIN_ADDED_MISSING@mx.google.com>
Received: from [172.21.0.6] (unknown [172.18.0.240])
 by postal.iol.unh.edu (Postfix) with ESMTP id 5C5066052510;
 Fri,  1 Mar 2024 08:14:17 -0500 (EST)
Subject: |SUCCESS| pw137673 [PATCH] crypto/mlx5: add virtual function device 
From: dpdklab@iol.unh.edu
To: Test Report <test-report@dpdk.org>
Cc: dpdk-test-reports@iol.unh.edu
In-Reply-To: <20240301123037.1216332-1-suanmingm@nvidia.com>
References: <20240301123037.1216332-1-suanmingm@nvidia.com>
Content-Type: text/plain
X-BeenThere: test-report@dpdk.org
X-Mailman-Version: 2.1.29
Precedence: list
List-Id: automatic DPDK test reports <test-report.dpdk.org>
List-Unsubscribe: <https://mails.dpdk.org/options/test-report>,
 <mailto:test-report-request@dpdk.org?subject=unsubscribe>
List-Archive: <http://mails.dpdk.org/archives/test-report/>
List-Post: <mailto:test-report@dpdk.org>
List-Help: <mailto:test-report-request@dpdk.org?subject=help>
List-Subscribe: <https://mails.dpdk.org/listinfo/test-report>,
 <mailto:test-report-request@dpdk.org?subject=subscribe>
Errors-To: test-report-bounces@dpdk.org

Test-Label: iol-compile-amd64-testing
Test-Status: SUCCESS
http://dpdk.org/patch/137673

_Testing PASS_

Submitter: Suanming Mou <suanmingm@nvidia.com>
Date: Friday, March 01 2024 12:30:37 
DPDK git baseline: Repo:dpdk
  Branch: master
  CommitID:5ac50824383c2683c0dfdf24c6dc493f1fa54852

137673 --> testing pass

Test environment and result as below:

+---------------------+--------------------+----------------------+
|     Environment     | dpdk_meson_compile | dpdk_mingw64_compile |
+=====================+====================+======================+
| Windows Server 2022 | PASS               | SKIPPED              |
+---------------------+--------------------+----------------------+
| Debian 12 (arm)     | PASS               | SKIPPED              |
+---------------------+--------------------+----------------------+
| Fedora 37           | PASS               | SKIPPED              |
+---------------------+--------------------+----------------------+
| CentOS Stream 9     | PASS               | SKIPPED              |
+---------------------+--------------------+----------------------+
| CentOS Stream 8     | PASS               | SKIPPED              |
+---------------------+--------------------+----------------------+
| FreeBSD 13.2        | PASS               | SKIPPED              |
+---------------------+--------------------+----------------------+
| Windows Server 2019 | PASS               | PASS                 |
+---------------------+--------------------+----------------------+
| Ubuntu 22.04        | PASS               | SKIPPED              |
+---------------------+--------------------+----------------------+
| Debian Bullseye     | PASS               | SKIPPED              |
+---------------------+--------------------+----------------------+
| Fedora 38           | PASS               | SKIPPED              |
+---------------------+--------------------+----------------------+
| RHEL8               | PASS               | SKIPPED              |
+---------------------+--------------------+----------------------+


Windows Server 2022
	Kernel: OS Build 20348.2031
	Compiler: MSVC VS-Preview

Debian 12 (arm)
	Kernel: Container Host Kernel
	Compiler: gcc 11

Fedora 37
	Kernel: Depends on container host system
	Compiler: gcc 12.3.1

CentOS Stream 9
	Kernel: 4.18.0-240.10.1.el8_3.x86_64
	Compiler: gcc 11.3.1 20220421

CentOS Stream 8
	Kernel: 4.18.0-240.10.1.el8_3.x86_64
	Compiler: gcc 8.4.1 20200928

FreeBSD 13.2
	Kernel: 13.2
	Compiler: clang 11.3.0

Windows Server 2019
	Kernel: 10.0
	Compiler: clang 14.0 and gcc 8.1.0 (MinGW)

Ubuntu 22.04
	Kernel: 4.18.0-240.10.1.el8_3.x86_64
	Compiler: gcc 11.3.0

Debian Bullseye
	Kernel: 5.4.0-122-generic
	Compiler: gcc 10.2.1-6

Fedora 38
	Kernel: Depends on container host
	Compiler: gcc 13.1.1

RHEL8
	Kernel: 4.18.0-240.10.1.el8_3.x86_64
	Compiler: gcc 8.3.1 20191121 (Red Hat 8.3.1-5)

To view detailed results, visit:
https://lab.dpdk.org/results/dashboard/patchsets/29370/

UNH-IOL DPDK Community Lab

To manage your email subscriptions, visit: 
https://lab.dpdk.org/results/dashboard/preferences/subscriptions/