From mboxrd@z Thu Jan  1 00:00:00 1970
Return-Path: <test-report-bounces@dpdk.org>
Received: from mails.dpdk.org (mails.dpdk.org [217.70.189.124])
	by inbox.dpdk.org (Postfix) with ESMTP id 4A1AA43BCF
	for <public@inbox.dpdk.org>; Fri,  1 Mar 2024 14:34:03 +0100 (CET)
Received: from mails.dpdk.org (localhost [127.0.0.1])
	by mails.dpdk.org (Postfix) with ESMTP id 3DBCB43368;
	Fri,  1 Mar 2024 14:34:03 +0100 (CET)
Received: from mail-yw1-f225.google.com (mail-yw1-f225.google.com
 [209.85.128.225])
 by mails.dpdk.org (Postfix) with ESMTP id B5EA24026C
 for <test-report@dpdk.org>; Fri,  1 Mar 2024 14:34:01 +0100 (CET)
Received: by mail-yw1-f225.google.com with SMTP id
 00721157ae682-6098a20ab22so2254587b3.2
 for <test-report@dpdk.org>; Fri, 01 Mar 2024 05:34:01 -0800 (PST)
DKIM-Signature: v=1; a=rsa-sha256; c=relaxed/relaxed;
 d=iol.unh.edu; s=unh-iol; t=1709300041; x=1709904841; darn=dpdk.org;
 h=references:in-reply-to:cc:to:from:subject:message-id:date:from:to
 :cc:subject:date:message-id:reply-to;
 bh=ADTeOaVbJrH+K1Mq0j6k1u/Lt+unPffT5FWfiZqApmg=;
 b=CHtI1eWq5/8SVL/yzwVUDzAhqD+KFaquhFufrFtUMd3eWGG3iwgwo+tI1Zi3Hen3RN
 H4kIATICzX/QgZkV6qWxTtGnGRb+7bYPhetfBZbjoLPk17SBOUgTpk66HK8yjFakaAjr
 e6HtzuOABydeazYiJqHia6eYmjGLQ+69t48BQ=
X-Google-DKIM-Signature: v=1; a=rsa-sha256; c=relaxed/relaxed;
 d=1e100.net; s=20230601; t=1709300041; x=1709904841;
 h=references:in-reply-to:cc:to:from:subject:message-id:date
 :x-gm-message-state:from:to:cc:subject:date:message-id:reply-to;
 bh=ADTeOaVbJrH+K1Mq0j6k1u/Lt+unPffT5FWfiZqApmg=;
 b=gFN1L0iTf4qWWs+f5loNp8CJh1AZ7MHK6ngw1jAg7p5ZLjm/XFynNDsY9CVv0FbJp6
 kD/dpr1Oj5+JEeD1POreiyUnOfnQN9R88IFiTyYF+C0oSdzs4wS7hbIzmk74oq4owx0h
 RucYQ+d5KJ84+/bngxRYnjqOWJd6MNkYmKlEdU6XTpRvBGaG+LKDGPmXZRHj9shVuJhS
 6RlZXeK4pc/U5hM2uFx6/iW51MVODME1nvelJqcb8q4jDD/eioN2LklvFpdETjTaNXM3
 k+njoop9Ze1lQGqok9R78xYnrqKKUys7S+33imSKFTVBaqeL42LT1hrqQmu/7F9LUjcW
 sNGQ==
X-Gm-Message-State: AOJu0YxCnzE7dS4s28FCnjD71WoAKUfCJ53bRJEjS7E4IHH9Oav7vyOX
 Fim+Wo9Asec7zY7KrZGnGTs5NCxhTDQyhO4yRfvxiHa/qWJ+3Y++pYdsPpyDtRG8DaroZH+RCoL
 CKC1kEbF9WME/W3cyTzmil6qyvzcUuxmPgf24owO/CadK7lOvqkb1jVZp
X-Google-Smtp-Source: AGHT+IFw9F4UCErHwNcgiySiQODEmI+FtA1F5xjRB5WrrJbTiD+lgUP61Sz/3DBUTZTNg1ViDKMvDFyTim+d
X-Received: by 2002:a81:7188:0:b0:608:bbc2:c2c8 with SMTP id
 m130-20020a817188000000b00608bbc2c2c8mr1552514ywc.35.1709300041185; 
 Fri, 01 Mar 2024 05:34:01 -0800 (PST)
Received: from postal.iol.unh.edu (postal.iol.unh.edu.
 [2606:4100:3880:1234::84]) by smtp-relay.gmail.com with ESMTPS id
 17-20020a056122169100b004c02ccd7d74sm164747vkl.8.2024.03.01.05.34.01
 (version=TLS1_2 cipher=ECDHE-ECDSA-AES128-GCM-SHA256 bits=128/128);
 Fri, 01 Mar 2024 05:34:01 -0800 (PST)
X-Relaying-Domain: iol.unh.edu
Date: Fri, 01 Mar 2024 05:34:01 -0800 (PST)
Message-ID: <65e1d949.050a0220.c4551.9fcbSMTPIN_ADDED_MISSING@mx.google.com>
Received: from [172.21.0.8] (unknown [172.18.0.240])
 by postal.iol.unh.edu (Postfix) with ESMTP id A69366052712;
 Fri,  1 Mar 2024 08:34:00 -0500 (EST)
Subject: |SUCCESS| pw137673 [PATCH] crypto/mlx5: add virtual function device 
From: dpdklab@iol.unh.edu
To: Test Report <test-report@dpdk.org>
Cc: dpdk-test-reports@iol.unh.edu
In-Reply-To: <20240301123037.1216332-1-suanmingm@nvidia.com>
References: <20240301123037.1216332-1-suanmingm@nvidia.com>
Content-Type: text/plain
X-BeenThere: test-report@dpdk.org
X-Mailman-Version: 2.1.29
Precedence: list
List-Id: automatic DPDK test reports <test-report.dpdk.org>
List-Unsubscribe: <https://mails.dpdk.org/options/test-report>,
 <mailto:test-report-request@dpdk.org?subject=unsubscribe>
List-Archive: <http://mails.dpdk.org/archives/test-report/>
List-Post: <mailto:test-report@dpdk.org>
List-Help: <mailto:test-report-request@dpdk.org?subject=help>
List-Subscribe: <https://mails.dpdk.org/listinfo/test-report>,
 <mailto:test-report-request@dpdk.org?subject=subscribe>
Errors-To: test-report-bounces@dpdk.org

Test-Label: iol-unit-amd64-testing
Test-Status: SUCCESS
http://dpdk.org/patch/137673

_Testing PASS_

Submitter: Suanming Mou <suanmingm@nvidia.com>
Date: Friday, March 01 2024 12:30:37 
DPDK git baseline: Repo:dpdk
  Branch: master
  CommitID:5ac50824383c2683c0dfdf24c6dc493f1fa54852

137673 --> testing pass

Test environment and result as below:

+---------------------+----------------+
|     Environment     | dpdk_unit_test |
+=====================+================+
| CentOS Stream 9     | PASS           |
+---------------------+----------------+
| CentOS Stream 8     | PASS           |
+---------------------+----------------+
| Windows Server 2019 | PASS           |
+---------------------+----------------+
| Debian Bullseye     | PASS           |
+---------------------+----------------+
| Debian 12 (arm)     | PASS           |
+---------------------+----------------+
| Fedora 37           | PASS           |
+---------------------+----------------+
| openSUSE Leap 15    | PASS           |
+---------------------+----------------+
| Fedora 38           | PASS           |
+---------------------+----------------+
| Ubuntu 20.04        | PASS           |
+---------------------+----------------+


CentOS Stream 9
	Kernel: 4.18.0-240.10.1.el8_3.x86_64
	Compiler: gcc 11.3.1 20220421

CentOS Stream 8
	Kernel: 4.18.0-240.10.1.el8_3.x86_64
	Compiler: gcc 8.4.1 20200928

Windows Server 2019
	Kernel: 10.0
	Compiler: clang 14.0 and gcc 8.1.0 (MinGW)

Debian Bullseye
	Kernel: 5.4.0-122-generic
	Compiler: gcc 10.2.1-6

Debian 12 (arm)
	Kernel: Container Host Kernel
	Compiler: gcc 11

Fedora 37
	Kernel: Depends on container host system
	Compiler: gcc 12.3.1

openSUSE Leap 15
	Kernel: 4.18.0-240.10.1.el8_3.x86_64
	Compiler: gcc 7.5.0

Fedora 38
	Kernel: Depends on container host
	Compiler: gcc 13.1.1

Ubuntu 20.04
	Kernel: 5.4.0-153-generic
	Compiler: gcc 9.4.0-1ubuntu1~20.04.1

To view detailed results, visit:
https://lab.dpdk.org/results/dashboard/patchsets/29370/

UNH-IOL DPDK Community Lab

To manage your email subscriptions, visit: 
https://lab.dpdk.org/results/dashboard/preferences/subscriptions/