From mboxrd@z Thu Jan  1 00:00:00 1970
Return-Path: <test-report-bounces@dpdk.org>
Received: from mails.dpdk.org (mails.dpdk.org [217.70.189.124])
	by inbox.dpdk.org (Postfix) with ESMTP id 4E46043BCF
	for <public@inbox.dpdk.org>; Fri,  1 Mar 2024 14:35:30 +0100 (CET)
Received: from mails.dpdk.org (localhost [127.0.0.1])
	by mails.dpdk.org (Postfix) with ESMTP id 49E4143368;
	Fri,  1 Mar 2024 14:35:30 +0100 (CET)
Received: from mail-pl1-f227.google.com (mail-pl1-f227.google.com
 [209.85.214.227])
 by mails.dpdk.org (Postfix) with ESMTP id 2BEBE4026C
 for <test-report@dpdk.org>; Fri,  1 Mar 2024 14:35:28 +0100 (CET)
Received: by mail-pl1-f227.google.com with SMTP id
 d9443c01a7336-1d93edfa76dso19508075ad.1
 for <test-report@dpdk.org>; Fri, 01 Mar 2024 05:35:28 -0800 (PST)
DKIM-Signature: v=1; a=rsa-sha256; c=relaxed/relaxed;
 d=iol.unh.edu; s=unh-iol; t=1709300127; x=1709904927; darn=dpdk.org;
 h=references:in-reply-to:cc:to:from:subject:message-id:date:from:to
 :cc:subject:date:message-id:reply-to;
 bh=SFm/geteDZSWPW24/Rzyjxg8DJR/9yIDFC22O9eGbfY=;
 b=hm1g+5bRACSLyzJMQ8ZY5awh555U3Lxxy+9HDqXe1fcYPaoxtVHa/RDzGuOSAPXZri
 2XAS/eqF5dIuUtF58s1f7G6H8g7adt9OGdwc4vOMwkNEkU47yduJMixFIIrJEmHMG7Nd
 CVOVfK06L0tPgRTxP3OHnABuK7Ga1ePQtO0kA=
X-Google-DKIM-Signature: v=1; a=rsa-sha256; c=relaxed/relaxed;
 d=1e100.net; s=20230601; t=1709300127; x=1709904927;
 h=references:in-reply-to:cc:to:from:subject:message-id:date
 :x-gm-message-state:from:to:cc:subject:date:message-id:reply-to;
 bh=SFm/geteDZSWPW24/Rzyjxg8DJR/9yIDFC22O9eGbfY=;
 b=uSHtRoA0u/XDYEvXWpfWgWTSWdloai8H2B9aBcl3pKkx/11YCdi3XBb9y3W2jSQ8Ee
 jSuw8Q14R2GN1nLc9hjIAzRZ4b/ZL4lRhzFMXiHSSxQ+bG3NjF1XjKN0l9JzXwEbbnpt
 uqdHZ8BRo79DbFDRfUHtV2vTHYzU7L5h3g9+dvsRy7DzPJ7l3x0AHm2ZR7NEH70zlTJx
 iauaBUgfRz5gafUnLEkSR/oNHfI8eFeGTLVKcuIB5LRJN76Nr8Ro5bpnq04b6eFRTyO+
 Ui9wmAI3UZ0/fvK571yVjcF53k6nthTyaeAiMDHhSwAeD0LoyzugxH4AFv8t952/3TSe
 yq3Q==
X-Gm-Message-State: AOJu0YxWaP4/XoQu/aqxL0kT6nAWfCgZQ05VedtDLrsLPaQHygCsjryV
 mXOpzNGJkj8a4uI7KLk3C/XdImhylHNa3Ze5jmVvOTiBWXxakdilSytWxZXgMkE/rcVylh74IRj
 nLkt9w7sk1JQKlSPZDYkQLvm4farJ0gTqO0V4xjWW
X-Google-Smtp-Source: AGHT+IEUOpZdRWlnBOGm72l1yjaQIau2/toDWtTYqNcm5RaQpTYUr07CM2SkguV//dM+Tv0wWpaW8P+zUvdu
X-Received: by 2002:a17:903:18f:b0:1dc:a605:5444 with SMTP id
 z15-20020a170903018f00b001dca6055444mr1977508plg.21.1709300127392; 
 Fri, 01 Mar 2024 05:35:27 -0800 (PST)
Received: from postal.iol.unh.edu (postal.iol.unh.edu. [132.177.123.84])
 by smtp-relay.gmail.com with ESMTPS id
 i18-20020a170902eb5200b001dc411e38a8sm93030pli.38.2024.03.01.05.35.27
 (version=TLS1_2 cipher=ECDHE-ECDSA-AES128-GCM-SHA256 bits=128/128);
 Fri, 01 Mar 2024 05:35:27 -0800 (PST)
X-Relaying-Domain: iol.unh.edu
Date: Fri, 01 Mar 2024 05:35:27 -0800 (PST)
Message-ID: <65e1d99f.170a0220.57f6a.6242SMTPIN_ADDED_MISSING@mx.google.com>
Received: from [172.21.0.6] (unknown [172.18.0.240])
 by postal.iol.unh.edu (Postfix) with ESMTP id 9323B6052712;
 Fri,  1 Mar 2024 08:35:26 -0500 (EST)
Subject: |SUCCESS| pw137673 [PATCH] crypto/mlx5: add virtual function device 
From: dpdklab@iol.unh.edu
To: Test Report <test-report@dpdk.org>
Cc: dpdk-test-reports@iol.unh.edu
In-Reply-To: <20240301123037.1216332-1-suanmingm@nvidia.com>
References: <20240301123037.1216332-1-suanmingm@nvidia.com>
Content-Type: text/plain
X-BeenThere: test-report@dpdk.org
X-Mailman-Version: 2.1.29
Precedence: list
List-Id: automatic DPDK test reports <test-report.dpdk.org>
List-Unsubscribe: <https://mails.dpdk.org/options/test-report>,
 <mailto:test-report-request@dpdk.org?subject=unsubscribe>
List-Archive: <http://mails.dpdk.org/archives/test-report/>
List-Post: <mailto:test-report@dpdk.org>
List-Help: <mailto:test-report-request@dpdk.org?subject=help>
List-Subscribe: <https://mails.dpdk.org/listinfo/test-report>,
 <mailto:test-report-request@dpdk.org?subject=subscribe>
Errors-To: test-report-bounces@dpdk.org

Test-Label: iol-compile-arm64-testing
Test-Status: SUCCESS
http://dpdk.org/patch/137673

_Testing PASS_

Submitter: Suanming Mou <suanmingm@nvidia.com>
Date: Friday, March 01 2024 12:30:37 
DPDK git baseline: Repo:dpdk
  Branch: master
  CommitID:5ac50824383c2683c0dfdf24c6dc493f1fa54852

137673 --> testing pass

Test environment and result as below:

+----------------------------------------+--------------------+
|              Environment               | dpdk_meson_compile |
+========================================+====================+
| Ubuntu 20.04 ARM SVE                   | PASS               |
+----------------------------------------+--------------------+
| Fedora 38 (ARM)                        | PASS               |
+----------------------------------------+--------------------+
| CentOS Stream 9 (ARM)                  | PASS               |
+----------------------------------------+--------------------+
| Fedora 37 (ARM)                        | PASS               |
+----------------------------------------+--------------------+
| Ubuntu 20.04 ARM GCC Cross Compile     | PASS               |
+----------------------------------------+--------------------+
| Ubuntu 20.04 aarch32 GCC Cross Compile | PASS               |
+----------------------------------------+--------------------+
| Ubuntu 20.04 (ARM)                     | PASS               |
+----------------------------------------+--------------------+
| Ubuntu 20.04 ARM Clang Cross Compile   | PASS               |
+----------------------------------------+--------------------+
| Debian 12 (arm)                        | PASS               |
+----------------------------------------+--------------------+
| Debian 11 (Buster) (ARM)               | PASS               |
+----------------------------------------+--------------------+


Ubuntu 20.04 ARM SVE
	Kernel: 5.4.0-80-generic
	Compiler: gcc 10.3.0 (Ubuntu 10.3.0-1ubuntu1~20.04)

Fedora 38 (ARM)
	Kernel: Depends on container host
	Compiler: gcc 13.1.1

CentOS Stream 9 (ARM)
	Kernel: Container Host Kernel
	Compiler: gcc 11.3.1

Fedora 37 (ARM)
	Kernel: Depends on container host
	Compiler: gcc 12.3.1

Ubuntu 20.04 ARM GCC Cross Compile
	Kernel: 5.4.0-72-generic
	Compiler: aarch64-linux-gnu-gcc (Ubuntu 9.3.0-17ubuntu1~20.04) 9.3.0

Ubuntu 20.04 aarch32 GCC Cross Compile
	Kernel: 5.4.0-72-generic
	Compiler: gcc 9.3.0

Ubuntu 20.04 (ARM)
	Kernel: Container Host Kernel
	Compiler: gcc 9.4.0

Ubuntu 20.04 ARM Clang Cross Compile
	Kernel: 5.4.0-72-generic
	Compiler: clang version 10.0.0-4ubuntu1

Debian 12 (arm)
	Kernel: Container Host Kernel
	Compiler: gcc 11

Debian 11 (Buster) (ARM)
	Kernel: Container Host Kernel
	Compiler: gcc 10.2.1

To view detailed results, visit:
https://lab.dpdk.org/results/dashboard/patchsets/29370/

UNH-IOL DPDK Community Lab

To manage your email subscriptions, visit: 
https://lab.dpdk.org/results/dashboard/preferences/subscriptions/