From mboxrd@z Thu Jan  1 00:00:00 1970
Return-Path: <test-report-bounces@dpdk.org>
Received: from mails.dpdk.org (mails.dpdk.org [217.70.189.124])
	by inbox.dpdk.org (Postfix) with ESMTP id 1D0CD43BCF
	for <public@inbox.dpdk.org>; Fri,  1 Mar 2024 14:40:44 +0100 (CET)
Received: from mails.dpdk.org (localhost [127.0.0.1])
	by mails.dpdk.org (Postfix) with ESMTP id 18E23434A0;
	Fri,  1 Mar 2024 14:40:44 +0100 (CET)
Received: from mail-yw1-f226.google.com (mail-yw1-f226.google.com
 [209.85.128.226])
 by mails.dpdk.org (Postfix) with ESMTP id 9E08F4349B
 for <test-report@dpdk.org>; Fri,  1 Mar 2024 14:40:42 +0100 (CET)
Received: by mail-yw1-f226.google.com with SMTP id
 00721157ae682-608ccac1899so23090247b3.1
 for <test-report@dpdk.org>; Fri, 01 Mar 2024 05:40:42 -0800 (PST)
DKIM-Signature: v=1; a=rsa-sha256; c=relaxed/relaxed;
 d=iol.unh.edu; s=unh-iol; t=1709300442; x=1709905242; darn=dpdk.org;
 h=references:in-reply-to:cc:to:from:subject:message-id:date:from:to
 :cc:subject:date:message-id:reply-to;
 bh=gWqxwcgoaBOV4oR30HugcT8gnhV8wze3IFheEayL+rs=;
 b=eBcndAtIqGv0sMnl4c1/jX4eLJRjt/xnQTRt8Peq6Y0gzuLwsSUgmMgfyZKlCCe/CU
 3CG4rA8nSfx0mlNCWlazLudhzwIWhj+jCC9X+2PeLtFBuUtznkkcTvPCd9kK1uyyxniW
 cXA+etBDBsfat+huw1ypqB02HcHJ8a+/fE9yY=
X-Google-DKIM-Signature: v=1; a=rsa-sha256; c=relaxed/relaxed;
 d=1e100.net; s=20230601; t=1709300442; x=1709905242;
 h=references:in-reply-to:cc:to:from:subject:message-id:date
 :x-gm-message-state:from:to:cc:subject:date:message-id:reply-to;
 bh=gWqxwcgoaBOV4oR30HugcT8gnhV8wze3IFheEayL+rs=;
 b=pGIfdpSwrkklgXYI9METs+LtFSHpmOFbQMRN7PbnV74CVludr3P1Gqk6DguYThbKMX
 2b4v8hhne3rzZEZS8D6cKTT/8Q0UHICADNkbDlt6+oUgebWvgxGVRxHlA1NOChk09Tf5
 Dzbj43aX1KHyreyoERnIiJML6W8A0lG3XVbJZYPLu5PxF0CazSOz9daFsMUhANxdzZPu
 rrtmGbJuoJzy5NTo38NAMghEakHAAwpKng9esin4C/xFsliTBvQS0JkVaj/mNAK1HxVH
 Fy6/THyUjgNQr39N9bzZZqOG4E0oTa3ZHwyzfsszFmSZX9XM7Lp8Gs38Ibkdvlkpjl4F
 GGkw==
X-Gm-Message-State: AOJu0Yzc2V9pW1jdxsf0WSCFLJMW7erAEeg+ZIT7YOE7nz2A0EekUUqY
 qJdYudVRDZnC7iH+5TfDvFTD5T0exnQZr6yLG8Iv0H8nnBo0IYRZJKukSD5r1afh6XdG+MrRzwF
 5TMHlY7WuXXX87OheFkRLfTsdO9RCY2eAwLmMWkZP
X-Google-Smtp-Source: AGHT+IEy7tMW2QRlFDPx67iUz8I1XaFd0RGrMmOXJa5BGt5A8V4d61pWJGIzVRpY+GhvTsOVkWVvsWy+5jjw
X-Received: by 2002:a0d:dd47:0:b0:609:415d:2f7e with SMTP id
 g68-20020a0ddd47000000b00609415d2f7emr1650882ywe.27.1709300441992; 
 Fri, 01 Mar 2024 05:40:41 -0800 (PST)
Received: from postal.iol.unh.edu (postal.iol.unh.edu. [132.177.123.84])
 by smtp-relay.gmail.com with ESMTPS id
 x63-20020a0dd542000000b006093b5c3b13sm186855ywd.19.2024.03.01.05.40.41
 (version=TLS1_2 cipher=ECDHE-ECDSA-AES128-GCM-SHA256 bits=128/128);
 Fri, 01 Mar 2024 05:40:41 -0800 (PST)
X-Relaying-Domain: iol.unh.edu
Date: Fri, 01 Mar 2024 05:40:41 -0800 (PST)
Message-ID: <65e1dad9.0d0a0220.2be3e.d071SMTPIN_ADDED_MISSING@mx.google.com>
Received: from [172.21.0.6] (unknown [172.18.0.240])
 by postal.iol.unh.edu (Postfix) with ESMTP id A27906052712;
 Fri,  1 Mar 2024 08:40:41 -0500 (EST)
Subject: |SUCCESS| pw137673 [PATCH] crypto/mlx5: add virtual function device 
From: dpdklab@iol.unh.edu
To: Test Report <test-report@dpdk.org>
Cc: dpdk-test-reports@iol.unh.edu
In-Reply-To: <20240301123037.1216332-1-suanmingm@nvidia.com>
References: <20240301123037.1216332-1-suanmingm@nvidia.com>
Content-Type: text/plain
X-BeenThere: test-report@dpdk.org
X-Mailman-Version: 2.1.29
Precedence: list
List-Id: automatic DPDK test reports <test-report.dpdk.org>
List-Unsubscribe: <https://mails.dpdk.org/options/test-report>,
 <mailto:test-report-request@dpdk.org?subject=unsubscribe>
List-Archive: <http://mails.dpdk.org/archives/test-report/>
List-Post: <mailto:test-report@dpdk.org>
List-Help: <mailto:test-report-request@dpdk.org?subject=help>
List-Subscribe: <https://mails.dpdk.org/listinfo/test-report>,
 <mailto:test-report-request@dpdk.org?subject=subscribe>
Errors-To: test-report-bounces@dpdk.org

Test-Label: iol-abi-testing
Test-Status: SUCCESS
http://dpdk.org/patch/137673

_Testing PASS_

Submitter: Suanming Mou <suanmingm@nvidia.com>
Date: Friday, March 01 2024 12:30:37 
DPDK git baseline: Repo:dpdk
  Branch: master
  CommitID:5ac50824383c2683c0dfdf24c6dc493f1fa54852

137673 --> testing pass

Test environment and result as below:

+------------------+----------+
|   Environment    | abi_test |
+==================+==========+
| Fedora 37        | PASS     |
+------------------+----------+
| Fedora 38        | PASS     |
+------------------+----------+
| openSUSE Leap 15 | PASS     |
+------------------+----------+
| Debian Bullseye  | PASS     |
+------------------+----------+
| RHEL8            | PASS     |
+------------------+----------+
| CentOS Stream 8  | PASS     |
+------------------+----------+
| Debian 12 (arm)  | PASS     |
+------------------+----------+
| Ubuntu 22.04     | PASS     |
+------------------+----------+
| CentOS Stream 9  | PASS     |
+------------------+----------+


Fedora 37
	Kernel: Depends on container host system
	Compiler: gcc 12.3.1

Fedora 38
	Kernel: Depends on container host
	Compiler: gcc 13.1.1

openSUSE Leap 15
	Kernel: 4.18.0-240.10.1.el8_3.x86_64
	Compiler: gcc 7.5.0

Debian Bullseye
	Kernel: 5.4.0-122-generic
	Compiler: gcc 10.2.1-6

RHEL8
	Kernel: 4.18.0-240.10.1.el8_3.x86_64
	Compiler: gcc 8.3.1 20191121 (Red Hat 8.3.1-5)

CentOS Stream 8
	Kernel: 4.18.0-240.10.1.el8_3.x86_64
	Compiler: gcc 8.4.1 20200928

Debian 12 (arm)
	Kernel: Container Host Kernel
	Compiler: gcc 11

Ubuntu 22.04
	Kernel: 4.18.0-240.10.1.el8_3.x86_64
	Compiler: gcc 11.3.0

CentOS Stream 9
	Kernel: 4.18.0-240.10.1.el8_3.x86_64
	Compiler: gcc 11.3.1 20220421

To view detailed results, visit:
https://lab.dpdk.org/results/dashboard/patchsets/29370/

UNH-IOL DPDK Community Lab

To manage your email subscriptions, visit: 
https://lab.dpdk.org/results/dashboard/preferences/subscriptions/