From mboxrd@z Thu Jan  1 00:00:00 1970
Return-Path: <test-report-bounces@dpdk.org>
Received: from mails.dpdk.org (mails.dpdk.org [217.70.189.124])
	by inbox.dpdk.org (Postfix) with ESMTP id BC82943BD7
	for <public@inbox.dpdk.org>; Fri,  1 Mar 2024 15:29:03 +0100 (CET)
Received: from mails.dpdk.org (localhost [127.0.0.1])
	by mails.dpdk.org (Postfix) with ESMTP id B808C433F2;
	Fri,  1 Mar 2024 15:29:03 +0100 (CET)
Received: from mail-oi1-f227.google.com (mail-oi1-f227.google.com
 [209.85.167.227])
 by mails.dpdk.org (Postfix) with ESMTP id C9F6F43368
 for <test-report@dpdk.org>; Fri,  1 Mar 2024 15:29:02 +0100 (CET)
Received: by mail-oi1-f227.google.com with SMTP id
 5614622812f47-3c1a1e1e539so2067763b6e.1
 for <test-report@dpdk.org>; Fri, 01 Mar 2024 06:29:02 -0800 (PST)
DKIM-Signature: v=1; a=rsa-sha256; c=relaxed/relaxed;
 d=iol.unh.edu; s=unh-iol; t=1709303342; x=1709908142; darn=dpdk.org;
 h=references:in-reply-to:cc:to:from:subject:message-id:date:from:to
 :cc:subject:date:message-id:reply-to;
 bh=9I6QnqkoA+FoXPttXN58aPQxZ72Rw7fVL/EhQZL1sxo=;
 b=NAk/jRg6Jbr0aiyBIXevC44gNnQq9JtBf6jbjbFOb/28Du3Szxd+UlOKmjWy3Zbb69
 PxyjXrtW0KcALpXZxEIgyOBgOkx882N+RqJbTe1viPiBS6mV0Etojz0n21RN15VXZb5s
 Pl5nPOs9XA4TZAJk449j4kFZKbroUI1SzROhA=
X-Google-DKIM-Signature: v=1; a=rsa-sha256; c=relaxed/relaxed;
 d=1e100.net; s=20230601; t=1709303342; x=1709908142;
 h=references:in-reply-to:cc:to:from:subject:message-id:date
 :x-gm-message-state:from:to:cc:subject:date:message-id:reply-to;
 bh=9I6QnqkoA+FoXPttXN58aPQxZ72Rw7fVL/EhQZL1sxo=;
 b=ohjFYY076Z//1PXl/eHJbTkAjLjbAaQ4Z35y7DnRu9xIQLNENIBobD5YhpqxTBCsUh
 g7+yB6AtM+BdlNNjozppph0+wMmEwo+xH8x6x8oTZgP/t2QDEKjUggV8+J3tdFZJLSP/
 1obXOVvteNUAGPCkyPW94BA9p7HSBJRDiIbAw2VWsUw8uNT75uBIUIKi2HPhE7gQSjb4
 h7321aT7VGLHO20JqY6RP2q4BOixx56uFSYLvUtwAUVRJAsEcHwJ104UvKyyq3FQGh3q
 p5UuVfUELI0cGCLiu8pvWG5niqdrGsP2kN3250APW3hLDLZtvNDVniPiF2WzOMnSllNV
 fSSQ==
X-Gm-Message-State: AOJu0YyJKaAdB2RNri18zlplKty5dZiIaqauXxWDqCKNqE/Ca2WSyYFF
 YQk4e+GgUrxT2dfdQJU7MkniBa6/Sa8hEMwcTa/+iuTkY40EM12hTebhQd+mxvuYWC9+jcTZZ2p
 /ljyJC2QnpBlc8aMZLERtw5jjagFiIcu7x+IK8UFeI45ERW9kBpE5FWOQ
X-Google-Smtp-Source: AGHT+IEkE2rcnqzRF4nIo8RlDDUjKgiQweXfp0H6KoklMC/PfDA3E+280y5uWrdNJJDQaHJDzGDXqiIRjHVo
X-Received: by 2002:a05:6808:1481:b0:3c1:5f09:b16f with SMTP id
 e1-20020a056808148100b003c15f09b16fmr2173482oiw.26.1709303342184; 
 Fri, 01 Mar 2024 06:29:02 -0800 (PST)
Received: from postal.iol.unh.edu (postal.iol.unh.edu.
 [2606:4100:3880:1234::84]) by smtp-relay.gmail.com with ESMTPS id
 p5-20020a170902eac500b001db5d12792esm99080pld.112.2024.03.01.06.29.02
 (version=TLS1_2 cipher=ECDHE-ECDSA-AES128-GCM-SHA256 bits=128/128);
 Fri, 01 Mar 2024 06:29:02 -0800 (PST)
X-Relaying-Domain: iol.unh.edu
Date: Fri, 01 Mar 2024 06:29:02 -0800 (PST)
Message-ID: <65e1e62e.170a0220.3dd1c.660aSMTPIN_ADDED_MISSING@mx.google.com>
Received: from [172.21.0.7] (unknown [172.18.0.240])
 by postal.iol.unh.edu (Postfix) with ESMTP id 981BC6052712;
 Fri,  1 Mar 2024 09:29:01 -0500 (EST)
Subject: |SUCCESS| pw137666-137672 [PATCH] [v4,7/7] dts: improve test suite a
From: dpdklab@iol.unh.edu
To: Test Report <test-report@dpdk.org>
Cc: dpdk-test-reports@iol.unh.edu
In-Reply-To: <20240301105522.79870-8-juraj.linkes@pantheon.tech>
References: <20240301105522.79870-8-juraj.linkes@pantheon.tech>
Content-Type: text/plain
X-BeenThere: test-report@dpdk.org
X-Mailman-Version: 2.1.29
Precedence: list
List-Id: automatic DPDK test reports <test-report.dpdk.org>
List-Unsubscribe: <https://mails.dpdk.org/options/test-report>,
 <mailto:test-report-request@dpdk.org?subject=unsubscribe>
List-Archive: <http://mails.dpdk.org/archives/test-report/>
List-Post: <mailto:test-report@dpdk.org>
List-Help: <mailto:test-report-request@dpdk.org?subject=help>
List-Subscribe: <https://mails.dpdk.org/listinfo/test-report>,
 <mailto:test-report-request@dpdk.org?subject=subscribe>
Errors-To: test-report-bounces@dpdk.org

Test-Label: iol-unit-arm64-testing
Test-Status: SUCCESS
http://dpdk.org/patch/137672

_Testing PASS_

Submitter: Juraj Linkes <juraj.linkes@pantheon.tech>
Date: Friday, March 01 2024 10:55:22 
DPDK git baseline: Repo:dpdk
  Branch: master
  CommitID:5df34de5808a7b826b8bc035d6ee3161a12be364

137666-137672 --> testing pass

Test environment and result as below:

+--------------------------+----------------+------------------------------+---------------------------+
|       Environment        | dpdk_unit_test | cryptodev_sw_snow3g_autotest | cryptodev_sw_zuc_autotest |
+==========================+================+==============================+===========================+
| Debian 11 (Buster) (ARM) | PASS           | SKIPPED                      | SKIPPED                   |
+--------------------------+----------------+------------------------------+---------------------------+
| CentOS Stream 9 (ARM)    | PASS           | SKIPPED                      | SKIPPED                   |
+--------------------------+----------------+------------------------------+---------------------------+
| Debian 12 (arm)          | PASS           | PASS                         | PASS                      |
+--------------------------+----------------+------------------------------+---------------------------+
| Fedora 37 (ARM)          | PASS           | SKIPPED                      | SKIPPED                   |
+--------------------------+----------------+------------------------------+---------------------------+
| Fedora 38 (ARM)          | PASS           | SKIPPED                      | SKIPPED                   |
+--------------------------+----------------+------------------------------+---------------------------+
| Ubuntu 20.04 (ARM)       | PASS           | SKIPPED                      | SKIPPED                   |
+--------------------------+----------------+------------------------------+---------------------------+


Debian 11 (Buster) (ARM)
	Kernel: Container Host Kernel
	Compiler: gcc 10.2.1

CentOS Stream 9 (ARM)
	Kernel: Container Host Kernel
	Compiler: gcc 11.3.1

Debian 12 (arm)
	Kernel: Container Host Kernel
	Compiler: gcc 11

Fedora 37 (ARM)
	Kernel: Depends on container host
	Compiler: gcc 12.3.1

Fedora 38 (ARM)
	Kernel: Depends on container host
	Compiler: gcc 13.1.1

Ubuntu 20.04 (ARM)
	Kernel: Container Host Kernel
	Compiler: gcc 9.4.0

To view detailed results, visit:
https://lab.dpdk.org/results/dashboard/patchsets/29369/

UNH-IOL DPDK Community Lab

To manage your email subscriptions, visit: 
https://lab.dpdk.org/results/dashboard/preferences/subscriptions/