From mboxrd@z Thu Jan  1 00:00:00 1970
Return-Path: <test-report-bounces@dpdk.org>
Received: from mails.dpdk.org (mails.dpdk.org [217.70.189.124])
	by inbox.dpdk.org (Postfix) with ESMTP id C9AD343BD7
	for <public@inbox.dpdk.org>; Fri,  1 Mar 2024 15:49:18 +0100 (CET)
Received: from mails.dpdk.org (localhost [127.0.0.1])
	by mails.dpdk.org (Postfix) with ESMTP id C625F434B0;
	Fri,  1 Mar 2024 15:49:18 +0100 (CET)
Received: from mail-oa1-f100.google.com (mail-oa1-f100.google.com
 [209.85.160.100])
 by mails.dpdk.org (Postfix) with ESMTP id B9C36433F2
 for <test-report@dpdk.org>; Fri,  1 Mar 2024 15:49:17 +0100 (CET)
Received: by mail-oa1-f100.google.com with SMTP id
 586e51a60fabf-204235d0913so1347224fac.1
 for <test-report@dpdk.org>; Fri, 01 Mar 2024 06:49:17 -0800 (PST)
DKIM-Signature: v=1; a=rsa-sha256; c=relaxed/relaxed;
 d=iol.unh.edu; s=unh-iol; t=1709304557; x=1709909357; darn=dpdk.org;
 h=references:in-reply-to:cc:to:from:subject:message-id:date:from:to
 :cc:subject:date:message-id:reply-to;
 bh=LkIhvIBNAaXgJ9n9LSqUqbIOhJ0hIWBOXRVtL2QjyzQ=;
 b=YvOH1sLyyMLYEbOC4nUfKx3LL3dLvQOFjS95ev4WRHQ1Njk9p++WZL866POKTZhoR/
 niVQYbcI71bSCBTy9ZnM0bPsyeiBJfDfyyxKAenZqrnYyIZdkRM9pRWqz9aY/hQ60863
 jjYGwdAzIg6/YU2jUjbaz9MyhxhfVSCH7BWLg=
X-Google-DKIM-Signature: v=1; a=rsa-sha256; c=relaxed/relaxed;
 d=1e100.net; s=20230601; t=1709304557; x=1709909357;
 h=references:in-reply-to:cc:to:from:subject:message-id:date
 :x-gm-message-state:from:to:cc:subject:date:message-id:reply-to;
 bh=LkIhvIBNAaXgJ9n9LSqUqbIOhJ0hIWBOXRVtL2QjyzQ=;
 b=g60qXl/KEi1uhPA4GxAe3L7NvIHF9ZLGHgAMCshi4npYiHZ8XjsXDJ2NJHk+InRmmc
 yS6L1nKBtWosOIpoVn7a9E7SPGA9TyI9RUc7yJVq5ET75CQuWfNJoHPObuKxk4oYjFIy
 J92a32vIZYA9cmfQ2xf3Xa3OveI8+VuRcGb1ndKzYk2Agr+FTL056cfQcvHCt5zyQxRv
 OssuY+RCbpn2oQ9moqn168F5UqacW58ESaEiNYbnA8915D4kMYw/XPiR3KF9XUSt9l+L
 hgllQai+4BMDgQOiz0huIh3mkTBGgttc/4RAlDaSGqC8tA30Vn1r19XoJQx+9Kd0uhp9
 9rgg==
X-Gm-Message-State: AOJu0YyiLBhc3lsLQBcY8SefYZOB+f89VsujacIk8/zIteLeJ05PF3O0
 MTJC9JCqJe2+QEHbZ6UqCwkkB1ryMfZJ5TdAJPCfwudWtgP4WD0+pzTplKFHoDo39ZtQ8jROGfZ
 FVETS88WaREmR5vykeilKnMvv25jwkzBz61fE7CS4ZqlcpKXQDMPbYZ0S
X-Google-Smtp-Source: AGHT+IEodeS6pN/1uWiaHJTpyIDbEgfHY+9b5s9rgcSx4m7JbQT9AEJFCt3G1aS7DQFduBE241sbK91nsbbD
X-Received: by 2002:a05:6871:4e41:b0:21e:df09:fbb6 with SMTP id
 uj1-20020a0568714e4100b0021edf09fbb6mr1853859oab.41.1709304557119; 
 Fri, 01 Mar 2024 06:49:17 -0800 (PST)
Received: from postal.iol.unh.edu (postal.iol.unh.edu.
 [2606:4100:3880:1234::84]) by smtp-relay.gmail.com with ESMTPS id
 le15-20020a05687c340f00b0021e64b6a8a9sm117708oac.27.2024.03.01.06.49.17
 (version=TLS1_2 cipher=ECDHE-ECDSA-AES128-GCM-SHA256 bits=128/128);
 Fri, 01 Mar 2024 06:49:17 -0800 (PST)
X-Relaying-Domain: iol.unh.edu
Date: Fri, 01 Mar 2024 06:49:17 -0800 (PST)
Message-ID: <65e1eaed.050a0220.3dbe1.78b3SMTPIN_ADDED_MISSING@mx.google.com>
Received: from [172.21.0.6] (unknown [172.18.0.240])
 by postal.iol.unh.edu (Postfix) with ESMTP id 959976052712;
 Fri,  1 Mar 2024 09:49:16 -0500 (EST)
Subject: |SUCCESS| pw137666-137672 [PATCH] [v4,7/7] dts: improve test suite a
From: dpdklab@iol.unh.edu
To: Test Report <test-report@dpdk.org>
Cc: dpdk-test-reports@iol.unh.edu
In-Reply-To: <20240301105522.79870-8-juraj.linkes@pantheon.tech>
References: <20240301105522.79870-8-juraj.linkes@pantheon.tech>
Content-Type: text/plain
X-BeenThere: test-report@dpdk.org
X-Mailman-Version: 2.1.29
Precedence: list
List-Id: automatic DPDK test reports <test-report.dpdk.org>
List-Unsubscribe: <https://mails.dpdk.org/options/test-report>,
 <mailto:test-report-request@dpdk.org?subject=unsubscribe>
List-Archive: <http://mails.dpdk.org/archives/test-report/>
List-Post: <mailto:test-report@dpdk.org>
List-Help: <mailto:test-report-request@dpdk.org?subject=help>
List-Subscribe: <https://mails.dpdk.org/listinfo/test-report>,
 <mailto:test-report-request@dpdk.org?subject=subscribe>
Errors-To: test-report-bounces@dpdk.org

Test-Label: iol-compile-amd64-testing
Test-Status: SUCCESS
http://dpdk.org/patch/137672

_Testing PASS_

Submitter: Juraj Linkes <juraj.linkes@pantheon.tech>
Date: Friday, March 01 2024 10:55:22 
DPDK git baseline: Repo:dpdk
  Branch: master
  CommitID:5df34de5808a7b826b8bc035d6ee3161a12be364

137666-137672 --> testing pass

Test environment and result as below:

+---------------------+--------------------+----------------------+
|     Environment     | dpdk_meson_compile | dpdk_mingw64_compile |
+=====================+====================+======================+
| FreeBSD 13.2        | PASS               | SKIPPED              |
+---------------------+--------------------+----------------------+
| Windows Server 2022 | PASS               | SKIPPED              |
+---------------------+--------------------+----------------------+
| Windows Server 2019 | PASS               | PASS                 |
+---------------------+--------------------+----------------------+
| Fedora 38           | PASS               | SKIPPED              |
+---------------------+--------------------+----------------------+
| Fedora 37           | PASS               | SKIPPED              |
+---------------------+--------------------+----------------------+
| RHEL8               | PASS               | SKIPPED              |
+---------------------+--------------------+----------------------+
| CentOS Stream 9     | PASS               | SKIPPED              |
+---------------------+--------------------+----------------------+
| CentOS Stream 8     | PASS               | SKIPPED              |
+---------------------+--------------------+----------------------+
| Ubuntu 20.04        | PASS               | SKIPPED              |
+---------------------+--------------------+----------------------+
| openSUSE Leap 15    | PASS               | SKIPPED              |
+---------------------+--------------------+----------------------+
| Debian 12 (arm)     | PASS               | SKIPPED              |
+---------------------+--------------------+----------------------+
| Ubuntu 22.04        | PASS               | SKIPPED              |
+---------------------+--------------------+----------------------+
| Alpine              | PASS               | SKIPPED              |
+---------------------+--------------------+----------------------+
| Debian Bullseye     | PASS               | SKIPPED              |
+---------------------+--------------------+----------------------+


FreeBSD 13.2
	Kernel: 13.2
	Compiler: clang 11.3.0

Windows Server 2022
	Kernel: OS Build 20348.2031
	Compiler: MSVC VS-Preview

Windows Server 2019
	Kernel: 10.0
	Compiler: clang 14.0 and gcc 8.1.0 (MinGW)

Fedora 38
	Kernel: Depends on container host
	Compiler: gcc 13.1.1

Fedora 37
	Kernel: Depends on container host system
	Compiler: gcc 12.3.1

RHEL8
	Kernel: 4.18.0-240.10.1.el8_3.x86_64
	Compiler: gcc 8.3.1 20191121 (Red Hat 8.3.1-5)

CentOS Stream 9
	Kernel: 4.18.0-240.10.1.el8_3.x86_64
	Compiler: gcc 11.3.1 20220421

CentOS Stream 8
	Kernel: 4.18.0-240.10.1.el8_3.x86_64
	Compiler: gcc 8.4.1 20200928

Ubuntu 20.04
	Kernel: 5.4.0-153-generic
	Compiler: gcc 9.4.0-1ubuntu1~20.04.1

openSUSE Leap 15
	Kernel: 4.18.0-240.10.1.el8_3.x86_64
	Compiler: gcc 7.5.0

Debian 12 (arm)
	Kernel: Container Host Kernel
	Compiler: gcc 11

Ubuntu 22.04
	Kernel: 4.18.0-240.10.1.el8_3.x86_64
	Compiler: gcc 11.3.0

Alpine
	Kernel: 5.4.0-73-generic
	Compiler: gcc (Alpine 10.3.1_git20210424) 10.3.1 20210424

Debian Bullseye
	Kernel: 5.4.0-122-generic
	Compiler: gcc 10.2.1-6

To view detailed results, visit:
https://lab.dpdk.org/results/dashboard/patchsets/29369/

UNH-IOL DPDK Community Lab

To manage your email subscriptions, visit: 
https://lab.dpdk.org/results/dashboard/preferences/subscriptions/