From mboxrd@z Thu Jan  1 00:00:00 1970
Return-Path: <test-report-bounces@dpdk.org>
Received: from mails.dpdk.org (mails.dpdk.org [217.70.189.124])
	by inbox.dpdk.org (Postfix) with ESMTP id 8019543BD7
	for <public@inbox.dpdk.org>; Fri,  1 Mar 2024 15:52:14 +0100 (CET)
Received: from mails.dpdk.org (localhost [127.0.0.1])
	by mails.dpdk.org (Postfix) with ESMTP id 7AA24434B0;
	Fri,  1 Mar 2024 15:52:14 +0100 (CET)
Received: from mail-yw1-f226.google.com (mail-yw1-f226.google.com
 [209.85.128.226])
 by mails.dpdk.org (Postfix) with ESMTP id 77811433F2
 for <test-report@dpdk.org>; Fri,  1 Mar 2024 15:52:12 +0100 (CET)
Received: by mail-yw1-f226.google.com with SMTP id
 00721157ae682-6093e067220so21205047b3.0
 for <test-report@dpdk.org>; Fri, 01 Mar 2024 06:52:12 -0800 (PST)
DKIM-Signature: v=1; a=rsa-sha256; c=relaxed/relaxed;
 d=iol.unh.edu; s=unh-iol; t=1709304732; x=1709909532; darn=dpdk.org;
 h=references:in-reply-to:cc:to:from:subject:message-id:date:from:to
 :cc:subject:date:message-id:reply-to;
 bh=55sLrVn7eOPUJIg4bdECizt2SQXdkmQE4o3jPYy3mpQ=;
 b=XlQRxjHAE8Di8S0lG+Ue0vWabFANC3pNISsX7NHZ/BtHXjtg4oS5bmZxt4QOxeE4bn
 6pne62Kwt3Hh3Wu3au5Zyws6yfCo6F3DHM7+VWyNZd0wBlXBOt0w0HIPWRJQMoTZ+5r3
 3iPgdio96LefE3MaX6P77V7kErr/AgtoaXT78=
X-Google-DKIM-Signature: v=1; a=rsa-sha256; c=relaxed/relaxed;
 d=1e100.net; s=20230601; t=1709304732; x=1709909532;
 h=references:in-reply-to:cc:to:from:subject:message-id:date
 :x-gm-message-state:from:to:cc:subject:date:message-id:reply-to;
 bh=55sLrVn7eOPUJIg4bdECizt2SQXdkmQE4o3jPYy3mpQ=;
 b=fWZeHacNSMQKrMGjYjn9uf7rqoeiwGmHJRkxf59NKDdMgPeexGTIoK6Rdf/XypWhyv
 NLS4XVn/kK216YZ+7G5yCl+lo4w7jTmPy2WFpsVlZb/FIjzsxvYJilB1RuV60KDqXrVZ
 Y7ZB0EclP/ZLR8ObTwv8wAiGSeuK956wy9X+xFHrpGj26InF3UDqmiIWNf0jf5l37vu1
 R/YiooOSxBw3Pwsy+RIbarQmuV0vRMAez3G4OhtI2USzvhWP4+aZY7xy5tEmiTcQmZo3
 rR70HDAws/RYebqfGjiQ5n3zlwVrNZEETdyczs9El4AZdG/O2mgYaMOXyX/ye7cloTYm
 MWRw==
X-Gm-Message-State: AOJu0YzPBzWzMAApmcik4t0X/ncDMGgOj5gFe/JVi1zjkWJbVouUXGPk
 HPgxCTXcF+zBKYDIXW9/R1d5LTw0buNI/hifW5gAoMZbBaJaY4TkFFPg37AKYZ3PgUNzlNJNyPQ
 l1J3q/I/C4OaE/HCzpGw61nwdkylVD/QQaECPwH6x
X-Google-Smtp-Source: AGHT+IEsEahPogRBjNRAxMHHRsPaFrTrXuQ/njnIyyyVfFxX0stEykA9nn/YnH5TMN4wgYhu0EIK0TbZbBI3
X-Received: by 2002:a05:690c:fcb:b0:607:8c3e:1605 with SMTP id
 dg11-20020a05690c0fcb00b006078c3e1605mr1739159ywb.10.1709304731558; 
 Fri, 01 Mar 2024 06:52:11 -0800 (PST)
Received: from postal.iol.unh.edu (postal.iol.unh.edu. [132.177.123.84])
 by smtp-relay.gmail.com with ESMTPS id
 c7-20020a81c947000000b00608e749c1fasm91561ywl.56.2024.03.01.06.52.11
 (version=TLS1_2 cipher=ECDHE-ECDSA-AES128-GCM-SHA256 bits=128/128);
 Fri, 01 Mar 2024 06:52:11 -0800 (PST)
X-Relaying-Domain: iol.unh.edu
Date: Fri, 01 Mar 2024 06:52:11 -0800 (PST)
Message-ID: <65e1eb9b.810a0220.a7f84.5f4bSMTPIN_ADDED_MISSING@mx.google.com>
Received: from [172.21.0.6] (unknown [172.18.0.240])
 by postal.iol.unh.edu (Postfix) with ESMTP id 401456052712;
 Fri,  1 Mar 2024 09:52:11 -0500 (EST)
Subject: |SUCCESS| pw137666-137672 [PATCH] [v4,7/7] dts: improve test suite a
From: dpdklab@iol.unh.edu
To: Test Report <test-report@dpdk.org>
Cc: dpdk-test-reports@iol.unh.edu
In-Reply-To: <20240301105522.79870-8-juraj.linkes@pantheon.tech>
References: <20240301105522.79870-8-juraj.linkes@pantheon.tech>
Content-Type: text/plain
X-BeenThere: test-report@dpdk.org
X-Mailman-Version: 2.1.29
Precedence: list
List-Id: automatic DPDK test reports <test-report.dpdk.org>
List-Unsubscribe: <https://mails.dpdk.org/options/test-report>,
 <mailto:test-report-request@dpdk.org?subject=unsubscribe>
List-Archive: <http://mails.dpdk.org/archives/test-report/>
List-Post: <mailto:test-report@dpdk.org>
List-Help: <mailto:test-report-request@dpdk.org?subject=help>
List-Subscribe: <https://mails.dpdk.org/listinfo/test-report>,
 <mailto:test-report-request@dpdk.org?subject=subscribe>
Errors-To: test-report-bounces@dpdk.org

Test-Label: iol-unit-arm64-testing
Test-Status: SUCCESS
http://dpdk.org/patch/137672

_Testing PASS_

Submitter: Juraj Linkes <juraj.linkes@pantheon.tech>
Date: Friday, March 01 2024 10:55:22 
DPDK git baseline: Repo:dpdk
  Branch: master
  CommitID:5df34de5808a7b826b8bc035d6ee3161a12be364

137666-137672 --> testing pass

Test environment and result as below:

+--------------------------+----------------+------------------------------+---------------------------+--------------+
|       Environment        | dpdk_unit_test | cryptodev_sw_snow3g_autotest | cryptodev_sw_zuc_autotest | lpm_autotest |
+==========================+================+==============================+===========================+==============+
| Debian 11 (Buster) (ARM) | PASS           | SKIPPED                      | SKIPPED                   | SKIPPED      |
+--------------------------+----------------+------------------------------+---------------------------+--------------+
| CentOS Stream 9 (ARM)    | PASS           | SKIPPED                      | SKIPPED                   | SKIPPED      |
+--------------------------+----------------+------------------------------+---------------------------+--------------+
| Debian 12 (arm)          | PASS           | PASS                         | PASS                      | SKIPPED      |
+--------------------------+----------------+------------------------------+---------------------------+--------------+
| Fedora 37 (ARM)          | PASS           | SKIPPED                      | SKIPPED                   | SKIPPED      |
+--------------------------+----------------+------------------------------+---------------------------+--------------+
| Fedora 38 (ARM)          | PASS           | SKIPPED                      | SKIPPED                   | SKIPPED      |
+--------------------------+----------------+------------------------------+---------------------------+--------------+
| Ubuntu 20.04 (ARM)       | PASS           | SKIPPED                      | SKIPPED                   | SKIPPED      |
+--------------------------+----------------+------------------------------+---------------------------+--------------+
| Ubuntu 20.04 ARM SVE     | SKIPPED        | SKIPPED                      | SKIPPED                   | PASS         |
+--------------------------+----------------+------------------------------+---------------------------+--------------+


Debian 11 (Buster) (ARM)
	Kernel: Container Host Kernel
	Compiler: gcc 10.2.1

CentOS Stream 9 (ARM)
	Kernel: Container Host Kernel
	Compiler: gcc 11.3.1

Debian 12 (arm)
	Kernel: Container Host Kernel
	Compiler: gcc 11

Fedora 37 (ARM)
	Kernel: Depends on container host
	Compiler: gcc 12.3.1

Fedora 38 (ARM)
	Kernel: Depends on container host
	Compiler: gcc 13.1.1

Ubuntu 20.04 (ARM)
	Kernel: Container Host Kernel
	Compiler: gcc 9.4.0

Ubuntu 20.04 ARM SVE
	Kernel: 5.4.0-80-generic
	Compiler: gcc 10.3.0 (Ubuntu 10.3.0-1ubuntu1~20.04)

To view detailed results, visit:
https://lab.dpdk.org/results/dashboard/patchsets/29369/

UNH-IOL DPDK Community Lab

To manage your email subscriptions, visit: 
https://lab.dpdk.org/results/dashboard/preferences/subscriptions/