From mboxrd@z Thu Jan  1 00:00:00 1970
Return-Path: <test-report-bounces@dpdk.org>
Received: from mails.dpdk.org (mails.dpdk.org [217.70.189.124])
	by inbox.dpdk.org (Postfix) with ESMTP id 8C52F43BD7
	for <public@inbox.dpdk.org>; Fri,  1 Mar 2024 15:52:26 +0100 (CET)
Received: from mails.dpdk.org (localhost [127.0.0.1])
	by mails.dpdk.org (Postfix) with ESMTP id 88E5D434B0;
	Fri,  1 Mar 2024 15:52:26 +0100 (CET)
Received: from mail-yb1-f226.google.com (mail-yb1-f226.google.com
 [209.85.219.226])
 by mails.dpdk.org (Postfix) with ESMTP id 29E32433F2
 for <test-report@dpdk.org>; Fri,  1 Mar 2024 15:52:25 +0100 (CET)
Received: by mail-yb1-f226.google.com with SMTP id
 3f1490d57ef6-dcbc6a6808fso2253734276.2
 for <test-report@dpdk.org>; Fri, 01 Mar 2024 06:52:25 -0800 (PST)
DKIM-Signature: v=1; a=rsa-sha256; c=relaxed/relaxed;
 d=iol.unh.edu; s=unh-iol; t=1709304744; x=1709909544; darn=dpdk.org;
 h=references:in-reply-to:cc:to:from:subject:message-id:date:from:to
 :cc:subject:date:message-id:reply-to;
 bh=U34b0z+h6Xj5ap/8XVK8DNPe5AQyInRS8IWJfMk/PdQ=;
 b=VSh34J9U9lza3dDb7QlwkTGtwz5PnhKYe1bXWo2oCRMbP/24aDyuqcEkmhLIzuzwFF
 pA+YzFgnzrSXOl8V0AuoTK+4hC4iARIVE5q5f9L65a4sW3zZabWu5GwL/robq8VoGk4d
 M98BpNA76IaRCyZdTTe/O8FbiDlbqcfCW5xFA=
X-Google-DKIM-Signature: v=1; a=rsa-sha256; c=relaxed/relaxed;
 d=1e100.net; s=20230601; t=1709304744; x=1709909544;
 h=references:in-reply-to:cc:to:from:subject:message-id:date
 :x-gm-message-state:from:to:cc:subject:date:message-id:reply-to;
 bh=U34b0z+h6Xj5ap/8XVK8DNPe5AQyInRS8IWJfMk/PdQ=;
 b=SFPsMeXDxsHgpN3IMuMItCPfO91npu+ZoOKHRRxPi2QDbaSR+AuaqVGFjFqD1nWtjs
 iJe436OyxdcHIn1tDIwsghIO5VbMIPCy2IV0B36sBLbLCQ94ll+QzJCKfQW3NPXGIlLJ
 vUjJa3cB6MenOXPobguD2Yfe1HfglCX1LaBebY7VCsfwFpOazrS9/p5Gt4bGvbyEBoxs
 2Jb938rgiM4Sl1EMhGpxGGz864Qcst9NMizkhqQVr7O8EgyG2DWErnefmrUt3rSZ5IZN
 6CNJc/Aw2d7U3nonVln6JM0gaK+vdyPJHeVlUtf3Wl2QzR2TYoPo6Z1Rlgm9DDz5Ek+Q
 XSsg==
X-Gm-Message-State: AOJu0YyzBIspJ9Q9dfYUE8acOCjf7l1wgIYU3empd53CBJSLLUl3nw/5
 7fdFzQtAG2UHUVOHEvVdVAe9Ahvo/bmT4A5iHtAHYL6tc6OtKv6/KLsdZ4fPQSPUQC+1zuLNUWU
 2fCoaW4J7gAAE45jCv/ucYMsKGvZDbPFW/tI3p/WaNOkj3QI248xp9Qj4
X-Google-Smtp-Source: AGHT+IFE/nViwWQAK/Mf/tZKshrWxzF1JkDjPZmWjEqndkXa/04uqI6M78hekKGVInJbb2KP68Edqhzr8+Ld
X-Received: by 2002:a5b:8c5:0:b0:dcd:905:3d17 with SMTP id
 w5-20020a5b08c5000000b00dcd09053d17mr1627739ybq.32.1709304744525; 
 Fri, 01 Mar 2024 06:52:24 -0800 (PST)
Received: from postal.iol.unh.edu (postal.iol.unh.edu.
 [2606:4100:3880:1234::84]) by smtp-relay.gmail.com with ESMTPS id
 m184-20020a253fc1000000b00dc2196e0f1dsm199239yba.34.2024.03.01.06.52.24
 (version=TLS1_2 cipher=ECDHE-ECDSA-AES128-GCM-SHA256 bits=128/128);
 Fri, 01 Mar 2024 06:52:24 -0800 (PST)
X-Relaying-Domain: iol.unh.edu
Date: Fri, 01 Mar 2024 06:52:24 -0800 (PST)
Message-ID: <65e1eba8.250a0220.a71a7.d02fSMTPIN_ADDED_MISSING@mx.google.com>
Received: from [172.21.0.6] (unknown [172.18.0.240])
 by postal.iol.unh.edu (Postfix) with ESMTP id 2906E6052712;
 Fri,  1 Mar 2024 09:52:24 -0500 (EST)
Subject: |SUCCESS| pw137666-137672 [PATCH] [v4,7/7] dts: improve test suite a
From: dpdklab@iol.unh.edu
To: Test Report <test-report@dpdk.org>
Cc: dpdk-test-reports@iol.unh.edu
In-Reply-To: <20240301105522.79870-8-juraj.linkes@pantheon.tech>
References: <20240301105522.79870-8-juraj.linkes@pantheon.tech>
Content-Type: text/plain
X-BeenThere: test-report@dpdk.org
X-Mailman-Version: 2.1.29
Precedence: list
List-Id: automatic DPDK test reports <test-report.dpdk.org>
List-Unsubscribe: <https://mails.dpdk.org/options/test-report>,
 <mailto:test-report-request@dpdk.org?subject=unsubscribe>
List-Archive: <http://mails.dpdk.org/archives/test-report/>
List-Post: <mailto:test-report@dpdk.org>
List-Help: <mailto:test-report-request@dpdk.org?subject=help>
List-Subscribe: <https://mails.dpdk.org/listinfo/test-report>,
 <mailto:test-report-request@dpdk.org?subject=subscribe>
Errors-To: test-report-bounces@dpdk.org

Test-Label: iol-compile-arm64-testing
Test-Status: SUCCESS
http://dpdk.org/patch/137672

_Testing PASS_

Submitter: Juraj Linkes <juraj.linkes@pantheon.tech>
Date: Friday, March 01 2024 10:55:22 
DPDK git baseline: Repo:dpdk
  Branch: master
  CommitID:5df34de5808a7b826b8bc035d6ee3161a12be364

137666-137672 --> testing pass

Test environment and result as below:

+----------------------------------------+--------------------+
|              Environment               | dpdk_meson_compile |
+========================================+====================+
| Ubuntu 20.04 ARM SVE                   | PASS               |
+----------------------------------------+--------------------+
| Ubuntu 20.04 (ARM)                     | PASS               |
+----------------------------------------+--------------------+
| Fedora 38 (ARM)                        | PASS               |
+----------------------------------------+--------------------+
| Fedora 37 (ARM)                        | PASS               |
+----------------------------------------+--------------------+
| Debian 12 (arm)                        | PASS               |
+----------------------------------------+--------------------+
| Ubuntu 20.04 aarch32 GCC Cross Compile | PASS               |
+----------------------------------------+--------------------+
| Ubuntu 20.04 ARM Clang Cross Compile   | PASS               |
+----------------------------------------+--------------------+
| Ubuntu 20.04 ARM GCC Cross Compile     | PASS               |
+----------------------------------------+--------------------+
| Debian 11 (Buster) (ARM)               | PASS               |
+----------------------------------------+--------------------+
| CentOS Stream 9 (ARM)                  | PASS               |
+----------------------------------------+--------------------+


Ubuntu 20.04 ARM SVE
	Kernel: 5.4.0-80-generic
	Compiler: gcc 10.3.0 (Ubuntu 10.3.0-1ubuntu1~20.04)

Ubuntu 20.04 (ARM)
	Kernel: Container Host Kernel
	Compiler: gcc 9.4.0

Fedora 38 (ARM)
	Kernel: Depends on container host
	Compiler: gcc 13.1.1

Fedora 37 (ARM)
	Kernel: Depends on container host
	Compiler: gcc 12.3.1

Debian 12 (arm)
	Kernel: Container Host Kernel
	Compiler: gcc 11

Ubuntu 20.04 aarch32 GCC Cross Compile
	Kernel: 5.4.0-72-generic
	Compiler: gcc 9.3.0

Ubuntu 20.04 ARM Clang Cross Compile
	Kernel: 5.4.0-72-generic
	Compiler: clang version 10.0.0-4ubuntu1

Ubuntu 20.04 ARM GCC Cross Compile
	Kernel: 5.4.0-72-generic
	Compiler: aarch64-linux-gnu-gcc (Ubuntu 9.3.0-17ubuntu1~20.04) 9.3.0

Debian 11 (Buster) (ARM)
	Kernel: Container Host Kernel
	Compiler: gcc 10.2.1

CentOS Stream 9 (ARM)
	Kernel: Container Host Kernel
	Compiler: gcc 11.3.1

To view detailed results, visit:
https://lab.dpdk.org/results/dashboard/patchsets/29369/

UNH-IOL DPDK Community Lab

To manage your email subscriptions, visit: 
https://lab.dpdk.org/results/dashboard/preferences/subscriptions/