From mboxrd@z Thu Jan  1 00:00:00 1970
Return-Path: <test-report-bounces@dpdk.org>
Received: from mails.dpdk.org (mails.dpdk.org [217.70.189.124])
	by inbox.dpdk.org (Postfix) with ESMTP id DAD6243BD7
	for <public@inbox.dpdk.org>; Fri,  1 Mar 2024 15:59:32 +0100 (CET)
Received: from mails.dpdk.org (localhost [127.0.0.1])
	by mails.dpdk.org (Postfix) with ESMTP id D74E9434B0;
	Fri,  1 Mar 2024 15:59:32 +0100 (CET)
Received: from mail-pl1-f225.google.com (mail-pl1-f225.google.com
 [209.85.214.225])
 by mails.dpdk.org (Postfix) with ESMTP id 0DF92433F2
 for <test-report@dpdk.org>; Fri,  1 Mar 2024 15:59:32 +0100 (CET)
Received: by mail-pl1-f225.google.com with SMTP id
 d9443c01a7336-1d93edfa76dso20414255ad.1
 for <test-report@dpdk.org>; Fri, 01 Mar 2024 06:59:31 -0800 (PST)
DKIM-Signature: v=1; a=rsa-sha256; c=relaxed/relaxed;
 d=iol.unh.edu; s=unh-iol; t=1709305171; x=1709909971; darn=dpdk.org;
 h=references:in-reply-to:cc:to:from:subject:message-id:date:from:to
 :cc:subject:date:message-id:reply-to;
 bh=QyI6v8QJUx5K5C1Dcl1mo/eGgaKD0u/R2tmmnQKDf+Y=;
 b=SLaWL1cRdLuOmobOhwbVUo+5xzn4kTTV6DiHMPaXXuicOaQQ4EwySZ2f1xb9dvoo/g
 3wqCVlB4MPjG/Gh9qtLq+JbUzyDcZyrqCmrEvtoimXaMEVG2yqfcsnnGNK80eVtqIuc8
 u9bpbCg/TJBevJ9owiCKK23qcf2y9u31Cs+lQ=
X-Google-DKIM-Signature: v=1; a=rsa-sha256; c=relaxed/relaxed;
 d=1e100.net; s=20230601; t=1709305171; x=1709909971;
 h=references:in-reply-to:cc:to:from:subject:message-id:date
 :x-gm-message-state:from:to:cc:subject:date:message-id:reply-to;
 bh=QyI6v8QJUx5K5C1Dcl1mo/eGgaKD0u/R2tmmnQKDf+Y=;
 b=rRLbHp6KHg8O9zVO+n+5RWWLt0nUE4qTLKwU9gcC7OL9nqMaYNi90Y/X3AE4XrpUDj
 LBMi48/RdKuObB9Mvi9ceiH/4YehIplPh772ghAA8rwATwStOV4WAL4Z03wxNoO1ssgE
 Asq6YgfK8SEgNw3+iKWxsZJot+Xrmoj5lZzNVh14KfGGTt7XHkL5BFicCn6qP+6VYytA
 lfNOwWIFq9LcYaE+qm/QpbP4a1mf6rDgaFfH+Uny5EudeBIG9XhQGfcomRs9MtCdIKeN
 DMvaUBWn00+0AePEtIpAPbRTQA6XlwfGcbfvp9pL+8JaKTUWdw1INmWZjoSLBG3L030j
 6OwQ==
X-Gm-Message-State: AOJu0YweT4m0iK5X8C2zHzhH09E2mItRPnaYM8bOBnRz2dNEBaA/ryj/
 Wa1YxoS9Jnk4UavaJUBCbFNvcjdcTh3KdZvymJOdkmY3Auskxx28IgIkj5v9X3/Ei+YDpQjbo5N
 hl9XbICJCNfXZoqInnDktM4aqAtR1TPD6l5zT/89h
X-Google-Smtp-Source: AGHT+IHvNtpRTnSKdp0iz1Kc+9LnoUZI+bng30Pz0ZWJBMPN8o6Uvy+15NzwiMi1yEyPVFJa5nU/TuySgcLV
X-Received: by 2002:a17:902:ecc9:b0:1dc:2d37:98be with SMTP id
 a9-20020a170902ecc900b001dc2d3798bemr2283738plh.36.1709305171370; 
 Fri, 01 Mar 2024 06:59:31 -0800 (PST)
Received: from postal.iol.unh.edu (postal.iol.unh.edu. [132.177.123.84])
 by smtp-relay.gmail.com with ESMTPS id
 kb7-20020a170903338700b001d9427ff4absm108374plb.30.2024.03.01.06.59.31
 (version=TLS1_2 cipher=ECDHE-ECDSA-AES128-GCM-SHA256 bits=128/128);
 Fri, 01 Mar 2024 06:59:31 -0800 (PST)
X-Relaying-Domain: iol.unh.edu
Date: Fri, 01 Mar 2024 06:59:31 -0800 (PST)
Message-ID: <65e1ed53.170a0220.71836.752bSMTPIN_ADDED_MISSING@mx.google.com>
Received: from [172.21.0.6] (unknown [172.18.0.240])
 by postal.iol.unh.edu (Postfix) with ESMTP id D4A666052511;
 Fri,  1 Mar 2024 09:59:30 -0500 (EST)
Subject: |SUCCESS| pw137666-137672 [PATCH] [v4,7/7] dts: improve test suite a
From: dpdklab@iol.unh.edu
To: Test Report <test-report@dpdk.org>
Cc: dpdk-test-reports@iol.unh.edu
In-Reply-To: <20240301105522.79870-8-juraj.linkes@pantheon.tech>
References: <20240301105522.79870-8-juraj.linkes@pantheon.tech>
Content-Type: text/plain
X-BeenThere: test-report@dpdk.org
X-Mailman-Version: 2.1.29
Precedence: list
List-Id: automatic DPDK test reports <test-report.dpdk.org>
List-Unsubscribe: <https://mails.dpdk.org/options/test-report>,
 <mailto:test-report-request@dpdk.org?subject=unsubscribe>
List-Archive: <http://mails.dpdk.org/archives/test-report/>
List-Post: <mailto:test-report@dpdk.org>
List-Help: <mailto:test-report-request@dpdk.org?subject=help>
List-Subscribe: <https://mails.dpdk.org/listinfo/test-report>,
 <mailto:test-report-request@dpdk.org?subject=subscribe>
Errors-To: test-report-bounces@dpdk.org

Test-Label: iol-unit-amd64-testing
Test-Status: SUCCESS
http://dpdk.org/patch/137672

_Testing PASS_

Submitter: Juraj Linkes <juraj.linkes@pantheon.tech>
Date: Friday, March 01 2024 10:55:22 
DPDK git baseline: Repo:dpdk
  Branch: master
  CommitID:5df34de5808a7b826b8bc035d6ee3161a12be364

137666-137672 --> testing pass

Test environment and result as below:

+---------------------+----------------+
|     Environment     | dpdk_unit_test |
+=====================+================+
| Windows Server 2019 | PASS           |
+---------------------+----------------+
| Debian 12 (arm)     | PASS           |
+---------------------+----------------+
| CentOS Stream 9     | PASS           |
+---------------------+----------------+
| Debian Bullseye     | PASS           |
+---------------------+----------------+
| CentOS Stream 8     | PASS           |
+---------------------+----------------+
| Fedora 38           | PASS           |
+---------------------+----------------+
| Fedora 37           | PASS           |
+---------------------+----------------+
| openSUSE Leap 15    | PASS           |
+---------------------+----------------+
| Ubuntu 22.04        | PASS           |
+---------------------+----------------+
| Ubuntu 20.04        | PASS           |
+---------------------+----------------+
| RHEL8               | PASS           |
+---------------------+----------------+


Windows Server 2019
	Kernel: 10.0
	Compiler: clang 14.0 and gcc 8.1.0 (MinGW)

Debian 12 (arm)
	Kernel: Container Host Kernel
	Compiler: gcc 11

CentOS Stream 9
	Kernel: 4.18.0-240.10.1.el8_3.x86_64
	Compiler: gcc 11.3.1 20220421

Debian Bullseye
	Kernel: 5.4.0-122-generic
	Compiler: gcc 10.2.1-6

CentOS Stream 8
	Kernel: 4.18.0-240.10.1.el8_3.x86_64
	Compiler: gcc 8.4.1 20200928

Fedora 38
	Kernel: Depends on container host
	Compiler: gcc 13.1.1

Fedora 37
	Kernel: Depends on container host system
	Compiler: gcc 12.3.1

openSUSE Leap 15
	Kernel: 4.18.0-240.10.1.el8_3.x86_64
	Compiler: gcc 7.5.0

Ubuntu 22.04
	Kernel: 4.18.0-240.10.1.el8_3.x86_64
	Compiler: gcc 11.3.0

Ubuntu 20.04
	Kernel: 5.4.0-153-generic
	Compiler: gcc 9.4.0-1ubuntu1~20.04.1

RHEL8
	Kernel: 4.18.0-240.10.1.el8_3.x86_64
	Compiler: gcc 8.3.1 20191121 (Red Hat 8.3.1-5)

To view detailed results, visit:
https://lab.dpdk.org/results/dashboard/patchsets/29369/

UNH-IOL DPDK Community Lab

To manage your email subscriptions, visit: 
https://lab.dpdk.org/results/dashboard/preferences/subscriptions/