From mboxrd@z Thu Jan  1 00:00:00 1970
Return-Path: <test-report-bounces@dpdk.org>
Received: from mails.dpdk.org (mails.dpdk.org [217.70.189.124])
	by inbox.dpdk.org (Postfix) with ESMTP id 64D8443BD7
	for <public@inbox.dpdk.org>; Fri,  1 Mar 2024 16:00:39 +0100 (CET)
Received: from mails.dpdk.org (localhost [127.0.0.1])
	by mails.dpdk.org (Postfix) with ESMTP id 5C47C433F2;
	Fri,  1 Mar 2024 16:00:39 +0100 (CET)
Received: from mail-pj1-f100.google.com (mail-pj1-f100.google.com
 [209.85.216.100])
 by mails.dpdk.org (Postfix) with ESMTP id 8B0C5427D8
 for <test-report@dpdk.org>; Fri,  1 Mar 2024 16:00:37 +0100 (CET)
Received: by mail-pj1-f100.google.com with SMTP id
 98e67ed59e1d1-29996cc6382so1710906a91.3
 for <test-report@dpdk.org>; Fri, 01 Mar 2024 07:00:37 -0800 (PST)
DKIM-Signature: v=1; a=rsa-sha256; c=relaxed/relaxed;
 d=iol.unh.edu; s=unh-iol; t=1709305237; x=1709910037; darn=dpdk.org;
 h=references:in-reply-to:cc:to:from:subject:message-id:date:from:to
 :cc:subject:date:message-id:reply-to;
 bh=QFbSRWW0F1Pynt2/qiFKlW/sLVL29Mcxzt4FNrmOrXs=;
 b=W4ttuNkZvkbhblETdEbZhoYhb14rMN+9MM6o+yXaWo/rKXNzx5GJHaPksmOD68IW9j
 qmi2EJNb21Ljfsy3J6v8U/kUD/0fd4rHhsWdvahYGELHji1/Q/rzTJVwXDCZZOR4dduv
 Y1vXR3IeK4iH+qM0DILE1Dw9bgPFbF6fWrVbI=
X-Google-DKIM-Signature: v=1; a=rsa-sha256; c=relaxed/relaxed;
 d=1e100.net; s=20230601; t=1709305237; x=1709910037;
 h=references:in-reply-to:cc:to:from:subject:message-id:date
 :x-gm-message-state:from:to:cc:subject:date:message-id:reply-to;
 bh=QFbSRWW0F1Pynt2/qiFKlW/sLVL29Mcxzt4FNrmOrXs=;
 b=GbSBG/WlX0DdFQ05aYRMyPvMUZ+x8VGv0IgHFPoMhD2HIenbXhFuSpLl5LesPiHfyo
 aoXVODmKATotpM+qe/WwdnHkzLdwJsQv2C/sRBeL8guyCT65rGTrlvOil/4qMxUqtsz/
 t1HKXNlFduhqnrmOfoXgVmngTFJ9hrz9CDq8bKKD1pfZ/Qw2+Uz9fRDW09lM3zXyG/TB
 JD3NrxsWsjX88KhYNpOLIMN5pvLLVTYwdaXb2gOlcJf2NJz0G0gQfsYAw+R3ZGI18C6U
 1eyN6F0jIqqTm7KVU+ctZEzGkVGLJl5KEJV1ap+hAktLTadNmIBqgUezGoEUQeFy7sK0
 Po3w==
X-Gm-Message-State: AOJu0YyOXjbmBr7b853nQFf8TvBHGghRS0Khn4U5o1zlns6vbvzMYKjB
 D+hFEHG6cz2jMgtnkCfV8heoXnS64syLIUKPLHwx+N6zESaX3EIZKLttqfGKnMJ/39hiVhnH/g1
 NIjTAPQa65G0oPOLhh1skN3J27kES01BETyTgxuvJ
X-Google-Smtp-Source: AGHT+IFS2+rijlWPAOlo85P6RMSGU4JSVHksevFCnghz8+uTibCdb09s3Pon54A30TMYuAazPuk2lSlG6i8h
X-Received: by 2002:a17:90a:e64a:b0:29a:e9cd:74aa with SMTP id
 ep10-20020a17090ae64a00b0029ae9cd74aamr1753947pjb.35.1709305236743; 
 Fri, 01 Mar 2024 07:00:36 -0800 (PST)
Received: from postal.iol.unh.edu (postal.iol.unh.edu. [132.177.123.84])
 by smtp-relay.gmail.com with ESMTPS id
 p5-20020a17090ad30500b00299349d4f4fsm250962pju.6.2024.03.01.07.00.36
 (version=TLS1_2 cipher=ECDHE-ECDSA-AES128-GCM-SHA256 bits=128/128);
 Fri, 01 Mar 2024 07:00:36 -0800 (PST)
X-Relaying-Domain: iol.unh.edu
Date: Fri, 01 Mar 2024 07:00:36 -0800 (PST)
Message-ID: <65e1ed94.170a0220.7d43.0cf0SMTPIN_ADDED_MISSING@mx.google.com>
Received: from [172.21.0.6] (unknown [172.18.0.240])
 by postal.iol.unh.edu (Postfix) with ESMTP id E2FB56052511;
 Fri,  1 Mar 2024 10:00:34 -0500 (EST)
Subject: |SUCCESS| pw137662-137665 [PATCH] [v7,4/4] test: add unit test for p
From: dpdklab@iol.unh.edu
To: Test Report <test-report@dpdk.org>
Cc: dpdk-test-reports@iol.unh.edu
In-Reply-To: <20240301102104.20074-5-paul.szczepanek@arm.com>
References: <20240301102104.20074-5-paul.szczepanek@arm.com>
Content-Type: text/plain
X-BeenThere: test-report@dpdk.org
X-Mailman-Version: 2.1.29
Precedence: list
List-Id: automatic DPDK test reports <test-report.dpdk.org>
List-Unsubscribe: <https://mails.dpdk.org/options/test-report>,
 <mailto:test-report-request@dpdk.org?subject=unsubscribe>
List-Archive: <http://mails.dpdk.org/archives/test-report/>
List-Post: <mailto:test-report@dpdk.org>
List-Help: <mailto:test-report-request@dpdk.org?subject=help>
List-Subscribe: <https://mails.dpdk.org/listinfo/test-report>,
 <mailto:test-report-request@dpdk.org?subject=subscribe>
Errors-To: test-report-bounces@dpdk.org

Test-Label: iol-abi-testing
Test-Status: SUCCESS
http://dpdk.org/patch/137665

_Testing PASS_

Submitter: Paul Szczepanek <paul.szczepanek@arm.com>
Date: Friday, March 01 2024 10:21:04 
DPDK git baseline: Repo:dpdk
  Branch: master
  CommitID:5df34de5808a7b826b8bc035d6ee3161a12be364

137662-137665 --> testing pass

Test environment and result as below:

+------------------+----------+
|   Environment    | abi_test |
+==================+==========+
| CentOS Stream 8  | PASS     |
+------------------+----------+
| RHEL8            | PASS     |
+------------------+----------+
| Debian Bullseye  | PASS     |
+------------------+----------+
| CentOS Stream 9  | PASS     |
+------------------+----------+
| Fedora 38        | PASS     |
+------------------+----------+
| Debian 12 (arm)  | PASS     |
+------------------+----------+
| Fedora 37        | PASS     |
+------------------+----------+
| Ubuntu 22.04     | PASS     |
+------------------+----------+
| openSUSE Leap 15 | PASS     |
+------------------+----------+


CentOS Stream 8
	Kernel: 4.18.0-240.10.1.el8_3.x86_64
	Compiler: gcc 8.4.1 20200928

RHEL8
	Kernel: 4.18.0-240.10.1.el8_3.x86_64
	Compiler: gcc 8.3.1 20191121 (Red Hat 8.3.1-5)

Debian Bullseye
	Kernel: 5.4.0-122-generic
	Compiler: gcc 10.2.1-6

CentOS Stream 9
	Kernel: 4.18.0-240.10.1.el8_3.x86_64
	Compiler: gcc 11.3.1 20220421

Fedora 38
	Kernel: Depends on container host
	Compiler: clang 16.0.3

Debian 12 (arm)
	Kernel: Container Host Kernel
	Compiler: gcc 11

Fedora 37
	Kernel: Depends on container host system
	Compiler: gcc 12.3.1

Ubuntu 22.04
	Kernel: 4.18.0-240.10.1.el8_3.x86_64
	Compiler: gcc 11.3.0

openSUSE Leap 15
	Kernel: 4.18.0-240.10.1.el8_3.x86_64
	Compiler: gcc 7.5.0

To view detailed results, visit:
https://lab.dpdk.org/results/dashboard/patchsets/29368/

UNH-IOL DPDK Community Lab

To manage your email subscriptions, visit: 
https://lab.dpdk.org/results/dashboard/preferences/subscriptions/