From mboxrd@z Thu Jan  1 00:00:00 1970
Return-Path: <test-report-bounces@dpdk.org>
Received: from mails.dpdk.org (mails.dpdk.org [217.70.189.124])
	by inbox.dpdk.org (Postfix) with ESMTP id 4CBA143BE4
	for <public@inbox.dpdk.org>; Fri,  1 Mar 2024 16:08:10 +0100 (CET)
Received: from mails.dpdk.org (localhost [127.0.0.1])
	by mails.dpdk.org (Postfix) with ESMTP id 4764942830;
	Fri,  1 Mar 2024 16:08:10 +0100 (CET)
Received: from mail-pf1-f228.google.com (mail-pf1-f228.google.com
 [209.85.210.228])
 by mails.dpdk.org (Postfix) with ESMTP id 0E903427D8
 for <test-report@dpdk.org>; Fri,  1 Mar 2024 16:08:09 +0100 (CET)
Received: by mail-pf1-f228.google.com with SMTP id
 d2e1a72fcca58-6e53f3f1f82so1515449b3a.2
 for <test-report@dpdk.org>; Fri, 01 Mar 2024 07:08:08 -0800 (PST)
DKIM-Signature: v=1; a=rsa-sha256; c=relaxed/relaxed;
 d=iol.unh.edu; s=unh-iol; t=1709305688; x=1709910488; darn=dpdk.org;
 h=references:in-reply-to:cc:to:from:subject:message-id:date:from:to
 :cc:subject:date:message-id:reply-to;
 bh=QyI6v8QJUx5K5C1Dcl1mo/eGgaKD0u/R2tmmnQKDf+Y=;
 b=fZ21Ie8y/zO1z/6tr+YOF52K8kmJVSx15iTotM7fkALMwZbPOWSTfJsDURjWjgtdXi
 bkGZpeF9/tROJho55Ww56QsVXRsLTm+NZn191upz9eS7YsEFZeC4mdh4gXwK9ptuyJLN
 Dy5iPG9aJRkBSZGvYOvoceZ3qlb+656koDHeg=
X-Google-DKIM-Signature: v=1; a=rsa-sha256; c=relaxed/relaxed;
 d=1e100.net; s=20230601; t=1709305688; x=1709910488;
 h=references:in-reply-to:cc:to:from:subject:message-id:date
 :x-gm-message-state:from:to:cc:subject:date:message-id:reply-to;
 bh=QyI6v8QJUx5K5C1Dcl1mo/eGgaKD0u/R2tmmnQKDf+Y=;
 b=LMDXem4PWAr3Ej0DV+TkLsKG/is+dvo84udg5KZI/FAqOvdBII+Xqb7dhkg/UiPu1a
 YdHDQU2MQZXZOqP/73zMe4oK2k5h4yHovSlgaqtujytk8U567ZNy4qUJ5z2czow/gRJs
 MeyJuo5JZn9PcfSkdKiCYw/FcXQgUz9RD/fc+rjRZNqfEj9NeWjDIZ224VLEX19gyg9c
 b9tonDBZ02jjopN/KB5C2JlWpE8Ltw3g6OEH9ZTMKuD+/kUyLngFzGq8DuYQWtRdN30B
 RQNBPxaH3ENHgocpPOHpgswV/hYBTaFYFX1c5a5sBxYERBpGyTmG1XsNFbhClt01gYeL
 5o9g==
X-Gm-Message-State: AOJu0YyfxQSKqGGUt7cjpPxA3OcJ5qg0EiiQQsUU0OPVLM/VVrGmuq2B
 lPMoJrNNI3Luga5jaee5tncS0dFIXSH0Qcuu/eb98NzEMg81pRgbcKeNDtegA++1ptcGSGdzczE
 F3UC1sKrd3l9AByZ3Ia4GtGDOuw2oLUOf8IR+SmCc
X-Google-Smtp-Source: AGHT+IEh/gGOscMzOpA5Vp/QIdkQ+Gukg4jSPGoXIzdZ1hEfblJrJJzxI6yPFauP31wMNB3Z1FD7hbNeY7hF
X-Received: by 2002:a05:6a00:9393:b0:6e4:8c89:3bf9 with SMTP id
 ka19-20020a056a00939300b006e48c893bf9mr2177955pfb.3.1709305688207; 
 Fri, 01 Mar 2024 07:08:08 -0800 (PST)
Received: from postal.iol.unh.edu (postal.iol.unh.edu. [132.177.123.84])
 by smtp-relay.gmail.com with ESMTPS id
 b4-20020a62cf04000000b006e564176ccbsm229747pfg.3.2024.03.01.07.08.08
 (version=TLS1_2 cipher=ECDHE-ECDSA-AES128-GCM-SHA256 bits=128/128);
 Fri, 01 Mar 2024 07:08:08 -0800 (PST)
X-Relaying-Domain: iol.unh.edu
Date: Fri, 01 Mar 2024 07:08:08 -0800 (PST)
Message-ID: <65e1ef58.620a0220.2e9f0.f483SMTPIN_ADDED_MISSING@mx.google.com>
Received: from [172.21.0.6] (unknown [172.18.0.240])
 by postal.iol.unh.edu (Postfix) with ESMTP id 743016052712;
 Fri,  1 Mar 2024 10:08:07 -0500 (EST)
Subject: |SUCCESS| pw137666-137672 [PATCH] [v4,7/7] dts: improve test suite a
From: dpdklab@iol.unh.edu
To: Test Report <test-report@dpdk.org>
Cc: dpdk-test-reports@iol.unh.edu
In-Reply-To: <20240301105522.79870-8-juraj.linkes@pantheon.tech>
References: <20240301105522.79870-8-juraj.linkes@pantheon.tech>
Content-Type: text/plain
X-BeenThere: test-report@dpdk.org
X-Mailman-Version: 2.1.29
Precedence: list
List-Id: automatic DPDK test reports <test-report.dpdk.org>
List-Unsubscribe: <https://mails.dpdk.org/options/test-report>,
 <mailto:test-report-request@dpdk.org?subject=unsubscribe>
List-Archive: <http://mails.dpdk.org/archives/test-report/>
List-Post: <mailto:test-report@dpdk.org>
List-Help: <mailto:test-report-request@dpdk.org?subject=help>
List-Subscribe: <https://mails.dpdk.org/listinfo/test-report>,
 <mailto:test-report-request@dpdk.org?subject=subscribe>
Errors-To: test-report-bounces@dpdk.org

Test-Label: iol-unit-amd64-testing
Test-Status: SUCCESS
http://dpdk.org/patch/137672

_Testing PASS_

Submitter: Juraj Linkes <juraj.linkes@pantheon.tech>
Date: Friday, March 01 2024 10:55:22 
DPDK git baseline: Repo:dpdk
  Branch: master
  CommitID:5df34de5808a7b826b8bc035d6ee3161a12be364

137666-137672 --> testing pass

Test environment and result as below:

+---------------------+----------------+
|     Environment     | dpdk_unit_test |
+=====================+================+
| Windows Server 2019 | PASS           |
+---------------------+----------------+
| Debian 12 (arm)     | PASS           |
+---------------------+----------------+
| CentOS Stream 9     | PASS           |
+---------------------+----------------+
| Debian Bullseye     | PASS           |
+---------------------+----------------+
| CentOS Stream 8     | PASS           |
+---------------------+----------------+
| Fedora 38           | PASS           |
+---------------------+----------------+
| Fedora 37           | PASS           |
+---------------------+----------------+
| openSUSE Leap 15    | PASS           |
+---------------------+----------------+
| Ubuntu 22.04        | PASS           |
+---------------------+----------------+
| Ubuntu 20.04        | PASS           |
+---------------------+----------------+
| RHEL8               | PASS           |
+---------------------+----------------+


Windows Server 2019
	Kernel: 10.0
	Compiler: clang 14.0 and gcc 8.1.0 (MinGW)

Debian 12 (arm)
	Kernel: Container Host Kernel
	Compiler: gcc 11

CentOS Stream 9
	Kernel: 4.18.0-240.10.1.el8_3.x86_64
	Compiler: gcc 11.3.1 20220421

Debian Bullseye
	Kernel: 5.4.0-122-generic
	Compiler: gcc 10.2.1-6

CentOS Stream 8
	Kernel: 4.18.0-240.10.1.el8_3.x86_64
	Compiler: gcc 8.4.1 20200928

Fedora 38
	Kernel: Depends on container host
	Compiler: gcc 13.1.1

Fedora 37
	Kernel: Depends on container host system
	Compiler: gcc 12.3.1

openSUSE Leap 15
	Kernel: 4.18.0-240.10.1.el8_3.x86_64
	Compiler: gcc 7.5.0

Ubuntu 22.04
	Kernel: 4.18.0-240.10.1.el8_3.x86_64
	Compiler: gcc 11.3.0

Ubuntu 20.04
	Kernel: 5.4.0-153-generic
	Compiler: gcc 9.4.0-1ubuntu1~20.04.1

RHEL8
	Kernel: 4.18.0-240.10.1.el8_3.x86_64
	Compiler: gcc 8.3.1 20191121 (Red Hat 8.3.1-5)

To view detailed results, visit:
https://lab.dpdk.org/results/dashboard/patchsets/29369/

UNH-IOL DPDK Community Lab

To manage your email subscriptions, visit: 
https://lab.dpdk.org/results/dashboard/preferences/subscriptions/