From mboxrd@z Thu Jan  1 00:00:00 1970
Return-Path: <test-report-bounces@dpdk.org>
Received: from mails.dpdk.org (mails.dpdk.org [217.70.189.124])
	by inbox.dpdk.org (Postfix) with ESMTP id 9BBB943BEB
	for <public@inbox.dpdk.org>; Fri,  1 Mar 2024 16:14:40 +0100 (CET)
Received: from mails.dpdk.org (localhost [127.0.0.1])
	by mails.dpdk.org (Postfix) with ESMTP id 7129442830;
	Fri,  1 Mar 2024 16:14:40 +0100 (CET)
Received: from mail-oo1-f97.google.com (mail-oo1-f97.google.com
 [209.85.161.97]) by mails.dpdk.org (Postfix) with ESMTP id BEB6A427D8
 for <test-report@dpdk.org>; Fri,  1 Mar 2024 16:14:39 +0100 (CET)
Received: by mail-oo1-f97.google.com with SMTP id
 006d021491bc7-595b3644acbso1527262eaf.1
 for <test-report@dpdk.org>; Fri, 01 Mar 2024 07:14:39 -0800 (PST)
DKIM-Signature: v=1; a=rsa-sha256; c=relaxed/relaxed;
 d=iol.unh.edu; s=unh-iol; t=1709306079; x=1709910879; darn=dpdk.org;
 h=references:in-reply-to:cc:to:from:subject:message-id:date:from:to
 :cc:subject:date:message-id:reply-to;
 bh=LkIhvIBNAaXgJ9n9LSqUqbIOhJ0hIWBOXRVtL2QjyzQ=;
 b=ex3IpoWYkkX+LdBb5koP1aZIqxk6dNrMZL2Nq8FsJ+B0PpZB8kROB+feRss5x/OeDg
 3QLhQLANi2Z5PkU0kBzIzaerG628rfyagWPh3HrjC2bAUwhysqx02h6yuliS9PCuk0F0
 TtsBlpHA/hyCURFgnjnMckEBqRk99zvJJb1SA=
X-Google-DKIM-Signature: v=1; a=rsa-sha256; c=relaxed/relaxed;
 d=1e100.net; s=20230601; t=1709306079; x=1709910879;
 h=references:in-reply-to:cc:to:from:subject:message-id:date
 :x-gm-message-state:from:to:cc:subject:date:message-id:reply-to;
 bh=LkIhvIBNAaXgJ9n9LSqUqbIOhJ0hIWBOXRVtL2QjyzQ=;
 b=ixOmUzX6Ydw63NN+1G5uFWPBZf5Niq1aSTleEsg9r7pacaaEDbhCzTwzyOW3K3LrLM
 4k6EZ+x14oy0PppuYTnip6AcoiKKuTMbbKWjRWEWG3vAAHPgd/+cBkEEHJlVKSm+Zbp9
 fxABJD6EmSAeiIWDbQDZX2y/0FfnbQ6VYMIYDs6fFmWP4Pj97r0w5Ko5EMdyKOJ3Bro5
 E0SvlbfZ8ZbiMVNmiIx2At6VZmTV+5Cbu6MbaP0Xrhge4fdPtD23tEtRaVrBYQf5u3GE
 vkh6gwCnda3bQ+tH8UqX6BIV0V2gtXep5oNMeAhXW5sl+eFJL+5/bavDKEY0mfwM875X
 NgqQ==
X-Gm-Message-State: AOJu0Yx5doPRFWfx7FgH2kvqc13zubGKAF8BKw2kSIu/51Kd4OU0brjy
 kMoEaohAM2gfl3l9DjJeo3YyEM3B28IXfsTalfUN5NER0CnCK0rtmcoL3u+vQjhPJGBI7MPkoEG
 JwhGfP+5d8sl5QHPI2bWD0yAfn2oEzAeY/YriNt7L
X-Google-Smtp-Source: AGHT+IGr6/3wSrlzyyDZetEZHs/oPIfVGAHCcHAK5dD1kMPSXJx9vBM1UXvfMikSMjHfnK6WO5IKD3Xh0Pyd
X-Received: by 2002:a05:6871:5c4e:b0:21e:7d4a:aa67 with SMTP id
 os14-20020a0568715c4e00b0021e7d4aaa67mr896870oac.21.1709306078880; 
 Fri, 01 Mar 2024 07:14:38 -0800 (PST)
Received: from postal.iol.unh.edu (postal.iol.unh.edu. [132.177.123.84])
 by smtp-relay.gmail.com with ESMTPS id
 zv6-20020a0568714f8600b00218ec3c0be6sm115271oab.23.2024.03.01.07.14.38
 (version=TLS1_2 cipher=ECDHE-ECDSA-AES128-GCM-SHA256 bits=128/128);
 Fri, 01 Mar 2024 07:14:38 -0800 (PST)
X-Relaying-Domain: iol.unh.edu
Date: Fri, 01 Mar 2024 07:14:38 -0800 (PST)
Message-ID: <65e1f0de.050a0220.b423e.78e0SMTPIN_ADDED_MISSING@mx.google.com>
Received: from [172.21.0.6] (unknown [172.18.0.240])
 by postal.iol.unh.edu (Postfix) with ESMTP id 5813E6052712;
 Fri,  1 Mar 2024 10:14:38 -0500 (EST)
Subject: |SUCCESS| pw137666-137672 [PATCH] [v4,7/7] dts: improve test suite a
From: dpdklab@iol.unh.edu
To: Test Report <test-report@dpdk.org>
Cc: dpdk-test-reports@iol.unh.edu
In-Reply-To: <20240301105522.79870-8-juraj.linkes@pantheon.tech>
References: <20240301105522.79870-8-juraj.linkes@pantheon.tech>
Content-Type: text/plain
X-BeenThere: test-report@dpdk.org
X-Mailman-Version: 2.1.29
Precedence: list
List-Id: automatic DPDK test reports <test-report.dpdk.org>
List-Unsubscribe: <https://mails.dpdk.org/options/test-report>,
 <mailto:test-report-request@dpdk.org?subject=unsubscribe>
List-Archive: <http://mails.dpdk.org/archives/test-report/>
List-Post: <mailto:test-report@dpdk.org>
List-Help: <mailto:test-report-request@dpdk.org?subject=help>
List-Subscribe: <https://mails.dpdk.org/listinfo/test-report>,
 <mailto:test-report-request@dpdk.org?subject=subscribe>
Errors-To: test-report-bounces@dpdk.org

Test-Label: iol-compile-amd64-testing
Test-Status: SUCCESS
http://dpdk.org/patch/137672

_Testing PASS_

Submitter: Juraj Linkes <juraj.linkes@pantheon.tech>
Date: Friday, March 01 2024 10:55:22 
DPDK git baseline: Repo:dpdk
  Branch: master
  CommitID:5df34de5808a7b826b8bc035d6ee3161a12be364

137666-137672 --> testing pass

Test environment and result as below:

+---------------------+--------------------+----------------------+
|     Environment     | dpdk_meson_compile | dpdk_mingw64_compile |
+=====================+====================+======================+
| FreeBSD 13.2        | PASS               | SKIPPED              |
+---------------------+--------------------+----------------------+
| Windows Server 2022 | PASS               | SKIPPED              |
+---------------------+--------------------+----------------------+
| Windows Server 2019 | PASS               | PASS                 |
+---------------------+--------------------+----------------------+
| Fedora 38           | PASS               | SKIPPED              |
+---------------------+--------------------+----------------------+
| Fedora 37           | PASS               | SKIPPED              |
+---------------------+--------------------+----------------------+
| RHEL8               | PASS               | SKIPPED              |
+---------------------+--------------------+----------------------+
| CentOS Stream 9     | PASS               | SKIPPED              |
+---------------------+--------------------+----------------------+
| CentOS Stream 8     | PASS               | SKIPPED              |
+---------------------+--------------------+----------------------+
| Ubuntu 20.04        | PASS               | SKIPPED              |
+---------------------+--------------------+----------------------+
| openSUSE Leap 15    | PASS               | SKIPPED              |
+---------------------+--------------------+----------------------+
| Debian 12 (arm)     | PASS               | SKIPPED              |
+---------------------+--------------------+----------------------+
| Ubuntu 22.04        | PASS               | SKIPPED              |
+---------------------+--------------------+----------------------+
| Alpine              | PASS               | SKIPPED              |
+---------------------+--------------------+----------------------+
| Debian Bullseye     | PASS               | SKIPPED              |
+---------------------+--------------------+----------------------+


FreeBSD 13.2
	Kernel: 13.2
	Compiler: clang 11.3.0

Windows Server 2022
	Kernel: OS Build 20348.2031
	Compiler: MSVC VS-Preview

Windows Server 2019
	Kernel: 10.0
	Compiler: clang 14.0 and gcc 8.1.0 (MinGW)

Fedora 38
	Kernel: Depends on container host
	Compiler: gcc 13.1.1

Fedora 37
	Kernel: Depends on container host system
	Compiler: gcc 12.3.1

RHEL8
	Kernel: 4.18.0-240.10.1.el8_3.x86_64
	Compiler: gcc 8.3.1 20191121 (Red Hat 8.3.1-5)

CentOS Stream 9
	Kernel: 4.18.0-240.10.1.el8_3.x86_64
	Compiler: gcc 11.3.1 20220421

CentOS Stream 8
	Kernel: 4.18.0-240.10.1.el8_3.x86_64
	Compiler: gcc 8.4.1 20200928

Ubuntu 20.04
	Kernel: 5.4.0-153-generic
	Compiler: gcc 9.4.0-1ubuntu1~20.04.1

openSUSE Leap 15
	Kernel: 4.18.0-240.10.1.el8_3.x86_64
	Compiler: gcc 7.5.0

Debian 12 (arm)
	Kernel: Container Host Kernel
	Compiler: gcc 11

Ubuntu 22.04
	Kernel: 4.18.0-240.10.1.el8_3.x86_64
	Compiler: gcc 11.3.0

Alpine
	Kernel: 5.4.0-73-generic
	Compiler: gcc (Alpine 10.3.1_git20210424) 10.3.1 20210424

Debian Bullseye
	Kernel: 5.4.0-122-generic
	Compiler: gcc 10.2.1-6

To view detailed results, visit:
https://lab.dpdk.org/results/dashboard/patchsets/29369/

UNH-IOL DPDK Community Lab

To manage your email subscriptions, visit: 
https://lab.dpdk.org/results/dashboard/preferences/subscriptions/