From mboxrd@z Thu Jan  1 00:00:00 1970
Return-Path: <test-report-bounces@dpdk.org>
Received: from mails.dpdk.org (mails.dpdk.org [217.70.189.124])
	by inbox.dpdk.org (Postfix) with ESMTP id D8D0C43C0C
	for <public@inbox.dpdk.org>; Fri,  1 Mar 2024 16:21:59 +0100 (CET)
Received: from mails.dpdk.org (localhost [127.0.0.1])
	by mails.dpdk.org (Postfix) with ESMTP id D426443521;
	Fri,  1 Mar 2024 16:21:59 +0100 (CET)
Received: from mail-yw1-f226.google.com (mail-yw1-f226.google.com
 [209.85.128.226])
 by mails.dpdk.org (Postfix) with ESMTP id 8048642830
 for <test-report@dpdk.org>; Fri,  1 Mar 2024 16:21:58 +0100 (CET)
Received: by mail-yw1-f226.google.com with SMTP id
 00721157ae682-60982a6d8a7so8934687b3.0
 for <test-report@dpdk.org>; Fri, 01 Mar 2024 07:21:58 -0800 (PST)
DKIM-Signature: v=1; a=rsa-sha256; c=relaxed/relaxed;
 d=iol.unh.edu; s=unh-iol; t=1709306518; x=1709911318; darn=dpdk.org;
 h=references:in-reply-to:cc:to:from:subject:message-id:date:from:to
 :cc:subject:date:message-id:reply-to;
 bh=jyAiqtEEUOomptjKRUv99bzdKW+u2LrTNaUi+wWBxtU=;
 b=UKT0FP0zGz5PjfYjp7TGu9Ow2fPu3lBC5v0EnZw3Vcl22m8YQlKD889/Zc+GYEC1NJ
 yAPtmFTK3qQ11dmpeqKgq/NJUQgkiOMv1VoMR5AZyX3Br3F7tKMxyxISqzUeCuWZCPod
 xjOlrMW+zRLgPYOY5zl8VOCv9V0VLVISA1DBo=
X-Google-DKIM-Signature: v=1; a=rsa-sha256; c=relaxed/relaxed;
 d=1e100.net; s=20230601; t=1709306518; x=1709911318;
 h=references:in-reply-to:cc:to:from:subject:message-id:date
 :x-gm-message-state:from:to:cc:subject:date:message-id:reply-to;
 bh=jyAiqtEEUOomptjKRUv99bzdKW+u2LrTNaUi+wWBxtU=;
 b=q10DS5MPi8tdHwRCWwdH6nB1lew4y/3eN5NVYc8tHN5CQgRGST+EKPl+bAi2KA1Zqp
 IWnYkCs/echWzvH1uajw2+675+f4qInGnm4OBpQyfKn9Cz85XuMnhE93hw60RnNQxlsK
 R25o2swxMwl8w94qUbwVhSAj/eLMAI+408uLPrOy0Qf++MH8NDp8yOkB24hAnMWqno1t
 mFy0X7WFObmL4J6NOOX+7I62J34nn+9asQO6qNfpS0EBAsgcUrCV6vDk12c1kZ34zr0D
 cRQz5ZZyESSIBCTjYU8Gj1Phk17cnrkGzsaFsyi37GvVd7LQKxCivCngvH1pkVCLCRwf
 6o5Q==
X-Gm-Message-State: AOJu0YzbtyyRRWzIIjzuxxCw8qMfnFEhUwa//gpHXdV4c9wqGhd4+Bi0
 yWXNwKZH6LGyOqyk+f2Vif9xLJOjizjmRUpJGxTk/URzwJqwhSL0rn77aJhxxdbi3fCV1l8quno
 RXXdoUnwFzeAwMo5Hl5HwOI1GXeNdS1+/vwGZxH6r
X-Google-Smtp-Source: AGHT+IFmBjIvPZvbmPzbxJrjGmCBfeJaI2U/0ThDKokmh17OOHG2JlP8+dBSPPnXuMCQXGSMix8EQfX2DmoK
X-Received: by 2002:a81:844b:0:b0:609:81dd:f387 with SMTP id
 u72-20020a81844b000000b0060981ddf387mr1820852ywf.25.1709306517904; 
 Fri, 01 Mar 2024 07:21:57 -0800 (PST)
Received: from postal.iol.unh.edu (postal.iol.unh.edu. [132.177.123.84])
 by smtp-relay.gmail.com with ESMTPS id
 g188-20020a0dddc5000000b006097e996ce4sm111097ywe.34.2024.03.01.07.21.57
 (version=TLS1_2 cipher=ECDHE-ECDSA-AES128-GCM-SHA256 bits=128/128);
 Fri, 01 Mar 2024 07:21:57 -0800 (PST)
X-Relaying-Domain: iol.unh.edu
Date: Fri, 01 Mar 2024 07:21:57 -0800 (PST)
Message-ID: <65e1f295.0d0a0220.5b908.7662SMTPIN_ADDED_MISSING@mx.google.com>
Received: from [172.21.0.6] (unknown [172.18.0.240])
 by postal.iol.unh.edu (Postfix) with ESMTP id 83CC56052712;
 Fri,  1 Mar 2024 10:21:57 -0500 (EST)
Subject: |SUCCESS| pw137661 [PATCH] [v3] net/ice: add diagnostic support in T
From: dpdklab@iol.unh.edu
To: Test Report <test-report@dpdk.org>
Cc: dpdk-test-reports@iol.unh.edu
In-Reply-To: <20240301095052.460597-1-mingjinx.ye@intel.com>
References: <20240301095052.460597-1-mingjinx.ye@intel.com>
Content-Type: text/plain
X-BeenThere: test-report@dpdk.org
X-Mailman-Version: 2.1.29
Precedence: list
List-Id: automatic DPDK test reports <test-report.dpdk.org>
List-Unsubscribe: <https://mails.dpdk.org/options/test-report>,
 <mailto:test-report-request@dpdk.org?subject=unsubscribe>
List-Archive: <http://mails.dpdk.org/archives/test-report/>
List-Post: <mailto:test-report@dpdk.org>
List-Help: <mailto:test-report-request@dpdk.org?subject=help>
List-Subscribe: <https://mails.dpdk.org/listinfo/test-report>,
 <mailto:test-report-request@dpdk.org?subject=subscribe>
Errors-To: test-report-bounces@dpdk.org

Test-Label: iol-abi-testing
Test-Status: SUCCESS
http://dpdk.org/patch/137661

_Testing PASS_

Submitter: Mingjin Ye <mingjinx.ye@intel.com>
Date: Friday, March 01 2024 09:50:51 
DPDK git baseline: Repo:dpdk
  Branch: master
  CommitID:3408b132b31906fe1ed28d6b2009b98202e1cff0

137661 --> testing pass

Test environment and result as below:

+------------------+----------+
|   Environment    | abi_test |
+==================+==========+
| Debian Bullseye  | PASS     |
+------------------+----------+
| CentOS Stream 9  | PASS     |
+------------------+----------+
| Fedora 38        | PASS     |
+------------------+----------+
| RHEL8            | PASS     |
+------------------+----------+
| openSUSE Leap 15 | PASS     |
+------------------+----------+
| Fedora 37        | PASS     |
+------------------+----------+
| Ubuntu 22.04     | PASS     |
+------------------+----------+
| CentOS Stream 8  | PASS     |
+------------------+----------+
| Debian 12 (arm)  | PASS     |
+------------------+----------+


Debian Bullseye
	Kernel: 5.4.0-122-generic
	Compiler: gcc 10.2.1-6

CentOS Stream 9
	Kernel: 4.18.0-240.10.1.el8_3.x86_64
	Compiler: gcc 11.3.1 20220421

Fedora 38
	Kernel: Depends on container host
	Compiler: clang 16.0.3

RHEL8
	Kernel: 4.18.0-240.10.1.el8_3.x86_64
	Compiler: gcc 8.3.1 20191121 (Red Hat 8.3.1-5)

openSUSE Leap 15
	Kernel: 4.18.0-240.10.1.el8_3.x86_64
	Compiler: gcc 7.5.0

Fedora 37
	Kernel: Depends on container host system
	Compiler: gcc 12.3.1

Ubuntu 22.04
	Kernel: 4.18.0-240.10.1.el8_3.x86_64
	Compiler: gcc 11.3.0

CentOS Stream 8
	Kernel: 4.18.0-240.10.1.el8_3.x86_64
	Compiler: gcc 8.4.1 20200928

Debian 12 (arm)
	Kernel: Container Host Kernel
	Compiler: gcc 11

To view detailed results, visit:
https://lab.dpdk.org/results/dashboard/patchsets/29367/

UNH-IOL DPDK Community Lab

To manage your email subscriptions, visit: 
https://lab.dpdk.org/results/dashboard/preferences/subscriptions/