From mboxrd@z Thu Jan  1 00:00:00 1970
Return-Path: <test-report-bounces@dpdk.org>
Received: from mails.dpdk.org (mails.dpdk.org [217.70.189.124])
	by inbox.dpdk.org (Postfix) with ESMTP id 6DDAB43C0C
	for <public@inbox.dpdk.org>; Fri,  1 Mar 2024 16:27:45 +0100 (CET)
Received: from mails.dpdk.org (localhost [127.0.0.1])
	by mails.dpdk.org (Postfix) with ESMTP id 6607A42830;
	Fri,  1 Mar 2024 16:27:45 +0100 (CET)
Received: from mail-oo1-f98.google.com (mail-oo1-f98.google.com
 [209.85.161.98]) by mails.dpdk.org (Postfix) with ESMTP id 74624427D8
 for <test-report@dpdk.org>; Fri,  1 Mar 2024 16:27:44 +0100 (CET)
Received: by mail-oo1-f98.google.com with SMTP id
 006d021491bc7-5a0e5f08440so1144044eaf.2
 for <test-report@dpdk.org>; Fri, 01 Mar 2024 07:27:44 -0800 (PST)
DKIM-Signature: v=1; a=rsa-sha256; c=relaxed/relaxed;
 d=iol.unh.edu; s=unh-iol; t=1709306864; x=1709911664; darn=dpdk.org;
 h=references:in-reply-to:cc:to:from:subject:message-id:date:from:to
 :cc:subject:date:message-id:reply-to;
 bh=U34b0z+h6Xj5ap/8XVK8DNPe5AQyInRS8IWJfMk/PdQ=;
 b=IH5VHIgGFXEldlJuoCJEEj1ZGmmZS2y1RxEbYKWAhAxK8Z7rZnMGWosMDu1rGFwo0u
 tTafIeNpCL8x+xUkFkgyVJZv0KQ7Lw9opYXHjpD45ohBINEF4YsvqnyOsLTfJNIt+kFB
 BIv0j3+Yag1zwNRkKG7J1PkY1hh+J+PnVwfGI=
X-Google-DKIM-Signature: v=1; a=rsa-sha256; c=relaxed/relaxed;
 d=1e100.net; s=20230601; t=1709306864; x=1709911664;
 h=references:in-reply-to:cc:to:from:subject:message-id:date
 :x-gm-message-state:from:to:cc:subject:date:message-id:reply-to;
 bh=U34b0z+h6Xj5ap/8XVK8DNPe5AQyInRS8IWJfMk/PdQ=;
 b=uJtvkzdp6YK/HHj4O58vEH1+ZCqZb+avUkOwgIeqoZKdDWkRQWIEtn+e2es1+kL2Y2
 yU+KiF2AoBuVKo2IBAhd0/JvrJaThRNy/7+kV4VTVRqkHxFfGuiZCpbKmA0nqt6aLA9g
 eNxeTKtZij60g4PR+QGHXZeRcpwXGUXAhSXv6m8LRwWzCSTIoNey8ekADgNcxDi7E//M
 diCTNhtp2Ye3Jq7PXsug0kOEXx0K9x3cJUP3JERvqvsmvUQGIaF3xBtT6znAV9cszizV
 CQCkHHN6yypAzHdUxCd3klRRK3bNfN73t7vT6z+6zlq1NrBNLzh4j0jXRBHjfRvYxmXn
 rMCg==
X-Gm-Message-State: AOJu0Yz8Jk/gdWjIvtkl5BcGhaqGKvZb0IVGJsdUIdfw3nP44RkBbDov
 XNvNOKxM1KpE2b2mzK/6bN8jaJ4WtHfZT3zcY1P4lFJrdONAP9A7VvxYxRpPWFTnnWrGDa07NeQ
 dKZaarsgjl1IPZ99LgzKnlR2zC8VnbQQyRhPKxJWykXg26btoKXc53NYy
X-Google-Smtp-Source: AGHT+IF8dvLCIFofWSA3SIyIPr2nuMC0xYYHLY1hZqRxTo+enVsVBJCi0aj5i0KA+UqbC3Wb8kBLKGbF+2zg
X-Received: by 2002:a4a:6201:0:b0:5a0:b781:fddd with SMTP id
 x1-20020a4a6201000000b005a0b781fdddmr1799415ooc.8.1709306863819; 
 Fri, 01 Mar 2024 07:27:43 -0800 (PST)
Received: from postal.iol.unh.edu (postal.iol.unh.edu.
 [2606:4100:3880:1234::84]) by smtp-relay.gmail.com with ESMTPS id
 6-20020a4a1406000000b005a0577977casm194229ood.28.2024.03.01.07.27.43
 (version=TLS1_2 cipher=ECDHE-ECDSA-AES128-GCM-SHA256 bits=128/128);
 Fri, 01 Mar 2024 07:27:43 -0800 (PST)
X-Relaying-Domain: iol.unh.edu
Date: Fri, 01 Mar 2024 07:27:43 -0800 (PST)
Message-ID: <65e1f3ef.4a0a0220.2af99.c9b1SMTPIN_ADDED_MISSING@mx.google.com>
Received: from [172.21.0.6] (unknown [172.18.0.240])
 by postal.iol.unh.edu (Postfix) with ESMTP id 561206052712;
 Fri,  1 Mar 2024 10:27:43 -0500 (EST)
Subject: |SUCCESS| pw137666-137672 [PATCH] [v4,7/7] dts: improve test suite a
From: dpdklab@iol.unh.edu
To: Test Report <test-report@dpdk.org>
Cc: dpdk-test-reports@iol.unh.edu
In-Reply-To: <20240301105522.79870-8-juraj.linkes@pantheon.tech>
References: <20240301105522.79870-8-juraj.linkes@pantheon.tech>
Content-Type: text/plain
X-BeenThere: test-report@dpdk.org
X-Mailman-Version: 2.1.29
Precedence: list
List-Id: automatic DPDK test reports <test-report.dpdk.org>
List-Unsubscribe: <https://mails.dpdk.org/options/test-report>,
 <mailto:test-report-request@dpdk.org?subject=unsubscribe>
List-Archive: <http://mails.dpdk.org/archives/test-report/>
List-Post: <mailto:test-report@dpdk.org>
List-Help: <mailto:test-report-request@dpdk.org?subject=help>
List-Subscribe: <https://mails.dpdk.org/listinfo/test-report>,
 <mailto:test-report-request@dpdk.org?subject=subscribe>
Errors-To: test-report-bounces@dpdk.org

Test-Label: iol-compile-arm64-testing
Test-Status: SUCCESS
http://dpdk.org/patch/137672

_Testing PASS_

Submitter: Juraj Linkes <juraj.linkes@pantheon.tech>
Date: Friday, March 01 2024 10:55:22 
DPDK git baseline: Repo:dpdk
  Branch: master
  CommitID:5df34de5808a7b826b8bc035d6ee3161a12be364

137666-137672 --> testing pass

Test environment and result as below:

+----------------------------------------+--------------------+
|              Environment               | dpdk_meson_compile |
+========================================+====================+
| Ubuntu 20.04 ARM SVE                   | PASS               |
+----------------------------------------+--------------------+
| Ubuntu 20.04 (ARM)                     | PASS               |
+----------------------------------------+--------------------+
| Fedora 38 (ARM)                        | PASS               |
+----------------------------------------+--------------------+
| Fedora 37 (ARM)                        | PASS               |
+----------------------------------------+--------------------+
| Debian 12 (arm)                        | PASS               |
+----------------------------------------+--------------------+
| Ubuntu 20.04 aarch32 GCC Cross Compile | PASS               |
+----------------------------------------+--------------------+
| Ubuntu 20.04 ARM Clang Cross Compile   | PASS               |
+----------------------------------------+--------------------+
| Ubuntu 20.04 ARM GCC Cross Compile     | PASS               |
+----------------------------------------+--------------------+
| Debian 11 (Buster) (ARM)               | PASS               |
+----------------------------------------+--------------------+
| CentOS Stream 9 (ARM)                  | PASS               |
+----------------------------------------+--------------------+


Ubuntu 20.04 ARM SVE
	Kernel: 5.4.0-80-generic
	Compiler: gcc 10.3.0 (Ubuntu 10.3.0-1ubuntu1~20.04)

Ubuntu 20.04 (ARM)
	Kernel: Container Host Kernel
	Compiler: gcc 9.4.0

Fedora 38 (ARM)
	Kernel: Depends on container host
	Compiler: gcc 13.1.1

Fedora 37 (ARM)
	Kernel: Depends on container host
	Compiler: gcc 12.3.1

Debian 12 (arm)
	Kernel: Container Host Kernel
	Compiler: gcc 11

Ubuntu 20.04 aarch32 GCC Cross Compile
	Kernel: 5.4.0-72-generic
	Compiler: gcc 9.3.0

Ubuntu 20.04 ARM Clang Cross Compile
	Kernel: 5.4.0-72-generic
	Compiler: clang version 10.0.0-4ubuntu1

Ubuntu 20.04 ARM GCC Cross Compile
	Kernel: 5.4.0-72-generic
	Compiler: aarch64-linux-gnu-gcc (Ubuntu 9.3.0-17ubuntu1~20.04) 9.3.0

Debian 11 (Buster) (ARM)
	Kernel: Container Host Kernel
	Compiler: gcc 10.2.1

CentOS Stream 9 (ARM)
	Kernel: Container Host Kernel
	Compiler: gcc 11.3.1

To view detailed results, visit:
https://lab.dpdk.org/results/dashboard/patchsets/29369/

UNH-IOL DPDK Community Lab

To manage your email subscriptions, visit: 
https://lab.dpdk.org/results/dashboard/preferences/subscriptions/