From mboxrd@z Thu Jan  1 00:00:00 1970
Return-Path: <test-report-bounces@dpdk.org>
Received: from mails.dpdk.org (mails.dpdk.org [217.70.189.124])
	by inbox.dpdk.org (Postfix) with ESMTP id 00D0D43C0C
	for <public@inbox.dpdk.org>; Fri,  1 Mar 2024 16:47:19 +0100 (CET)
Received: from mails.dpdk.org (localhost [127.0.0.1])
	by mails.dpdk.org (Postfix) with ESMTP id EFC7342DB1;
	Fri,  1 Mar 2024 16:47:18 +0100 (CET)
Received: from mail-vk1-f226.google.com (mail-vk1-f226.google.com
 [209.85.221.226])
 by mails.dpdk.org (Postfix) with ESMTP id 1FDFD42830
 for <test-report@dpdk.org>; Fri,  1 Mar 2024 16:47:18 +0100 (CET)
Received: by mail-vk1-f226.google.com with SMTP id
 71dfb90a1353d-4d346e4242fso774625e0c.3
 for <test-report@dpdk.org>; Fri, 01 Mar 2024 07:47:18 -0800 (PST)
DKIM-Signature: v=1; a=rsa-sha256; c=relaxed/relaxed;
 d=iol.unh.edu; s=unh-iol; t=1709308037; x=1709912837; darn=dpdk.org;
 h=references:in-reply-to:cc:to:from:subject:message-id:date:from:to
 :cc:subject:date:message-id:reply-to;
 bh=jyAiqtEEUOomptjKRUv99bzdKW+u2LrTNaUi+wWBxtU=;
 b=CuRGG1yijB6DZSFXNw/ZcecM2fjlvG4lSGfE85FFdbaetAjIakCV3nvc3lsdmbtkmZ
 05H7O5yq09ThYA36zZmrmwInW+YpsgMcLg6MhociW49467DVWvwtaI6miiUab5yVnvCt
 RPz5ybCrX7k3hqKQariIaWXQZ4wBO80L0ti58=
X-Google-DKIM-Signature: v=1; a=rsa-sha256; c=relaxed/relaxed;
 d=1e100.net; s=20230601; t=1709308037; x=1709912837;
 h=references:in-reply-to:cc:to:from:subject:message-id:date
 :x-gm-message-state:from:to:cc:subject:date:message-id:reply-to;
 bh=jyAiqtEEUOomptjKRUv99bzdKW+u2LrTNaUi+wWBxtU=;
 b=nmkhSRJa6PINLpRGOEHafGmhtEEso3WIl9EAL5uzqmAtBMIxTRkSIBNwJQ3VBW4ElI
 YJVwnWliqdhNVJkDNLCTYwWgorrSaLRRuJEFU0ExeTweOW7GFNgcFRe5whO3YfEjS3Bf
 GmS7tSIqUshyLaXUPM4QdXeDqb1MadNG76EGYdMrEo3T43zCl33UAyHUireuFca2Npwc
 ZxuXKMCrhMOGQ8MPm7bhR+p0VK9czL2X3wo+LLz7wpmmgkYpgkZ9RFDzBXdc6qE17BAa
 y43g6E2Ag9c7HCTfVA9rD47AUoK6S4Fyy8tsJn5zH8pcsShMpGqwhoQ3R1XQvNU+fwMu
 owcQ==
X-Gm-Message-State: AOJu0Yzd4p9p0mU/8yt5AC/HuUD2ShournRP3gCaxx3sooFNgZBsM4kh
 jso7NSzazsgM2KRgbnhFadl+m46Q/91+swknCMCp1iYlLtNJjonQ6eWLq7fwPMF2cvrmGkxMCbx
 wO/O5QkhLJBoz2zmHscpNoZohaNuhPfGwvCv6KEDQ
X-Google-Smtp-Source: AGHT+IFWZm3sAHrnRxUgBIE60upGdIzVhx5PMN6PxJzNfTi8cp9H0L1JFHWgvoUhu7H3o/57CJvXUmwctfDS
X-Received: by 2002:a05:6122:2685:b0:4d3:313b:902a with SMTP id
 eh5-20020a056122268500b004d3313b902amr1907793vkb.12.1709308037504; 
 Fri, 01 Mar 2024 07:47:17 -0800 (PST)
Received: from postal.iol.unh.edu (postal.iol.unh.edu. [132.177.123.84])
 by smtp-relay.gmail.com with ESMTPS id
 cm19-20020a056122421300b004b74b27053dsm156601vkb.6.2024.03.01.07.47.16
 (version=TLS1_2 cipher=ECDHE-ECDSA-AES128-GCM-SHA256 bits=128/128);
 Fri, 01 Mar 2024 07:47:17 -0800 (PST)
X-Relaying-Domain: iol.unh.edu
Date: Fri, 01 Mar 2024 07:47:17 -0800 (PST)
Message-ID: <65e1f885.050a0220.e0342.9c74SMTPIN_ADDED_MISSING@mx.google.com>
Received: from [172.21.0.7] (unknown [172.18.0.240])
 by postal.iol.unh.edu (Postfix) with ESMTP id 8DA006052712;
 Fri,  1 Mar 2024 10:47:16 -0500 (EST)
Subject: |SUCCESS| pw137661 [PATCH] [v3] net/ice: add diagnostic support in T
From: dpdklab@iol.unh.edu
To: Test Report <test-report@dpdk.org>
Cc: dpdk-test-reports@iol.unh.edu
In-Reply-To: <20240301095052.460597-1-mingjinx.ye@intel.com>
References: <20240301095052.460597-1-mingjinx.ye@intel.com>
Content-Type: text/plain
X-BeenThere: test-report@dpdk.org
X-Mailman-Version: 2.1.29
Precedence: list
List-Id: automatic DPDK test reports <test-report.dpdk.org>
List-Unsubscribe: <https://mails.dpdk.org/options/test-report>,
 <mailto:test-report-request@dpdk.org?subject=unsubscribe>
List-Archive: <http://mails.dpdk.org/archives/test-report/>
List-Post: <mailto:test-report@dpdk.org>
List-Help: <mailto:test-report-request@dpdk.org?subject=help>
List-Subscribe: <https://mails.dpdk.org/listinfo/test-report>,
 <mailto:test-report-request@dpdk.org?subject=subscribe>
Errors-To: test-report-bounces@dpdk.org

Test-Label: iol-abi-testing
Test-Status: SUCCESS
http://dpdk.org/patch/137661

_Testing PASS_

Submitter: Mingjin Ye <mingjinx.ye@intel.com>
Date: Friday, March 01 2024 09:50:51 
DPDK git baseline: Repo:dpdk
  Branch: master
  CommitID:3408b132b31906fe1ed28d6b2009b98202e1cff0

137661 --> testing pass

Test environment and result as below:

+------------------+----------+
|   Environment    | abi_test |
+==================+==========+
| Debian Bullseye  | PASS     |
+------------------+----------+
| CentOS Stream 9  | PASS     |
+------------------+----------+
| Fedora 38        | PASS     |
+------------------+----------+
| RHEL8            | PASS     |
+------------------+----------+
| openSUSE Leap 15 | PASS     |
+------------------+----------+
| Fedora 37        | PASS     |
+------------------+----------+
| Ubuntu 22.04     | PASS     |
+------------------+----------+
| CentOS Stream 8  | PASS     |
+------------------+----------+
| Debian 12 (arm)  | PASS     |
+------------------+----------+


Debian Bullseye
	Kernel: 5.4.0-122-generic
	Compiler: gcc 10.2.1-6

CentOS Stream 9
	Kernel: 4.18.0-240.10.1.el8_3.x86_64
	Compiler: gcc 11.3.1 20220421

Fedora 38
	Kernel: Depends on container host
	Compiler: clang 16.0.3

RHEL8
	Kernel: 4.18.0-240.10.1.el8_3.x86_64
	Compiler: gcc 8.3.1 20191121 (Red Hat 8.3.1-5)

openSUSE Leap 15
	Kernel: 4.18.0-240.10.1.el8_3.x86_64
	Compiler: gcc 7.5.0

Fedora 37
	Kernel: Depends on container host system
	Compiler: gcc 12.3.1

Ubuntu 22.04
	Kernel: 4.18.0-240.10.1.el8_3.x86_64
	Compiler: gcc 11.3.0

CentOS Stream 8
	Kernel: 4.18.0-240.10.1.el8_3.x86_64
	Compiler: gcc 8.4.1 20200928

Debian 12 (arm)
	Kernel: Container Host Kernel
	Compiler: gcc 11

To view detailed results, visit:
https://lab.dpdk.org/results/dashboard/patchsets/29367/

UNH-IOL DPDK Community Lab

To manage your email subscriptions, visit: 
https://lab.dpdk.org/results/dashboard/preferences/subscriptions/