From mboxrd@z Thu Jan  1 00:00:00 1970
Return-Path: <test-report-bounces@dpdk.org>
Received: from mails.dpdk.org (mails.dpdk.org [217.70.189.124])
	by inbox.dpdk.org (Postfix) with ESMTP id DED2143C0C
	for <public@inbox.dpdk.org>; Fri,  1 Mar 2024 16:48:55 +0100 (CET)
Received: from mails.dpdk.org (localhost [127.0.0.1])
	by mails.dpdk.org (Postfix) with ESMTP id DA5F54354A;
	Fri,  1 Mar 2024 16:48:55 +0100 (CET)
Received: from mail-il1-f226.google.com (mail-il1-f226.google.com
 [209.85.166.226])
 by mails.dpdk.org (Postfix) with ESMTP id D396B42830
 for <test-report@dpdk.org>; Fri,  1 Mar 2024 16:48:54 +0100 (CET)
Received: by mail-il1-f226.google.com with SMTP id
 e9e14a558f8ab-3657c437835so6800005ab.2
 for <test-report@dpdk.org>; Fri, 01 Mar 2024 07:48:54 -0800 (PST)
DKIM-Signature: v=1; a=rsa-sha256; c=relaxed/relaxed;
 d=iol.unh.edu; s=unh-iol; t=1709308134; x=1709912934; darn=dpdk.org;
 h=references:in-reply-to:cc:to:from:subject:message-id:date:from:to
 :cc:subject:date:message-id:reply-to;
 bh=P3PKGQl0sdM5IJSFeVkSAeyLBx8Pgd6yIFlj6jDo4E4=;
 b=LXZsSSyEpxXeK8EQqnV1aPcc0ROMNroPaYA6GBl0uK96raTzO+WX4gwXQU7maBWTS6
 7eqXZpLdkZpIw/r8Lf58Tc/wlEOcIpR1z95USPA+yjJ0RYYAOfSlCXpFjdoEt7jtyYMY
 I6OXzcdUXDbw6UvJc+xkS9uqA8yF8vGEneV2k=
X-Google-DKIM-Signature: v=1; a=rsa-sha256; c=relaxed/relaxed;
 d=1e100.net; s=20230601; t=1709308134; x=1709912934;
 h=references:in-reply-to:cc:to:from:subject:message-id:date
 :x-gm-message-state:from:to:cc:subject:date:message-id:reply-to;
 bh=P3PKGQl0sdM5IJSFeVkSAeyLBx8Pgd6yIFlj6jDo4E4=;
 b=mTiB91IaOUBqKkM8awit2SfrOUxQ7PlSKu0UodAVx7RQWW2SDmlNlnsSxyoYBcJfye
 t/OideRIAz5JYBIRspwbd2F4tC20XUqlPCSSU1KkoF1xidawUfmaraPFNXGZCjg/Fe9L
 yHlRGLnO+SSgJL07+khxGQpCGSx5FBLzpGu+UyjEZZkmAKjvIroQC617NzVCfoOxEGeA
 TueIDArlBE7X+Njcj8tHPuyd44Jefp2+/U7LrnCQ6eZ/BFb/jVbXq1SBmjpJd+Ko/X1x
 JVXMvk+gFwq5n9EjW/pblPcQl8a/PxYOHHwVLoXhbZR076Kti9WhKleRIMbqEfwXoAuk
 HXng==
X-Gm-Message-State: AOJu0YxYKJc0RRC/8B0iZqYLV65W8PH6QF92Lb58E0UOj12Qg6QrQNdG
 3SrkZx1T/iSOnyTvWTZ7REVC7D2KBQa8KErcjV9QditsXTBao0z/qa0p7gvwGgwfOHtdiOl5O1g
 3Pap7Po6BtLaF06g0+CQPl32UEvNtJJosYBm2SPp2
X-Google-Smtp-Source: AGHT+IH4GAHcs6eZ1DbAXO5HSfbZHfKSIMCch3ukglJ+iBwRx7byEU8M3rLZyq/IKaVa0lcHd0WYjxYI2SxG
X-Received: by 2002:a05:6e02:1b08:b0:365:bce9:e49 with SMTP id
 i8-20020a056e021b0800b00365bce90e49mr2036155ilv.23.1709308134260; 
 Fri, 01 Mar 2024 07:48:54 -0800 (PST)
Received: from postal.iol.unh.edu (postal.iol.unh.edu. [132.177.123.84])
 by smtp-relay.gmail.com with ESMTPS id
 n5-20020a056e021ba500b003652e5a9e2csm181434ili.5.2024.03.01.07.48.54
 (version=TLS1_2 cipher=ECDHE-ECDSA-AES128-GCM-SHA256 bits=128/128);
 Fri, 01 Mar 2024 07:48:54 -0800 (PST)
X-Relaying-Domain: iol.unh.edu
Date: Fri, 01 Mar 2024 07:48:54 -0800 (PST)
Message-ID: <65e1f8e6.050a0220.7d8ea.c8c5SMTPIN_ADDED_MISSING@mx.google.com>
Received: from [172.21.0.7] (unknown [172.18.0.240])
 by postal.iol.unh.edu (Postfix) with ESMTP id DBB526052712;
 Fri,  1 Mar 2024 10:48:53 -0500 (EST)
Subject: |SUCCESS| pw137662-137665 [PATCH] [v7,4/4] test: add unit test for p
From: dpdklab@iol.unh.edu
To: Test Report <test-report@dpdk.org>
Cc: dpdk-test-reports@iol.unh.edu
In-Reply-To: <20240301102104.20074-5-paul.szczepanek@arm.com>
References: <20240301102104.20074-5-paul.szczepanek@arm.com>
Content-Type: text/plain
X-BeenThere: test-report@dpdk.org
X-Mailman-Version: 2.1.29
Precedence: list
List-Id: automatic DPDK test reports <test-report.dpdk.org>
List-Unsubscribe: <https://mails.dpdk.org/options/test-report>,
 <mailto:test-report-request@dpdk.org?subject=unsubscribe>
List-Archive: <http://mails.dpdk.org/archives/test-report/>
List-Post: <mailto:test-report@dpdk.org>
List-Help: <mailto:test-report-request@dpdk.org?subject=help>
List-Subscribe: <https://mails.dpdk.org/listinfo/test-report>,
 <mailto:test-report-request@dpdk.org?subject=subscribe>
Errors-To: test-report-bounces@dpdk.org

Test-Label: iol-unit-amd64-testing
Test-Status: SUCCESS
http://dpdk.org/patch/137665

_Testing PASS_

Submitter: Paul Szczepanek <paul.szczepanek@arm.com>
Date: Friday, March 01 2024 10:21:04 
DPDK git baseline: Repo:dpdk
  Branch: master
  CommitID:5df34de5808a7b826b8bc035d6ee3161a12be364

137662-137665 --> testing pass

Test environment and result as below:

+---------------------+----------------+
|     Environment     | dpdk_unit_test |
+=====================+================+
| CentOS Stream 8     | PASS           |
+---------------------+----------------+
| CentOS Stream 9     | PASS           |
+---------------------+----------------+
| Debian Bullseye     | PASS           |
+---------------------+----------------+
| Fedora 37           | PASS           |
+---------------------+----------------+
| Debian 12 (arm)     | PASS           |
+---------------------+----------------+
| openSUSE Leap 15    | PASS           |
+---------------------+----------------+
| Ubuntu 20.04        | PASS           |
+---------------------+----------------+
| Fedora 38           | PASS           |
+---------------------+----------------+
| Ubuntu 22.04        | PASS           |
+---------------------+----------------+
| RHEL8               | PASS           |
+---------------------+----------------+
| Windows Server 2019 | PASS           |
+---------------------+----------------+


CentOS Stream 8
	Kernel: 4.18.0-240.10.1.el8_3.x86_64
	Compiler: gcc 8.4.1 20200928

CentOS Stream 9
	Kernel: 4.18.0-240.10.1.el8_3.x86_64
	Compiler: gcc 11.3.1 20220421

Debian Bullseye
	Kernel: 5.4.0-122-generic
	Compiler: gcc 10.2.1-6

Fedora 37
	Kernel: Depends on container host system
	Compiler: gcc 12.3.1

Debian 12 (arm)
	Kernel: Container Host Kernel
	Compiler: gcc 11

openSUSE Leap 15
	Kernel: 4.18.0-240.10.1.el8_3.x86_64
	Compiler: gcc 7.5.0

Ubuntu 20.04
	Kernel: 5.4.0-153-generic
	Compiler: gcc 9.4.0-1ubuntu1~20.04.1

Fedora 38
	Kernel: Depends on container host
	Compiler: clang 16.0.3

Ubuntu 22.04
	Kernel: 4.18.0-240.10.1.el8_3.x86_64
	Compiler: gcc 11.3.0

RHEL8
	Kernel: 4.18.0-240.10.1.el8_3.x86_64
	Compiler: gcc 8.3.1 20191121 (Red Hat 8.3.1-5)

Windows Server 2019
	Kernel: 10.0
	Compiler: clang 14.0 and gcc 8.1.0 (MinGW)

To view detailed results, visit:
https://lab.dpdk.org/results/dashboard/patchsets/29368/

UNH-IOL DPDK Community Lab

To manage your email subscriptions, visit: 
https://lab.dpdk.org/results/dashboard/preferences/subscriptions/