From mboxrd@z Thu Jan  1 00:00:00 1970
Return-Path: <test-report-bounces@dpdk.org>
Received: from mails.dpdk.org (mails.dpdk.org [217.70.189.124])
	by inbox.dpdk.org (Postfix) with ESMTP id 8960A43C0C
	for <public@inbox.dpdk.org>; Fri,  1 Mar 2024 16:56:47 +0100 (CET)
Received: from mails.dpdk.org (localhost [127.0.0.1])
	by mails.dpdk.org (Postfix) with ESMTP id 75EFC43428;
	Fri,  1 Mar 2024 16:56:47 +0100 (CET)
Received: from mail-yw1-f227.google.com (mail-yw1-f227.google.com
 [209.85.128.227])
 by mails.dpdk.org (Postfix) with ESMTP id 2AB3342D68
 for <test-report@dpdk.org>; Fri,  1 Mar 2024 16:56:47 +0100 (CET)
Received: by mail-yw1-f227.google.com with SMTP id
 00721157ae682-60821136c5aso17516837b3.1
 for <test-report@dpdk.org>; Fri, 01 Mar 2024 07:56:47 -0800 (PST)
DKIM-Signature: v=1; a=rsa-sha256; c=relaxed/relaxed;
 d=iol.unh.edu; s=unh-iol; t=1709308606; x=1709913406; darn=dpdk.org;
 h=references:in-reply-to:cc:to:from:subject:message-id:date:from:to
 :cc:subject:date:message-id:reply-to;
 bh=GLSOnBAEzcePq21oqbmZoWuUto92M+C0+NY2vAtDF6E=;
 b=Aqt2+LaZhAe8+lwF87oLvuU/aMe0jNMIL1FjuWp/D5B6wSSfHxM8q7Xdwoup7tHjhP
 pW+d19n9paTnUodSqcxZFbLnHw/nsvrDCiNpeVnyf3wz/lfODRAr7cOw+VZfb2NfTfWp
 +Lrwwti74dPUFEApkF/yQLF4Hg7q6ew2qGSBw=
X-Google-DKIM-Signature: v=1; a=rsa-sha256; c=relaxed/relaxed;
 d=1e100.net; s=20230601; t=1709308606; x=1709913406;
 h=references:in-reply-to:cc:to:from:subject:message-id:date
 :x-gm-message-state:from:to:cc:subject:date:message-id:reply-to;
 bh=GLSOnBAEzcePq21oqbmZoWuUto92M+C0+NY2vAtDF6E=;
 b=lYiQc+7GBcZMm2F0BIzrnlEI+k46hRCKE8bnQLi7O+vTIL3Mj/tGblwl9b1wo9y0k/
 G83Eyj0wyDAY0FXuC40kehIOBrQoUC8+SsCmqxOuLNCYIRRYGd+SLcSPUUsacLIU+PA5
 Ysz7IlqvBt9FeByLSHFMDYInZ17VzsuJuLyTFw0rVgVmhSo0+BDlO2l2JRWx//XrQmgb
 +CIkKEMqi5dnK2iLpZwI+6r+fUnp//a7TvibLqBgnmXXWkO+9JGwr1ouZ+TLVYysd26P
 EenLFYnYVAgtwqLMr1Fzr9FWCXdKxFqTx043oCQfB3I9kUAdYt3WaO/XZP57ER2l5bAe
 yhjg==
X-Gm-Message-State: AOJu0Yw4odK4mFYGaQJdM3BvUzdA71zfqx+CNuaCggrXjagEj5i8gXhp
 V777jDjjtQLQFkOigrUV9e8RpGay3QZWcga4m1EzFtWVm4EAW7wpyQefrAWNlyB7lwItaAprZCP
 cmsSsJwFA7ZLnKa0vAmvGAQ4+vTVhevCzaeIyNFsYYq3M+W24zaD8MHHc
X-Google-Smtp-Source: AGHT+IFnZTnau8IA3ul9kWSq1wxg/5MjIYozOwML5VuW4NoP4ioxukhUynlKRFDS7Nx8H2yAfjuwAUsmJ7i6
X-Received: by 2002:a25:8681:0:b0:dc6:d6f6:cc13 with SMTP id
 z1-20020a258681000000b00dc6d6f6cc13mr1753153ybk.20.1709308606542; 
 Fri, 01 Mar 2024 07:56:46 -0800 (PST)
Received: from postal.iol.unh.edu (postal.iol.unh.edu.
 [2606:4100:3880:1234::84]) by smtp-relay.gmail.com with ESMTPS id
 w10-20020a25df0a000000b00dcc7cdb2fe6sm207958ybg.26.2024.03.01.07.56.46
 (version=TLS1_2 cipher=ECDHE-ECDSA-AES128-GCM-SHA256 bits=128/128);
 Fri, 01 Mar 2024 07:56:46 -0800 (PST)
X-Relaying-Domain: iol.unh.edu
Date: Fri, 01 Mar 2024 07:56:46 -0800 (PST)
Message-ID: <65e1fabe.250a0220.2bcac.e2b9SMTPIN_ADDED_MISSING@mx.google.com>
Received: from [172.21.0.7] (unknown [172.18.0.240])
 by postal.iol.unh.edu (Postfix) with ESMTP id 385586052712;
 Fri,  1 Mar 2024 10:56:46 -0500 (EST)
Subject: |SUCCESS| pw137659 [PATCH] [v4] net/cnxk: support Tx queue descripto
From: dpdklab@iol.unh.edu
To: Test Report <test-report@dpdk.org>
Cc: dpdk-test-reports@iol.unh.edu
In-Reply-To: <1709286509-18322-1-git-send-email-skoteshwar@marvell.com>
References: <1709286509-18322-1-git-send-email-skoteshwar@marvell.com>
Content-Type: text/plain
X-BeenThere: test-report@dpdk.org
X-Mailman-Version: 2.1.29
Precedence: list
List-Id: automatic DPDK test reports <test-report.dpdk.org>
List-Unsubscribe: <https://mails.dpdk.org/options/test-report>,
 <mailto:test-report-request@dpdk.org?subject=unsubscribe>
List-Archive: <http://mails.dpdk.org/archives/test-report/>
List-Post: <mailto:test-report@dpdk.org>
List-Help: <mailto:test-report-request@dpdk.org?subject=help>
List-Subscribe: <https://mails.dpdk.org/listinfo/test-report>,
 <mailto:test-report-request@dpdk.org?subject=subscribe>
Errors-To: test-report-bounces@dpdk.org

Test-Label: iol-abi-testing
Test-Status: SUCCESS
http://dpdk.org/patch/137659

_Testing PASS_

Submitter: Satha Koteswara Rao Kottidi <skoteshwar@marvell.com>
Date: Friday, March 01 2024 09:48:29 
DPDK git baseline: Repo:dpdk
  Branch: master
  CommitID:ce8ce20ae46fe0df7632a0172c73d2dcd1ac0187

137659 --> testing pass

Test environment and result as below:

+------------------+----------+
|   Environment    | abi_test |
+==================+==========+
| CentOS Stream 9  | PASS     |
+------------------+----------+
| CentOS Stream 8  | PASS     |
+------------------+----------+
| openSUSE Leap 15 | PASS     |
+------------------+----------+
| Fedora 38        | PASS     |
+------------------+----------+
| RHEL8            | PASS     |
+------------------+----------+
| Debian Bullseye  | PASS     |
+------------------+----------+
| Debian 12 (arm)  | PASS     |
+------------------+----------+
| Ubuntu 22.04     | PASS     |
+------------------+----------+
| Fedora 37        | PASS     |
+------------------+----------+


CentOS Stream 9
	Kernel: 4.18.0-240.10.1.el8_3.x86_64
	Compiler: gcc 11.3.1 20220421

CentOS Stream 8
	Kernel: 4.18.0-240.10.1.el8_3.x86_64
	Compiler: gcc 8.4.1 20200928

openSUSE Leap 15
	Kernel: 4.18.0-240.10.1.el8_3.x86_64
	Compiler: gcc 7.5.0

Fedora 38
	Kernel: Depends on container host
	Compiler: clang 16.0.3

RHEL8
	Kernel: 4.18.0-240.10.1.el8_3.x86_64
	Compiler: gcc 8.3.1 20191121 (Red Hat 8.3.1-5)

Debian Bullseye
	Kernel: 5.4.0-122-generic
	Compiler: gcc 10.2.1-6

Debian 12 (arm)
	Kernel: Container Host Kernel
	Compiler: gcc 11

Ubuntu 22.04
	Kernel: 4.18.0-240.10.1.el8_3.x86_64
	Compiler: gcc 11.3.0

Fedora 37
	Kernel: Depends on container host system
	Compiler: gcc 12.3.1

To view detailed results, visit:
https://lab.dpdk.org/results/dashboard/patchsets/29365/

UNH-IOL DPDK Community Lab

To manage your email subscriptions, visit: 
https://lab.dpdk.org/results/dashboard/preferences/subscriptions/