From mboxrd@z Thu Jan  1 00:00:00 1970
Return-Path: <test-report-bounces@dpdk.org>
Received: from mails.dpdk.org (mails.dpdk.org [217.70.189.124])
	by inbox.dpdk.org (Postfix) with ESMTP id E398E43C0C
	for <public@inbox.dpdk.org>; Fri,  1 Mar 2024 16:59:31 +0100 (CET)
Received: from mails.dpdk.org (localhost [127.0.0.1])
	by mails.dpdk.org (Postfix) with ESMTP id DDE7443428;
	Fri,  1 Mar 2024 16:59:31 +0100 (CET)
Received: from mail-yw1-f226.google.com (mail-yw1-f226.google.com
 [209.85.128.226])
 by mails.dpdk.org (Postfix) with ESMTP id 122AB42D68
 for <test-report@dpdk.org>; Fri,  1 Mar 2024 16:59:31 +0100 (CET)
Received: by mail-yw1-f226.google.com with SMTP id
 00721157ae682-6089b64f4eeso19881887b3.2
 for <test-report@dpdk.org>; Fri, 01 Mar 2024 07:59:31 -0800 (PST)
DKIM-Signature: v=1; a=rsa-sha256; c=relaxed/relaxed;
 d=iol.unh.edu; s=unh-iol; t=1709308770; x=1709913570; darn=dpdk.org;
 h=references:in-reply-to:cc:to:from:subject:message-id:date:from:to
 :cc:subject:date:message-id:reply-to;
 bh=P3PKGQl0sdM5IJSFeVkSAeyLBx8Pgd6yIFlj6jDo4E4=;
 b=hC2yhrPl7KF4C+uBHZOeLULHSbDEr6CUWQTaFfAKp5Vr9O1YGc2xGREimSjsTHCtY9
 7XPDRl5VdYlMBtmz1s3kR7ana2uutCd3FuD8p6VRE8GsgTbzI+hJ1O/oH+V6V6Qiz7aT
 QgSofKHKjoMSTSBplZOITtNaKHyWjMVx+YDSw=
X-Google-DKIM-Signature: v=1; a=rsa-sha256; c=relaxed/relaxed;
 d=1e100.net; s=20230601; t=1709308770; x=1709913570;
 h=references:in-reply-to:cc:to:from:subject:message-id:date
 :x-gm-message-state:from:to:cc:subject:date:message-id:reply-to;
 bh=P3PKGQl0sdM5IJSFeVkSAeyLBx8Pgd6yIFlj6jDo4E4=;
 b=X/BEocUufijsXnvBnVDTPku3vkLEotLdI6o5Swu9/a9dMkH2GITILc6vOCXCX4dveM
 D9lRFthezhE6oBpVNMe/su8PhtE8Ad8SZClMywOvqWziOjWwmqN9aHntw9AM2b2JA/JU
 9rp+yLrgqYcnp+ZnUwx08tv57WUOyXC19/KaWUng3tPE+/LoQdge3JmMtD2X0z9+Zy+D
 +ySPHnI0am+0o6+r2ijSyONrMdGgdwHSsoVBITS2WweM+zX++JSWakwBcb9EnKk2CxAZ
 zzE+q4GTSehjY/fL2YxIsb/NpKMWRAR7i6cqcVtcmxHLgYtw1FetLOIiB3xNEpecx+V6
 jSIw==
X-Gm-Message-State: AOJu0Yzr+7r5/els1ul1kYIoaQWVDzTloGvrCIJ6Cy9Lcv68KxGyIXz4
 EOvumJE/GeqnP0Jqqcn9TsyGwUovJ9uhdKngaCqTQYXwRChxVDwvrIEcddtg5jz8zfJ+9E3HX/B
 VUBKXIlMKE0+MvAupH/ZUkAsjYpGBn1wSpvLERXbP
X-Google-Smtp-Source: AGHT+IFllhRLTg5gMs52vz/YEHPFjCcxIC8Jz1Dnszg/+KqcK1eQrA6Z9Krif8vb0yf0JN7XkcHfp6rw1ft6
X-Received: by 2002:a81:5f09:0:b0:609:7f97:de2f with SMTP id
 t9-20020a815f09000000b006097f97de2fmr2275888ywb.36.1709308770536; 
 Fri, 01 Mar 2024 07:59:30 -0800 (PST)
Received: from postal.iol.unh.edu (postal.iol.unh.edu. [132.177.123.84])
 by smtp-relay.gmail.com with ESMTPS id
 a207-20020a0dd8d8000000b00609704066c3sm193551ywe.18.2024.03.01.07.59.30
 (version=TLS1_2 cipher=ECDHE-ECDSA-AES128-GCM-SHA256 bits=128/128);
 Fri, 01 Mar 2024 07:59:30 -0800 (PST)
X-Relaying-Domain: iol.unh.edu
Date: Fri, 01 Mar 2024 07:59:30 -0800 (PST)
Message-ID: <65e1fb62.0d0a0220.2bc98.d856SMTPIN_ADDED_MISSING@mx.google.com>
Received: from [172.21.0.6] (unknown [172.18.0.240])
 by postal.iol.unh.edu (Postfix) with ESMTP id 2D0986052712;
 Fri,  1 Mar 2024 10:59:30 -0500 (EST)
Subject: |SUCCESS| pw137662-137665 [PATCH] [v7,4/4] test: add unit test for p
From: dpdklab@iol.unh.edu
To: Test Report <test-report@dpdk.org>
Cc: dpdk-test-reports@iol.unh.edu
In-Reply-To: <20240301102104.20074-5-paul.szczepanek@arm.com>
References: <20240301102104.20074-5-paul.szczepanek@arm.com>
Content-Type: text/plain
X-BeenThere: test-report@dpdk.org
X-Mailman-Version: 2.1.29
Precedence: list
List-Id: automatic DPDK test reports <test-report.dpdk.org>
List-Unsubscribe: <https://mails.dpdk.org/options/test-report>,
 <mailto:test-report-request@dpdk.org?subject=unsubscribe>
List-Archive: <http://mails.dpdk.org/archives/test-report/>
List-Post: <mailto:test-report@dpdk.org>
List-Help: <mailto:test-report-request@dpdk.org?subject=help>
List-Subscribe: <https://mails.dpdk.org/listinfo/test-report>,
 <mailto:test-report-request@dpdk.org?subject=subscribe>
Errors-To: test-report-bounces@dpdk.org

Test-Label: iol-unit-amd64-testing
Test-Status: SUCCESS
http://dpdk.org/patch/137665

_Testing PASS_

Submitter: Paul Szczepanek <paul.szczepanek@arm.com>
Date: Friday, March 01 2024 10:21:04 
DPDK git baseline: Repo:dpdk
  Branch: master
  CommitID:5df34de5808a7b826b8bc035d6ee3161a12be364

137662-137665 --> testing pass

Test environment and result as below:

+---------------------+----------------+
|     Environment     | dpdk_unit_test |
+=====================+================+
| CentOS Stream 8     | PASS           |
+---------------------+----------------+
| CentOS Stream 9     | PASS           |
+---------------------+----------------+
| Debian Bullseye     | PASS           |
+---------------------+----------------+
| Fedora 37           | PASS           |
+---------------------+----------------+
| Debian 12 (arm)     | PASS           |
+---------------------+----------------+
| openSUSE Leap 15    | PASS           |
+---------------------+----------------+
| Ubuntu 20.04        | PASS           |
+---------------------+----------------+
| Fedora 38           | PASS           |
+---------------------+----------------+
| Ubuntu 22.04        | PASS           |
+---------------------+----------------+
| RHEL8               | PASS           |
+---------------------+----------------+
| Windows Server 2019 | PASS           |
+---------------------+----------------+


CentOS Stream 8
	Kernel: 4.18.0-240.10.1.el8_3.x86_64
	Compiler: gcc 8.4.1 20200928

CentOS Stream 9
	Kernel: 4.18.0-240.10.1.el8_3.x86_64
	Compiler: gcc 11.3.1 20220421

Debian Bullseye
	Kernel: 5.4.0-122-generic
	Compiler: gcc 10.2.1-6

Fedora 37
	Kernel: Depends on container host system
	Compiler: gcc 12.3.1

Debian 12 (arm)
	Kernel: Container Host Kernel
	Compiler: gcc 11

openSUSE Leap 15
	Kernel: 4.18.0-240.10.1.el8_3.x86_64
	Compiler: gcc 7.5.0

Ubuntu 20.04
	Kernel: 5.4.0-153-generic
	Compiler: gcc 9.4.0-1ubuntu1~20.04.1

Fedora 38
	Kernel: Depends on container host
	Compiler: clang 16.0.3

Ubuntu 22.04
	Kernel: 4.18.0-240.10.1.el8_3.x86_64
	Compiler: gcc 11.3.0

RHEL8
	Kernel: 4.18.0-240.10.1.el8_3.x86_64
	Compiler: gcc 8.3.1 20191121 (Red Hat 8.3.1-5)

Windows Server 2019
	Kernel: 10.0
	Compiler: clang 14.0 and gcc 8.1.0 (MinGW)

To view detailed results, visit:
https://lab.dpdk.org/results/dashboard/patchsets/29368/

UNH-IOL DPDK Community Lab

To manage your email subscriptions, visit: 
https://lab.dpdk.org/results/dashboard/preferences/subscriptions/