From mboxrd@z Thu Jan  1 00:00:00 1970
Return-Path: <test-report-bounces@dpdk.org>
Received: from mails.dpdk.org (mails.dpdk.org [217.70.189.124])
	by inbox.dpdk.org (Postfix) with ESMTP id D101043C0C
	for <public@inbox.dpdk.org>; Fri,  1 Mar 2024 17:07:15 +0100 (CET)
Received: from mails.dpdk.org (localhost [127.0.0.1])
	by mails.dpdk.org (Postfix) with ESMTP id CD39A402E0;
	Fri,  1 Mar 2024 17:07:15 +0100 (CET)
Received: from mail-ot1-f97.google.com (mail-ot1-f97.google.com
 [209.85.210.97]) by mails.dpdk.org (Postfix) with ESMTP id 5A2A14026C
 for <test-report@dpdk.org>; Fri,  1 Mar 2024 17:07:14 +0100 (CET)
Received: by mail-ot1-f97.google.com with SMTP id
 46e09a7af769-6e4c62b6406so652974a34.0
 for <test-report@dpdk.org>; Fri, 01 Mar 2024 08:07:14 -0800 (PST)
DKIM-Signature: v=1; a=rsa-sha256; c=relaxed/relaxed;
 d=iol.unh.edu; s=unh-iol; t=1709309233; x=1709914033; darn=dpdk.org;
 h=references:in-reply-to:cc:to:from:subject:message-id:date:from:to
 :cc:subject:date:message-id:reply-to;
 bh=P3PKGQl0sdM5IJSFeVkSAeyLBx8Pgd6yIFlj6jDo4E4=;
 b=N3+xL2R9xeN+0EDoS1YDABIsoRGe6M+c1825J3hZCSnKuDrugOfgPUlfksy50DWGLi
 /sPOXQtUjTXIlY4mB+b1sYmelWiMbrrYRLKKUhvRfy5zfb4XyMGTb3606lm3ZHC0kNnZ
 djvu/mv+9l1ZMej0/XcoMGLWoqhdxhVy6h6vI=
X-Google-DKIM-Signature: v=1; a=rsa-sha256; c=relaxed/relaxed;
 d=1e100.net; s=20230601; t=1709309233; x=1709914033;
 h=references:in-reply-to:cc:to:from:subject:message-id:date
 :x-gm-message-state:from:to:cc:subject:date:message-id:reply-to;
 bh=P3PKGQl0sdM5IJSFeVkSAeyLBx8Pgd6yIFlj6jDo4E4=;
 b=Z2waM7fUw/zcB+jV8tPURTmrJI7JKnzQAcNKzq+ie4M268JcG+MjjqNyd8Ef3uCSkg
 DMtL/08vg7CmnZnmq4wP0p+WWbYRMJLAGWrvp587wXwVbhEchQ5Uzou3bKuk7LGCMbaw
 +zXdx7TBAt7AlS9OO9PuRHM1YwP5DUfBLT3GZ1JOJTxiynzl9+3dahqyMnhgt7Mngj4a
 euy8p62Cucy86Xp0cXvxzkCIWUUn7l+Bpu/3CVry5wofoujUTScYGYtnd4v/04ze6sky
 9f6k5FQyflZlW1lLH6m2R11xxn3g8s3XPaWdQNHdc+SSU9pUz5qLV61NdICrC6u3shDy
 90aw==
X-Gm-Message-State: AOJu0Yw0hJVugo6u/LgB1GiKZ9r8w/jvkh0bryAdNgLtsBaQMZlXAL7u
 MN8W+x/vpoOkzFw2AyVD9aD5QklWWs5gnc/MizBCJW2WXRe0wXu5yhQ4EVCnbVlyW1bDkMBeRBU
 ufkPPyVyEqhTJuqxrNYAeJKjFUWlUL7s/EigR6YLPH19HE3XHSKz+G5FM
X-Google-Smtp-Source: AGHT+IGYAHYVgZDwBVwuUI4bQy4W4x2/Lf7xdR0fQ+GPTcxwxV0Kij5Izo42PzqCyLg5rJbUcvxdMTvrimtQ
X-Received: by 2002:a05:6830:12d8:b0:6e4:9317:34cc with SMTP id
 a24-20020a05683012d800b006e4931734ccmr2050725otq.30.1709309233595; 
 Fri, 01 Mar 2024 08:07:13 -0800 (PST)
Received: from postal.iol.unh.edu (postal.iol.unh.edu.
 [2606:4100:3880:1234::84]) by smtp-relay.gmail.com with ESMTPS id
 l13-20020a05683004ad00b006e0bca6e602sm138852otd.6.2024.03.01.08.07.13
 (version=TLS1_2 cipher=ECDHE-ECDSA-AES128-GCM-SHA256 bits=128/128);
 Fri, 01 Mar 2024 08:07:13 -0800 (PST)
X-Relaying-Domain: iol.unh.edu
Date: Fri, 01 Mar 2024 08:07:13 -0800 (PST)
Message-ID: <65e1fd31.050a0220.e4c74.7c1aSMTPIN_ADDED_MISSING@mx.google.com>
Received: from [172.21.0.6] (unknown [172.18.0.240])
 by postal.iol.unh.edu (Postfix) with ESMTP id 1191E6052712;
 Fri,  1 Mar 2024 11:07:13 -0500 (EST)
Subject: |SUCCESS| pw137662-137665 [PATCH] [v7,4/4] test: add unit test for p
From: dpdklab@iol.unh.edu
To: Test Report <test-report@dpdk.org>
Cc: dpdk-test-reports@iol.unh.edu
In-Reply-To: <20240301102104.20074-5-paul.szczepanek@arm.com>
References: <20240301102104.20074-5-paul.szczepanek@arm.com>
Content-Type: text/plain
X-BeenThere: test-report@dpdk.org
X-Mailman-Version: 2.1.29
Precedence: list
List-Id: automatic DPDK test reports <test-report.dpdk.org>
List-Unsubscribe: <https://mails.dpdk.org/options/test-report>,
 <mailto:test-report-request@dpdk.org?subject=unsubscribe>
List-Archive: <http://mails.dpdk.org/archives/test-report/>
List-Post: <mailto:test-report@dpdk.org>
List-Help: <mailto:test-report-request@dpdk.org?subject=help>
List-Subscribe: <https://mails.dpdk.org/listinfo/test-report>,
 <mailto:test-report-request@dpdk.org?subject=subscribe>
Errors-To: test-report-bounces@dpdk.org

Test-Label: iol-unit-amd64-testing
Test-Status: SUCCESS
http://dpdk.org/patch/137665

_Testing PASS_

Submitter: Paul Szczepanek <paul.szczepanek@arm.com>
Date: Friday, March 01 2024 10:21:04 
DPDK git baseline: Repo:dpdk
  Branch: master
  CommitID:5df34de5808a7b826b8bc035d6ee3161a12be364

137662-137665 --> testing pass

Test environment and result as below:

+---------------------+----------------+
|     Environment     | dpdk_unit_test |
+=====================+================+
| CentOS Stream 8     | PASS           |
+---------------------+----------------+
| CentOS Stream 9     | PASS           |
+---------------------+----------------+
| Debian Bullseye     | PASS           |
+---------------------+----------------+
| Fedora 37           | PASS           |
+---------------------+----------------+
| Debian 12 (arm)     | PASS           |
+---------------------+----------------+
| openSUSE Leap 15    | PASS           |
+---------------------+----------------+
| Ubuntu 20.04        | PASS           |
+---------------------+----------------+
| Fedora 38           | PASS           |
+---------------------+----------------+
| Ubuntu 22.04        | PASS           |
+---------------------+----------------+
| RHEL8               | PASS           |
+---------------------+----------------+
| Windows Server 2019 | PASS           |
+---------------------+----------------+


CentOS Stream 8
	Kernel: 4.18.0-240.10.1.el8_3.x86_64
	Compiler: gcc 8.4.1 20200928

CentOS Stream 9
	Kernel: 4.18.0-240.10.1.el8_3.x86_64
	Compiler: gcc 11.3.1 20220421

Debian Bullseye
	Kernel: 5.4.0-122-generic
	Compiler: gcc 10.2.1-6

Fedora 37
	Kernel: Depends on container host system
	Compiler: gcc 12.3.1

Debian 12 (arm)
	Kernel: Container Host Kernel
	Compiler: gcc 11

openSUSE Leap 15
	Kernel: 4.18.0-240.10.1.el8_3.x86_64
	Compiler: gcc 7.5.0

Ubuntu 20.04
	Kernel: 5.4.0-153-generic
	Compiler: gcc 9.4.0-1ubuntu1~20.04.1

Fedora 38
	Kernel: Depends on container host
	Compiler: clang 16.0.3

Ubuntu 22.04
	Kernel: 4.18.0-240.10.1.el8_3.x86_64
	Compiler: gcc 11.3.0

RHEL8
	Kernel: 4.18.0-240.10.1.el8_3.x86_64
	Compiler: gcc 8.3.1 20191121 (Red Hat 8.3.1-5)

Windows Server 2019
	Kernel: 10.0
	Compiler: clang 14.0 and gcc 8.1.0 (MinGW)

To view detailed results, visit:
https://lab.dpdk.org/results/dashboard/patchsets/29368/

UNH-IOL DPDK Community Lab

To manage your email subscriptions, visit: 
https://lab.dpdk.org/results/dashboard/preferences/subscriptions/