From mboxrd@z Thu Jan  1 00:00:00 1970
Return-Path: <test-report-bounces@dpdk.org>
Received: from mails.dpdk.org (mails.dpdk.org [217.70.189.124])
	by inbox.dpdk.org (Postfix) with ESMTP id 4F09643C0C
	for <public@inbox.dpdk.org>; Fri,  1 Mar 2024 17:09:14 +0100 (CET)
Received: from mails.dpdk.org (localhost [127.0.0.1])
	by mails.dpdk.org (Postfix) with ESMTP id 4698E402EA;
	Fri,  1 Mar 2024 17:09:14 +0100 (CET)
Received: from mail-yb1-f225.google.com (mail-yb1-f225.google.com
 [209.85.219.225])
 by mails.dpdk.org (Postfix) with ESMTP id 6707C402E0
 for <test-report@dpdk.org>; Fri,  1 Mar 2024 17:09:12 +0100 (CET)
Received: by mail-yb1-f225.google.com with SMTP id
 3f1490d57ef6-dbed179f0faso2477422276.1
 for <test-report@dpdk.org>; Fri, 01 Mar 2024 08:09:12 -0800 (PST)
DKIM-Signature: v=1; a=rsa-sha256; c=relaxed/relaxed;
 d=iol.unh.edu; s=unh-iol; t=1709309352; x=1709914152; darn=dpdk.org;
 h=references:in-reply-to:cc:to:from:subject:message-id:date:from:to
 :cc:subject:date:message-id:reply-to;
 bh=T/H0qHZahAt+e/FgJQLKe4HfK/zHgjYETmhKkK0u9do=;
 b=caZRhjypgmt8lciYZ8kmKJ0dfDkNp5GYKcfvIDubVgj8fUv/ebJGhBep1t1SZoyQDK
 g9MFUhEqDfmT1nWJXjFawGcLM2BqaeWXrHhLALb6CzDLeZA5cc5QfOQcTIGzkevgk+Vg
 mXYeiiNctDsWqDPYke9TuEMZU7RBheM9CwAEQ=
X-Google-DKIM-Signature: v=1; a=rsa-sha256; c=relaxed/relaxed;
 d=1e100.net; s=20230601; t=1709309352; x=1709914152;
 h=references:in-reply-to:cc:to:from:subject:message-id:date
 :x-gm-message-state:from:to:cc:subject:date:message-id:reply-to;
 bh=T/H0qHZahAt+e/FgJQLKe4HfK/zHgjYETmhKkK0u9do=;
 b=dT5uZQoQigunPuBIk+Brg3pm4A89/mUW3QlcScBUorj3Z/Pjf84l/BRIeh6ms5m6Yt
 aDRebbqQ4BXc2BwVR5MxJauObg1NSSbBfvPObAHrrvBoA/FQJfz+aAse9PivHWnEBvgZ
 OWbPNtd2Ep0z2EloHdms7PSlGbPhRzPXaYeWYENCIEh0DeG16X3sKnGgwy8XU+s7u3Jo
 NB96NnRGzEx/Gfdflph9ncGcKMyZSnWFfLYEu6n2pI7KqQ2MwJtnC55hXtQekpLZXoDY
 s8xPp4JT/+J3qWhpqyu2j7L573P9CBKIBPXTwqQfmCYUtb5QdaePZ2un5kFKkZRxCN/O
 ofCA==
X-Gm-Message-State: AOJu0YzZIG5CEaMB2uWGocsguKk09Bh7QXje3+d2ZBYqyH/6Te792IJP
 HF997TlWooFUNS+4mndLUbwkUYMYG8+OhbRZj5YRjc1/XMmPwilADGLkJruGVH3jmDZRreD/x5J
 w+2kum2WSBjNHN6cO5idRV32aP9BdoE2MfHzZnWMzXeCOB4aRUGXsH/cc
X-Google-Smtp-Source: AGHT+IF2LV7jhcgU72vcEyijr23kK10bqGo/yTD7otunNo/PN7kjihmJbe14ljgFOk9rCrOAu23i3wddu3mJ
X-Received: by 2002:a25:26cb:0:b0:dc7:3362:4b2f with SMTP id
 m194-20020a2526cb000000b00dc733624b2fmr4251060ybm.13.1709309351833; 
 Fri, 01 Mar 2024 08:09:11 -0800 (PST)
Received: from postal.iol.unh.edu (postal.iol.unh.edu.
 [2606:4100:3880:1234::84]) by smtp-relay.gmail.com with ESMTPS id
 m184-20020a253fc1000000b00dc2196e0f1dsm205637yba.34.2024.03.01.08.09.11
 (version=TLS1_2 cipher=ECDHE-ECDSA-AES128-GCM-SHA256 bits=128/128);
 Fri, 01 Mar 2024 08:09:11 -0800 (PST)
X-Relaying-Domain: iol.unh.edu
Date: Fri, 01 Mar 2024 08:09:11 -0800 (PST)
Message-ID: <65e1fda7.250a0220.a71a7.d774SMTPIN_ADDED_MISSING@mx.google.com>
Received: from [172.21.0.6] (unknown [172.18.0.240])
 by postal.iol.unh.edu (Postfix) with ESMTP id 7458E6052713;
 Fri,  1 Mar 2024 11:09:11 -0500 (EST)
Subject: |SUCCESS| pw137662-137665 [PATCH] [v7,4/4] test: add unit test for p
From: dpdklab@iol.unh.edu
To: Test Report <test-report@dpdk.org>
Cc: dpdk-test-reports@iol.unh.edu
In-Reply-To: <20240301102104.20074-5-paul.szczepanek@arm.com>
References: <20240301102104.20074-5-paul.szczepanek@arm.com>
Content-Type: text/plain
X-BeenThere: test-report@dpdk.org
X-Mailman-Version: 2.1.29
Precedence: list
List-Id: automatic DPDK test reports <test-report.dpdk.org>
List-Unsubscribe: <https://mails.dpdk.org/options/test-report>,
 <mailto:test-report-request@dpdk.org?subject=unsubscribe>
List-Archive: <http://mails.dpdk.org/archives/test-report/>
List-Post: <mailto:test-report@dpdk.org>
List-Help: <mailto:test-report-request@dpdk.org?subject=help>
List-Subscribe: <https://mails.dpdk.org/listinfo/test-report>,
 <mailto:test-report-request@dpdk.org?subject=subscribe>
Errors-To: test-report-bounces@dpdk.org

Test-Label: iol-compile-amd64-testing
Test-Status: SUCCESS
http://dpdk.org/patch/137665

_Testing PASS_

Submitter: Paul Szczepanek <paul.szczepanek@arm.com>
Date: Friday, March 01 2024 10:21:04 
DPDK git baseline: Repo:dpdk
  Branch: master
  CommitID:5df34de5808a7b826b8bc035d6ee3161a12be364

137662-137665 --> testing pass

Test environment and result as below:

+---------------------+--------------------+----------------------+
|     Environment     | dpdk_meson_compile | dpdk_mingw64_compile |
+=====================+====================+======================+
| Windows Server 2022 | PASS               | SKIPPED              |
+---------------------+--------------------+----------------------+
| FreeBSD 13.2        | PASS               | SKIPPED              |
+---------------------+--------------------+----------------------+
| Windows Server 2019 | PASS               | PASS                 |
+---------------------+--------------------+----------------------+
| Debian Bullseye     | PASS               | SKIPPED              |
+---------------------+--------------------+----------------------+
| CentOS Stream 8     | PASS               | SKIPPED              |
+---------------------+--------------------+----------------------+
| Debian 12 (arm)     | PASS               | SKIPPED              |
+---------------------+--------------------+----------------------+
| Fedora 38           | PASS               | SKIPPED              |
+---------------------+--------------------+----------------------+
| openSUSE Leap 15    | PASS               | SKIPPED              |
+---------------------+--------------------+----------------------+
| CentOS Stream 9     | PASS               | SKIPPED              |
+---------------------+--------------------+----------------------+
| Fedora 37           | PASS               | SKIPPED              |
+---------------------+--------------------+----------------------+
| RHEL8               | PASS               | SKIPPED              |
+---------------------+--------------------+----------------------+
| Ubuntu 20.04        | PASS               | SKIPPED              |
+---------------------+--------------------+----------------------+
| Ubuntu 22.04        | PASS               | SKIPPED              |
+---------------------+--------------------+----------------------+
| Alpine              | PASS               | SKIPPED              |
+---------------------+--------------------+----------------------+


Windows Server 2022
	Kernel: OS Build 20348.2031
	Compiler: MSVC VS-Preview

FreeBSD 13.2
	Kernel: 13.2
	Compiler: clang 11.3.0

Windows Server 2019
	Kernel: 10.0
	Compiler: clang 14.0 and gcc 8.1.0 (MinGW)

Debian Bullseye
	Kernel: 5.4.0-122-generic
	Compiler: gcc 10.2.1-6

CentOS Stream 8
	Kernel: 4.18.0-240.10.1.el8_3.x86_64
	Compiler: gcc 8.4.1 20200928

Debian 12 (arm)
	Kernel: Container Host Kernel
	Compiler: gcc 11

Fedora 38
	Kernel: Depends on container host
	Compiler: gcc 13.1.1

openSUSE Leap 15
	Kernel: 4.18.0-240.10.1.el8_3.x86_64
	Compiler: gcc 7.5.0

CentOS Stream 9
	Kernel: 4.18.0-240.10.1.el8_3.x86_64
	Compiler: gcc 11.3.1 20220421

Fedora 37
	Kernel: Depends on container host system
	Compiler: gcc 12.3.1

RHEL8
	Kernel: 4.18.0-240.10.1.el8_3.x86_64
	Compiler: gcc 8.3.1 20191121 (Red Hat 8.3.1-5)

Ubuntu 20.04
	Kernel: 5.4.0-153-generic
	Compiler: gcc 9.4.0-1ubuntu1~20.04.1

Ubuntu 22.04
	Kernel: 4.18.0-240.10.1.el8_3.x86_64
	Compiler: gcc 11.3.0

Alpine
	Kernel: 5.4.0-73-generic
	Compiler: gcc (Alpine 10.3.1_git20210424) 10.3.1 20210424

To view detailed results, visit:
https://lab.dpdk.org/results/dashboard/patchsets/29368/

UNH-IOL DPDK Community Lab

To manage your email subscriptions, visit: 
https://lab.dpdk.org/results/dashboard/preferences/subscriptions/