From mboxrd@z Thu Jan  1 00:00:00 1970
Return-Path: <test-report-bounces@dpdk.org>
Received: from mails.dpdk.org (mails.dpdk.org [217.70.189.124])
	by inbox.dpdk.org (Postfix) with ESMTP id 4194943C0C
	for <public@inbox.dpdk.org>; Fri,  1 Mar 2024 17:38:05 +0100 (CET)
Received: from mails.dpdk.org (localhost [127.0.0.1])
	by mails.dpdk.org (Postfix) with ESMTP id 3C7C7402CD;
	Fri,  1 Mar 2024 17:38:05 +0100 (CET)
Received: from mail-pl1-f228.google.com (mail-pl1-f228.google.com
 [209.85.214.228])
 by mails.dpdk.org (Postfix) with ESMTP id DCAA8402C0
 for <test-report@dpdk.org>; Fri,  1 Mar 2024 17:38:03 +0100 (CET)
Received: by mail-pl1-f228.google.com with SMTP id
 d9443c01a7336-1dc13fb0133so19146035ad.3
 for <test-report@dpdk.org>; Fri, 01 Mar 2024 08:38:03 -0800 (PST)
DKIM-Signature: v=1; a=rsa-sha256; c=relaxed/relaxed;
 d=iol.unh.edu; s=unh-iol; t=1709311083; x=1709915883; darn=dpdk.org;
 h=references:in-reply-to:cc:to:from:subject:message-id:date:from:to
 :cc:subject:date:message-id:reply-to;
 bh=WGu2dlC1vRUiLc5eczSrzd6+gNQivLeh07s+SE7vLFY=;
 b=dX7uWCSH8VqXTEtpQUPEdX/MA2nsjFtKCNWWDIrD6Li835RgOjR6bgELUYdSQOkrox
 1suLmkFwMBWpgnOnLS4u/9szmSf9X8F4ijlhqa5vgE6wLBK7iZsHC8LyUpSviVd2Qf77
 eM+UtlHp7fbC4Y22L7Q/Ilc79HYj5OVYkNb38=
X-Google-DKIM-Signature: v=1; a=rsa-sha256; c=relaxed/relaxed;
 d=1e100.net; s=20230601; t=1709311083; x=1709915883;
 h=references:in-reply-to:cc:to:from:subject:message-id:date
 :x-gm-message-state:from:to:cc:subject:date:message-id:reply-to;
 bh=WGu2dlC1vRUiLc5eczSrzd6+gNQivLeh07s+SE7vLFY=;
 b=EOtSHKIqTddRwxw4OXJJY+JhrzIEACjJPtKNPrm+SHT7R0KJTAgQp4LqDs6JEGuaz3
 mK9dmT0edYLJTcUomhPlnOa0EdjoYdwi5x+nn8PtStQ7USNQmeWU6Iz3ISebWzmvnwj1
 RmsKpvvwplii6ZBjX74Fcu4c7Yj0yt6dwi0ijMKsa+MFjPE/PCdVVUZKjPruoXYpsj1P
 HveTma7IcBzTCn9+ahCCij/cvEsJgP8rAFdrhs7bqyRsT7InCFqxBzOyQgImwUGAIEns
 DWbRsl8zhWY/6g4/Z7tJrbiMjplmakAVkZjO+noUSZJcnDo30iLRQjUdJNpXDbUy2/Ji
 GOew==
X-Gm-Message-State: AOJu0YyqDjRfRUrji/8ey6VfUjXuc/rXu7NcS59CURDB6dfv2fslDmvx
 VVZ9XHjf4H/ILbVhJ8XpBtbXH4W7XkDZtCGDZMQD4y0oAMUM+O8UiT700nBDlQ8n1znUEdZLZLh
 yvcJAx49d0R/GNjVF9jAkj4G44xnYZs2jILN+7WUK
X-Google-Smtp-Source: AGHT+IGWcriwv8haO1Vl850qOyCe1Qt1j9L9/yW93Bxt0NMazT9dLP+5PXYbmbD+hzLVMZyx+bA251lA2rsF
X-Received: by 2002:a17:902:c942:b0:1dc:78ea:1ae with SMTP id
 i2-20020a170902c94200b001dc78ea01aemr2947580pla.26.1709311083109; 
 Fri, 01 Mar 2024 08:38:03 -0800 (PST)
Received: from postal.iol.unh.edu (postal.iol.unh.edu. [132.177.123.84])
 by smtp-relay.gmail.com with ESMTPS id
 kw13-20020a170902f90d00b001db6bf43960sm107547plb.10.2024.03.01.08.38.02
 (version=TLS1_2 cipher=ECDHE-ECDSA-AES128-GCM-SHA256 bits=128/128);
 Fri, 01 Mar 2024 08:38:03 -0800 (PST)
X-Relaying-Domain: iol.unh.edu
Date: Fri, 01 Mar 2024 08:38:03 -0800 (PST)
Message-ID: <65e2046b.170a0220.9c0fa.71a9SMTPIN_ADDED_MISSING@mx.google.com>
Received: from [172.21.0.7] (unknown [172.18.0.240])
 by postal.iol.unh.edu (Postfix) with ESMTP id 4B2156052712;
 Fri,  1 Mar 2024 11:38:02 -0500 (EST)
Subject: |SUCCESS| pw137660 [PATCH] [v5] net/i40e: add diagnostic support in 
From: dpdklab@iol.unh.edu
To: Test Report <test-report@dpdk.org>
Cc: dpdk-test-reports@iol.unh.edu
In-Reply-To: <20240301094422.460012-1-mingjinx.ye@intel.com>
References: <20240301094422.460012-1-mingjinx.ye@intel.com>
Content-Type: text/plain
X-BeenThere: test-report@dpdk.org
X-Mailman-Version: 2.1.29
Precedence: list
List-Id: automatic DPDK test reports <test-report.dpdk.org>
List-Unsubscribe: <https://mails.dpdk.org/options/test-report>,
 <mailto:test-report-request@dpdk.org?subject=unsubscribe>
List-Archive: <http://mails.dpdk.org/archives/test-report/>
List-Post: <mailto:test-report@dpdk.org>
List-Help: <mailto:test-report-request@dpdk.org?subject=help>
List-Subscribe: <https://mails.dpdk.org/listinfo/test-report>,
 <mailto:test-report-request@dpdk.org?subject=subscribe>
Errors-To: test-report-bounces@dpdk.org

Test-Label: iol-abi-testing
Test-Status: SUCCESS
http://dpdk.org/patch/137660

_Testing PASS_

Submitter: Mingjin Ye <mingjinx.ye@intel.com>
Date: Friday, March 01 2024 09:44:21 
DPDK git baseline: Repo:dpdk
  Branch: master
  CommitID:3408b132b31906fe1ed28d6b2009b98202e1cff0

137660 --> testing pass

Test environment and result as below:

+------------------+----------+
|   Environment    | abi_test |
+==================+==========+
| CentOS Stream 9  | PASS     |
+------------------+----------+
| CentOS Stream 8  | PASS     |
+------------------+----------+
| Ubuntu 22.04     | PASS     |
+------------------+----------+
| Debian Bullseye  | PASS     |
+------------------+----------+
| Fedora 38        | PASS     |
+------------------+----------+
| openSUSE Leap 15 | PASS     |
+------------------+----------+
| Fedora 37        | PASS     |
+------------------+----------+
| RHEL8            | PASS     |
+------------------+----------+
| Debian 12 (arm)  | PASS     |
+------------------+----------+


CentOS Stream 9
	Kernel: 4.18.0-240.10.1.el8_3.x86_64
	Compiler: gcc 11.3.1 20220421

CentOS Stream 8
	Kernel: 4.18.0-240.10.1.el8_3.x86_64
	Compiler: gcc 8.4.1 20200928

Ubuntu 22.04
	Kernel: 4.18.0-240.10.1.el8_3.x86_64
	Compiler: gcc 11.3.0

Debian Bullseye
	Kernel: 5.4.0-122-generic
	Compiler: gcc 10.2.1-6

Fedora 38
	Kernel: Depends on container host
	Compiler: clang 16.0.3

openSUSE Leap 15
	Kernel: 4.18.0-240.10.1.el8_3.x86_64
	Compiler: gcc 7.5.0

Fedora 37
	Kernel: Depends on container host system
	Compiler: gcc 12.3.1

RHEL8
	Kernel: 4.18.0-240.10.1.el8_3.x86_64
	Compiler: gcc 8.3.1 20191121 (Red Hat 8.3.1-5)

Debian 12 (arm)
	Kernel: Container Host Kernel
	Compiler: gcc 11

To view detailed results, visit:
https://lab.dpdk.org/results/dashboard/patchsets/29366/

UNH-IOL DPDK Community Lab

To manage your email subscriptions, visit: 
https://lab.dpdk.org/results/dashboard/preferences/subscriptions/