From mboxrd@z Thu Jan  1 00:00:00 1970
Return-Path: <test-report-bounces@dpdk.org>
Received: from mails.dpdk.org (mails.dpdk.org [217.70.189.124])
	by inbox.dpdk.org (Postfix) with ESMTP id CB2B643C0C
	for <public@inbox.dpdk.org>; Fri,  1 Mar 2024 17:42:45 +0100 (CET)
Received: from mails.dpdk.org (localhost [127.0.0.1])
	by mails.dpdk.org (Postfix) with ESMTP id C51BD42FFB;
	Fri,  1 Mar 2024 17:42:45 +0100 (CET)
Received: from mail-yb1-f225.google.com (mail-yb1-f225.google.com
 [209.85.219.225])
 by mails.dpdk.org (Postfix) with ESMTP id D7EB842F6B
 for <test-report@dpdk.org>; Fri,  1 Mar 2024 17:42:44 +0100 (CET)
Received: by mail-yb1-f225.google.com with SMTP id
 3f1490d57ef6-dcc6fc978ddso1975386276.0
 for <test-report@dpdk.org>; Fri, 01 Mar 2024 08:42:44 -0800 (PST)
DKIM-Signature: v=1; a=rsa-sha256; c=relaxed/relaxed;
 d=iol.unh.edu; s=unh-iol; t=1709311364; x=1709916164; darn=dpdk.org;
 h=references:in-reply-to:cc:to:from:subject:message-id:date:from:to
 :cc:subject:date:message-id:reply-to;
 bh=JSYQLvrE6T9xiuU1A6y4XD9VfqCJyfXO1QWXRqV+iqM=;
 b=domOGAGShvpw1vc1A+eJ/yxu0XU8CM8+quvkMhnA3AbKtkpWA4gJfbzrmS01/4nBKh
 jxStqE1+3mFfHBNBRUlrU0TUhgxz+zjIfrSc2mQ99HGBPzr9Ohg88NUsdXFmvG2DlBF3
 EyzHbnyOaGSh4EbDV7/StIAR1IwETslsYOGEM=
X-Google-DKIM-Signature: v=1; a=rsa-sha256; c=relaxed/relaxed;
 d=1e100.net; s=20230601; t=1709311364; x=1709916164;
 h=references:in-reply-to:cc:to:from:subject:message-id:date
 :x-gm-message-state:from:to:cc:subject:date:message-id:reply-to;
 bh=JSYQLvrE6T9xiuU1A6y4XD9VfqCJyfXO1QWXRqV+iqM=;
 b=mpGzAGdZLFzIKUjLhhmF5B/g0A6wQ3NZpGygNNxbD1HJbJ97p0GMV9AcH2altDaKhd
 dpailyYQHuiCMNE1qcsCA3B/xKhX62wCacRpy3TJC20nrYdGSkIdg5N6WyeUVMBLTEM5
 +8Qq552eaPDxFMdWewGQrvAQXRJbK3GhZ1x3TwlNJa1rN05RdKob+TUt0LZnnDUtfGWN
 nl9mkPcNDiBI35MZMfkePDGA/gvPwAq4utBb3xA1EjX+l195zbH75lChBVbXyrRF9Osz
 TuF5C3yQkF6eqLw+s0Xr+NSVMFCuC/wOTepPsSSKZqaxOhIJCg51zKxhpE166FcNQRMq
 My/w==
X-Gm-Message-State: AOJu0YxDNMwjfhvS1e3lLwpznJMk/1EPg3cz3seGgeFS4hqhA6PRB4kk
 /RMnI+cPs8ZXotSPvwYMUDK+sOI+eceDMMm2VYbgmjJZ0IcPUNaOr3HPWi8KIqTjzJC9hlaYu7B
 RUwSR97iayvGIKiQjVjGBnM7P0Kvck9c/hVPbSWRi
X-Google-Smtp-Source: AGHT+IEdA45QbssHp6CDyDnJ7FE8//NGqAsaB9Q1UAJXej+MQFnwcZIhTReW/E7W4gI2rVteIPdv33DQl2sc
X-Received: by 2002:a25:b9cc:0:b0:dc7:494e:ff33 with SMTP id
 y12-20020a25b9cc000000b00dc7494eff33mr1664956ybj.7.1709311364116; 
 Fri, 01 Mar 2024 08:42:44 -0800 (PST)
Received: from postal.iol.unh.edu (postal.iol.unh.edu. [132.177.123.84])
 by smtp-relay.gmail.com with ESMTPS id
 n132-20020a25728a000000b00dbdb208b416sm212260ybc.35.2024.03.01.08.42.44
 (version=TLS1_2 cipher=ECDHE-ECDSA-AES128-GCM-SHA256 bits=128/128);
 Fri, 01 Mar 2024 08:42:44 -0800 (PST)
X-Relaying-Domain: iol.unh.edu
Date: Fri, 01 Mar 2024 08:42:44 -0800 (PST)
Message-ID: <65e20584.250a0220.9bca6.dcebSMTPIN_ADDED_MISSING@mx.google.com>
Received: from [172.21.0.6] (unknown [172.18.0.240])
 by postal.iol.unh.edu (Postfix) with ESMTP id BD0CA6052712;
 Fri,  1 Mar 2024 11:42:42 -0500 (EST)
Subject: |SUCCESS| pw137661 [PATCH] [v3] net/ice: add diagnostic support in T
From: dpdklab@iol.unh.edu
To: Test Report <test-report@dpdk.org>
Cc: dpdk-test-reports@iol.unh.edu
In-Reply-To: <20240301095052.460597-1-mingjinx.ye@intel.com>
References: <20240301095052.460597-1-mingjinx.ye@intel.com>
Content-Type: text/plain
X-BeenThere: test-report@dpdk.org
X-Mailman-Version: 2.1.29
Precedence: list
List-Id: automatic DPDK test reports <test-report.dpdk.org>
List-Unsubscribe: <https://mails.dpdk.org/options/test-report>,
 <mailto:test-report-request@dpdk.org?subject=unsubscribe>
List-Archive: <http://mails.dpdk.org/archives/test-report/>
List-Post: <mailto:test-report@dpdk.org>
List-Help: <mailto:test-report-request@dpdk.org?subject=help>
List-Subscribe: <https://mails.dpdk.org/listinfo/test-report>,
 <mailto:test-report-request@dpdk.org?subject=subscribe>
Errors-To: test-report-bounces@dpdk.org

Test-Label: iol-compile-amd64-testing
Test-Status: SUCCESS
http://dpdk.org/patch/137661

_Testing PASS_

Submitter: Mingjin Ye <mingjinx.ye@intel.com>
Date: Friday, March 01 2024 09:50:51 
DPDK git baseline: Repo:dpdk
  Branch: master
  CommitID:3408b132b31906fe1ed28d6b2009b98202e1cff0

137661 --> testing pass

Test environment and result as below:

+---------------------+--------------------+----------------------+
|     Environment     | dpdk_meson_compile | dpdk_mingw64_compile |
+=====================+====================+======================+
| FreeBSD 13.2        | PASS               | SKIPPED              |
+---------------------+--------------------+----------------------+
| Windows Server 2019 | PASS               | PASS                 |
+---------------------+--------------------+----------------------+
| CentOS Stream 8     | PASS               | SKIPPED              |
+---------------------+--------------------+----------------------+
| Debian 12 (arm)     | PASS               | SKIPPED              |
+---------------------+--------------------+----------------------+
| CentOS Stream 9     | PASS               | SKIPPED              |
+---------------------+--------------------+----------------------+
| Debian Bullseye     | PASS               | SKIPPED              |
+---------------------+--------------------+----------------------+
| Fedora 37           | PASS               | SKIPPED              |
+---------------------+--------------------+----------------------+
| openSUSE Leap 15    | PASS               | SKIPPED              |
+---------------------+--------------------+----------------------+
| Fedora 38           | PASS               | SKIPPED              |
+---------------------+--------------------+----------------------+
| Ubuntu 22.04        | PASS               | SKIPPED              |
+---------------------+--------------------+----------------------+
| RHEL8               | PASS               | SKIPPED              |
+---------------------+--------------------+----------------------+
| Ubuntu 20.04        | PASS               | SKIPPED              |
+---------------------+--------------------+----------------------+
| Alpine              | PASS               | SKIPPED              |
+---------------------+--------------------+----------------------+
| Windows Server 2022 | PASS               | SKIPPED              |
+---------------------+--------------------+----------------------+


FreeBSD 13.2
	Kernel: 13.2
	Compiler: clang 11.3.0

Windows Server 2019
	Kernel: 10.0
	Compiler: clang 14.0 and gcc 8.1.0 (MinGW)

CentOS Stream 8
	Kernel: 4.18.0-240.10.1.el8_3.x86_64
	Compiler: gcc 8.4.1 20200928

Debian 12 (arm)
	Kernel: Container Host Kernel
	Compiler: gcc 11

CentOS Stream 9
	Kernel: 4.18.0-240.10.1.el8_3.x86_64
	Compiler: gcc 11.3.1 20220421

Debian Bullseye
	Kernel: 5.4.0-122-generic
	Compiler: gcc 10.2.1-6

Fedora 37
	Kernel: Depends on container host system
	Compiler: gcc 12.3.1

openSUSE Leap 15
	Kernel: 4.18.0-240.10.1.el8_3.x86_64
	Compiler: gcc 7.5.0

Fedora 38
	Kernel: Depends on container host
	Compiler: gcc 13.1.1

Ubuntu 22.04
	Kernel: 4.18.0-240.10.1.el8_3.x86_64
	Compiler: gcc 11.3.0

RHEL8
	Kernel: 4.18.0-240.10.1.el8_3.x86_64
	Compiler: gcc 8.3.1 20191121 (Red Hat 8.3.1-5)

Ubuntu 20.04
	Kernel: 5.4.0-153-generic
	Compiler: gcc 9.4.0-1ubuntu1~20.04.1

Alpine
	Kernel: 5.4.0-73-generic
	Compiler: gcc (Alpine 10.3.1_git20210424) 10.3.1 20210424

Windows Server 2022
	Kernel: OS Build 20348.2031
	Compiler: MSVC VS-Preview

To view detailed results, visit:
https://lab.dpdk.org/results/dashboard/patchsets/29367/

UNH-IOL DPDK Community Lab

To manage your email subscriptions, visit: 
https://lab.dpdk.org/results/dashboard/preferences/subscriptions/