From mboxrd@z Thu Jan  1 00:00:00 1970
Return-Path: <test-report-bounces@dpdk.org>
Received: from mails.dpdk.org (mails.dpdk.org [217.70.189.124])
	by inbox.dpdk.org (Postfix) with ESMTP id C28B143C0C
	for <public@inbox.dpdk.org>; Fri,  1 Mar 2024 17:46:08 +0100 (CET)
Received: from mails.dpdk.org (localhost [127.0.0.1])
	by mails.dpdk.org (Postfix) with ESMTP id BA9F7402CD;
	Fri,  1 Mar 2024 17:46:08 +0100 (CET)
Received: from mail-yw1-f225.google.com (mail-yw1-f225.google.com
 [209.85.128.225])
 by mails.dpdk.org (Postfix) with ESMTP id 30770402C0
 for <test-report@dpdk.org>; Fri,  1 Mar 2024 17:46:08 +0100 (CET)
Received: by mail-yw1-f225.google.com with SMTP id
 00721157ae682-60925d20af0so24981827b3.2
 for <test-report@dpdk.org>; Fri, 01 Mar 2024 08:46:08 -0800 (PST)
DKIM-Signature: v=1; a=rsa-sha256; c=relaxed/relaxed;
 d=iol.unh.edu; s=unh-iol; t=1709311567; x=1709916367; darn=dpdk.org;
 h=references:in-reply-to:cc:to:from:subject:message-id:date:from:to
 :cc:subject:date:message-id:reply-to;
 bh=5RIDWZ/HEI1FwYe5IVj8JzYvPrIUhn+bKloDjTEZX5Y=;
 b=FppVcHl87pb/R4B28jJY/B755b6RTKi2DXrP0Og/qau/im8J5TrFE7JECEV5nqaqVn
 vtA/WcklQOLfxZv2xnIl7FbE3rFpfs85mw2qQanu36uoGcrvJq03mme6Z2bwIvAv9shb
 /wFGLtH+vkZ7kJL6jdq1ed/oYhi3DX/Gb5SUs=
X-Google-DKIM-Signature: v=1; a=rsa-sha256; c=relaxed/relaxed;
 d=1e100.net; s=20230601; t=1709311567; x=1709916367;
 h=references:in-reply-to:cc:to:from:subject:message-id:date
 :x-gm-message-state:from:to:cc:subject:date:message-id:reply-to;
 bh=5RIDWZ/HEI1FwYe5IVj8JzYvPrIUhn+bKloDjTEZX5Y=;
 b=OQEsPZ8UAaeU7M7IFMUT62sO7KlRnWqDM4yTK+ksgjKrF/nBAqqaqEPZ2DArLfTHca
 KAp/SVpp32skhDWNReXaTeDT12MhTh8xQQ2ipP5gozwwp/2zHrCT7qYv+JkXpLlCdhbE
 9izr/6W2lxfMbNMHw2JbsftREjpN7rYu+7ZUgs7fpzzQga5RiyU/NF63679pm9ZQDBo5
 g3awYRBgtR5zPjOMmRWcPzVEtb9YwsrcokyivnViwWAthvGXFkFCiMxIqiuh67EOsjhf
 ELM2AghLQPf8Bj43k16CojLD5Kprbktpcy/4NXqrieJfc/ghT52sWKVzNrXgORl6DIZX
 CG5w==
X-Gm-Message-State: AOJu0YxOQVNpvw2FdUV4y5Zvbp9p2rhBCPohYdj7w+Cv4Y7SP7AdKNUv
 S2YMUGtD0JfNjTVkRB5FojF0BD2G8wQVsq/W3TLxuwRbsgWN6dLEzQeRYfHL0iqOnCJ9M2Y0yiM
 Afy2cGgOOmicngOQOCwvjzU0W2gDqY/Jo8DjyoGfEEQF/3UmAioUVrx6o
X-Google-Smtp-Source: AGHT+IH7D97E4x3BSlfsf/G0rVR8vDjv+gu7dwuFn+R6UpfBvxRuGwKyUod4L8rwCfiwQUs6BKSpMzIw9n+/
X-Received: by 2002:a81:6e86:0:b0:608:5dfc:1336 with SMTP id
 j128-20020a816e86000000b006085dfc1336mr2332386ywc.39.1709311567570; 
 Fri, 01 Mar 2024 08:46:07 -0800 (PST)
Received: from postal.iol.unh.edu (postal.iol.unh.edu.
 [2606:4100:3880:1234::84]) by smtp-relay.gmail.com with ESMTPS id
 dg19-20020a05690c0fd300b006087aa21cd9sm102309ywb.2.2024.03.01.08.46.07
 (version=TLS1_2 cipher=ECDHE-ECDSA-AES128-GCM-SHA256 bits=128/128);
 Fri, 01 Mar 2024 08:46:07 -0800 (PST)
X-Relaying-Domain: iol.unh.edu
Date: Fri, 01 Mar 2024 08:46:07 -0800 (PST)
Message-ID: <65e2064f.050a0220.c66be.6db2SMTPIN_ADDED_MISSING@mx.google.com>
Received: from [172.21.0.6] (unknown [172.18.0.240])
 by postal.iol.unh.edu (Postfix) with ESMTP id 3B3EF6052712;
 Fri,  1 Mar 2024 11:46:07 -0500 (EST)
Subject: |SUCCESS| pw137662-137665 [PATCH] [v7,4/4] test: add unit test for p
From: dpdklab@iol.unh.edu
To: Test Report <test-report@dpdk.org>
Cc: dpdk-test-reports@iol.unh.edu
In-Reply-To: <20240301102104.20074-5-paul.szczepanek@arm.com>
References: <20240301102104.20074-5-paul.szczepanek@arm.com>
Content-Type: text/plain
X-BeenThere: test-report@dpdk.org
X-Mailman-Version: 2.1.29
Precedence: list
List-Id: automatic DPDK test reports <test-report.dpdk.org>
List-Unsubscribe: <https://mails.dpdk.org/options/test-report>,
 <mailto:test-report-request@dpdk.org?subject=unsubscribe>
List-Archive: <http://mails.dpdk.org/archives/test-report/>
List-Post: <mailto:test-report@dpdk.org>
List-Help: <mailto:test-report-request@dpdk.org?subject=help>
List-Subscribe: <https://mails.dpdk.org/listinfo/test-report>,
 <mailto:test-report-request@dpdk.org?subject=subscribe>
Errors-To: test-report-bounces@dpdk.org

Test-Label: iol-compile-arm64-testing
Test-Status: SUCCESS
http://dpdk.org/patch/137665

_Testing PASS_

Submitter: Paul Szczepanek <paul.szczepanek@arm.com>
Date: Friday, March 01 2024 10:21:04 
DPDK git baseline: Repo:dpdk
  Branch: master
  CommitID:5df34de5808a7b826b8bc035d6ee3161a12be364

137662-137665 --> testing pass

Test environment and result as below:

+----------------------------------------+--------------------+
|              Environment               | dpdk_meson_compile |
+========================================+====================+
| Ubuntu 20.04 ARM SVE                   | PASS               |
+----------------------------------------+--------------------+
| Fedora 37 (ARM)                        | PASS               |
+----------------------------------------+--------------------+
| Fedora 38 (ARM)                        | PASS               |
+----------------------------------------+--------------------+
| Ubuntu 20.04 (ARM)                     | PASS               |
+----------------------------------------+--------------------+
| Debian 12 (arm)                        | PASS               |
+----------------------------------------+--------------------+
| CentOS Stream 9 (ARM)                  | PASS               |
+----------------------------------------+--------------------+
| Debian 11 (Buster) (ARM)               | PASS               |
+----------------------------------------+--------------------+
| Ubuntu 20.04 ARM GCC Cross Compile     | PASS               |
+----------------------------------------+--------------------+
| Ubuntu 20.04 aarch32 GCC Cross Compile | PASS               |
+----------------------------------------+--------------------+
| Ubuntu 20.04 ARM Clang Cross Compile   | PASS               |
+----------------------------------------+--------------------+


Ubuntu 20.04 ARM SVE
	Kernel: 5.4.0-80-generic
	Compiler: gcc 10.3.0 (Ubuntu 10.3.0-1ubuntu1~20.04)

Fedora 37 (ARM)
	Kernel: Depends on container host
	Compiler: gcc 12.3.1

Fedora 38 (ARM)
	Kernel: Depends on container host
	Compiler: gcc 13.1.1

Ubuntu 20.04 (ARM)
	Kernel: Container Host Kernel
	Compiler: gcc 9.4.0

Debian 12 (arm)
	Kernel: Container Host Kernel
	Compiler: gcc 11

CentOS Stream 9 (ARM)
	Kernel: Container Host Kernel
	Compiler: gcc 11.3.1

Debian 11 (Buster) (ARM)
	Kernel: Container Host Kernel
	Compiler: gcc 10.2.1

Ubuntu 20.04 ARM GCC Cross Compile
	Kernel: 5.4.0-72-generic
	Compiler: aarch64-linux-gnu-gcc (Ubuntu 9.3.0-17ubuntu1~20.04) 9.3.0

Ubuntu 20.04 aarch32 GCC Cross Compile
	Kernel: 5.4.0-72-generic
	Compiler: gcc 9.3.0

Ubuntu 20.04 ARM Clang Cross Compile
	Kernel: 5.4.0-72-generic
	Compiler: clang version 10.0.0-4ubuntu1

To view detailed results, visit:
https://lab.dpdk.org/results/dashboard/patchsets/29368/

UNH-IOL DPDK Community Lab

To manage your email subscriptions, visit: 
https://lab.dpdk.org/results/dashboard/preferences/subscriptions/