From mboxrd@z Thu Jan  1 00:00:00 1970
Return-Path: <test-report-bounces@dpdk.org>
Received: from mails.dpdk.org (mails.dpdk.org [217.70.189.124])
	by inbox.dpdk.org (Postfix) with ESMTP id EFAA943C0C
	for <public@inbox.dpdk.org>; Fri,  1 Mar 2024 17:52:20 +0100 (CET)
Received: from mails.dpdk.org (localhost [127.0.0.1])
	by mails.dpdk.org (Postfix) with ESMTP id EA5944029A;
	Fri,  1 Mar 2024 17:52:20 +0100 (CET)
Received: from mail-oi1-f227.google.com (mail-oi1-f227.google.com
 [209.85.167.227])
 by mails.dpdk.org (Postfix) with ESMTP id EE96A4025C
 for <test-report@dpdk.org>; Fri,  1 Mar 2024 17:52:19 +0100 (CET)
Received: by mail-oi1-f227.google.com with SMTP id
 5614622812f47-3bb9d54575cso1548798b6e.2
 for <test-report@dpdk.org>; Fri, 01 Mar 2024 08:52:19 -0800 (PST)
DKIM-Signature: v=1; a=rsa-sha256; c=relaxed/relaxed;
 d=iol.unh.edu; s=unh-iol; t=1709311939; x=1709916739; darn=dpdk.org;
 h=references:in-reply-to:cc:to:from:subject:message-id:date:from:to
 :cc:subject:date:message-id:reply-to;
 bh=m4r3PcU6hf9+wSH1UW+J+WjArYffqjY4EomLRGizphw=;
 b=OJsaKhyaffvU4/Tc8NaFuMT6G8n82/y1yFF4l5Gc9/v31nC4WILr2kbIo1yqoFCl8K
 3Bw4/WmoBaFqrghqyQCKg+jKiZItE63SyIELlvsc3aQPbAllhZOGTKhRN74nOf/qCuHb
 e/Av6qmkVyobHzSGdsXCmQXPcigNcz+QdCTB8=
X-Google-DKIM-Signature: v=1; a=rsa-sha256; c=relaxed/relaxed;
 d=1e100.net; s=20230601; t=1709311939; x=1709916739;
 h=references:in-reply-to:cc:to:from:subject:message-id:date
 :x-gm-message-state:from:to:cc:subject:date:message-id:reply-to;
 bh=m4r3PcU6hf9+wSH1UW+J+WjArYffqjY4EomLRGizphw=;
 b=mWyGUcyUZDAPD4lEPMLQax0uShAufB/pNOpxht/TpTp+M5fS75WSHYpXcxCmR3UbRQ
 1tgr7Xzp4YTh6WbWheJ2I1lFHQCqM5Uu1ueZJeeouB3R4EKBkQSok/ZxUzj61yzEKSfH
 DpSIDSi5VU5FXX7b+J0/pIBSkGqLhlMAsutDJp6TpXpusLILh+7AWMz/sExhu7fUX08+
 MDfX/88ZeasETo5hwLYvg1E0tCWZNkOiwNyNQdMtVRofn/euhybUhnGbw5PQCQOfDV7n
 +9lBty2YYvLak/feSyzgCGoQ1xsXd3uuH0DkcA4FMdYdqcdxLf6cp/lC+4ntQPMpolo6
 3+WA==
X-Gm-Message-State: AOJu0Yywu5lz+GgA9fh8Y4VMsnpBgw7thoStxGPo8zSz+skROSSdwhr4
 PwmpLTj1T1/2SD7U5Em878VMHUkqEYXEoh6Lvw9wFCvI6BKSD6U9vOhsk6lGDPLgLzaWHjA3j6m
 g/80RZbX2qQlyygoKyYpTnlUkofMczznQVXgocfKIWM2lRvymGt6+AAdB
X-Google-Smtp-Source: AGHT+IF9pYY7UXl1ggIdKsZuJehPhNUJhNruv5arlaWA0nT3F9uXxBKGTC64n8fHC2yflz869pDdhYO3ljJb
X-Received: by 2002:a05:6870:9593:b0:220:bb3b:c762 with SMTP id
 k19-20020a056870959300b00220bb3bc762mr2256958oao.33.1709311939289; 
 Fri, 01 Mar 2024 08:52:19 -0800 (PST)
Received: from postal.iol.unh.edu (postal.iol.unh.edu.
 [2606:4100:3880:1234::84]) by smtp-relay.gmail.com with ESMTPS id
 17-20020a05687013d100b0021fa872d475sm117953oat.26.2024.03.01.08.52.19
 (version=TLS1_2 cipher=ECDHE-ECDSA-AES128-GCM-SHA256 bits=128/128);
 Fri, 01 Mar 2024 08:52:19 -0800 (PST)
X-Relaying-Domain: iol.unh.edu
Date: Fri, 01 Mar 2024 08:52:19 -0800 (PST)
Message-ID: <65e207c3.050a0220.8b94b.769aSMTPIN_ADDED_MISSING@mx.google.com>
Received: from [172.21.0.7] (unknown [172.18.0.240])
 by postal.iol.unh.edu (Postfix) with ESMTP id C04006052712;
 Fri,  1 Mar 2024 11:52:18 -0500 (EST)
Subject: |SUCCESS| pw137661 [PATCH] [v3] net/ice: add diagnostic support in T
From: dpdklab@iol.unh.edu
To: Test Report <test-report@dpdk.org>
Cc: dpdk-test-reports@iol.unh.edu
In-Reply-To: <20240301095052.460597-1-mingjinx.ye@intel.com>
References: <20240301095052.460597-1-mingjinx.ye@intel.com>
Content-Type: text/plain
X-BeenThere: test-report@dpdk.org
X-Mailman-Version: 2.1.29
Precedence: list
List-Id: automatic DPDK test reports <test-report.dpdk.org>
List-Unsubscribe: <https://mails.dpdk.org/options/test-report>,
 <mailto:test-report-request@dpdk.org?subject=unsubscribe>
List-Archive: <http://mails.dpdk.org/archives/test-report/>
List-Post: <mailto:test-report@dpdk.org>
List-Help: <mailto:test-report-request@dpdk.org?subject=help>
List-Subscribe: <https://mails.dpdk.org/listinfo/test-report>,
 <mailto:test-report-request@dpdk.org?subject=subscribe>
Errors-To: test-report-bounces@dpdk.org

Test-Label: iol-unit-amd64-testing
Test-Status: SUCCESS
http://dpdk.org/patch/137661

_Testing PASS_

Submitter: Mingjin Ye <mingjinx.ye@intel.com>
Date: Friday, March 01 2024 09:50:51 
DPDK git baseline: Repo:dpdk
  Branch: master
  CommitID:3408b132b31906fe1ed28d6b2009b98202e1cff0

137661 --> testing pass

Test environment and result as below:

+------------------+----------------+
|   Environment    | dpdk_unit_test |
+==================+================+
| CentOS Stream 9  | PASS           |
+------------------+----------------+
| CentOS Stream 8  | PASS           |
+------------------+----------------+
| Debian Bullseye  | PASS           |
+------------------+----------------+
| Debian 12 (arm)  | PASS           |
+------------------+----------------+
| Fedora 37        | PASS           |
+------------------+----------------+
| Fedora 38        | PASS           |
+------------------+----------------+
| Ubuntu 22.04     | PASS           |
+------------------+----------------+
| RHEL8            | PASS           |
+------------------+----------------+
| Ubuntu 20.04     | PASS           |
+------------------+----------------+
| openSUSE Leap 15 | PASS           |
+------------------+----------------+


CentOS Stream 9
	Kernel: 4.18.0-240.10.1.el8_3.x86_64
	Compiler: gcc 11.3.1 20220421

CentOS Stream 8
	Kernel: 4.18.0-240.10.1.el8_3.x86_64
	Compiler: gcc 8.4.1 20200928

Debian Bullseye
	Kernel: 5.4.0-122-generic
	Compiler: gcc 10.2.1-6

Debian 12 (arm)
	Kernel: Container Host Kernel
	Compiler: gcc 11

Fedora 37
	Kernel: Depends on container host system
	Compiler: gcc 12.3.1

Fedora 38
	Kernel: Depends on container host
	Compiler: gcc 13.1.1

Ubuntu 22.04
	Kernel: 4.18.0-240.10.1.el8_3.x86_64
	Compiler: gcc 11.3.0

RHEL8
	Kernel: 4.18.0-240.10.1.el8_3.x86_64
	Compiler: gcc 8.3.1 20191121 (Red Hat 8.3.1-5)

Ubuntu 20.04
	Kernel: 5.4.0-153-generic
	Compiler: gcc 9.4.0-1ubuntu1~20.04.1

openSUSE Leap 15
	Kernel: 4.18.0-240.10.1.el8_3.x86_64
	Compiler: gcc 7.5.0

To view detailed results, visit:
https://lab.dpdk.org/results/dashboard/patchsets/29367/

UNH-IOL DPDK Community Lab

To manage your email subscriptions, visit: 
https://lab.dpdk.org/results/dashboard/preferences/subscriptions/