From mboxrd@z Thu Jan  1 00:00:00 1970
Return-Path: <test-report-bounces@dpdk.org>
Received: from mails.dpdk.org (mails.dpdk.org [217.70.189.124])
	by inbox.dpdk.org (Postfix) with ESMTP id 5596743C12
	for <public@inbox.dpdk.org>; Fri,  1 Mar 2024 18:10:21 +0100 (CET)
Received: from mails.dpdk.org (localhost [127.0.0.1])
	by mails.dpdk.org (Postfix) with ESMTP id 511804025C;
	Fri,  1 Mar 2024 18:10:21 +0100 (CET)
Received: from mail-pl1-f226.google.com (mail-pl1-f226.google.com
 [209.85.214.226])
 by mails.dpdk.org (Postfix) with ESMTP id C4949400D5
 for <test-report@dpdk.org>; Fri,  1 Mar 2024 18:10:19 +0100 (CET)
Received: by mail-pl1-f226.google.com with SMTP id
 d9443c01a7336-1dc09556599so21884335ad.1
 for <test-report@dpdk.org>; Fri, 01 Mar 2024 09:10:19 -0800 (PST)
DKIM-Signature: v=1; a=rsa-sha256; c=relaxed/relaxed;
 d=iol.unh.edu; s=unh-iol; t=1709313019; x=1709917819; darn=dpdk.org;
 h=references:in-reply-to:cc:to:from:subject:message-id:date:from:to
 :cc:subject:date:message-id:reply-to;
 bh=PYReq6d6rJs4kJIx8BJROu/TLU22+LjoxanOirZWnhs=;
 b=ZhXPIX9uf125u4WvUkJgJ8No9o7P5LILorLxXKDq+6Ya3icpalTjqWxlZX43GPY0+6
 4B0+eCcSzbxJ8iZi3/AJ0rXsqF3m0PJTRVwTUE4oP9PE0e7iZaTf1Fatf134JblBtrHs
 WQONcwQYjpZe4gF690BQIpmHMp8eYMyY/wL3I=
X-Google-DKIM-Signature: v=1; a=rsa-sha256; c=relaxed/relaxed;
 d=1e100.net; s=20230601; t=1709313019; x=1709917819;
 h=references:in-reply-to:cc:to:from:subject:message-id:date
 :x-gm-message-state:from:to:cc:subject:date:message-id:reply-to;
 bh=PYReq6d6rJs4kJIx8BJROu/TLU22+LjoxanOirZWnhs=;
 b=VlNWcVMNdr22ULeFHIecJK5isM2m0fymT13/0QxPLxo2DNSgwwOlprx2c4ILpT1eXs
 vPHxzWBawIJNDNX3z1SDUK04ty/z3VKG54Gsfs93/ZqAvxCxLrIYfL/IuK9xljzS6AEu
 EHmfhy5lL4i5inW2gI+6Zxe0AyEIq37CUi5Z0maEbGji1nyd3ZmR7psN5hPqURnVD3G4
 XFKtJ+vW9yfPxGbFNLih/Dn9fgvBydy2oik953cMK1NkzVgSTdxFCu0uEbmqCFE+nUS3
 eblQUHktKVUIct99TBIuvx+88noz/qdcxKFPaMpXqTlcHN5jibufnlPMTnShg4z1s7fB
 gsLg==
X-Gm-Message-State: AOJu0YxyRN5k3zT+cVgMyg/mdA71gyNTAHydWe5F4BSa2h0UpWJZ+Leq
 0DLuvXuoIQw9dP6Om4i7faU8lsmB9LnzAWHgOXRRDWCJASqB9EFpza2R/ln2wzz4GOyjFqS/Rwr
 jfy1qJmmCvLY9A5ZZRYD8qdE4SLJYTjVowZXxAlbTOi0J0psUtqMJFm7h
X-Google-Smtp-Source: AGHT+IENCDIUqtVhcSF9evFT2/Arzzotq17d+ycP0Sm5+InK3LjoIv/lirI/DzvHhwfnrd2EvBCKF8iEPJT3
X-Received: by 2002:a17:902:d485:b0:1db:e089:7474 with SMTP id
 c5-20020a170902d48500b001dbe0897474mr2758467plg.66.1709313018938; 
 Fri, 01 Mar 2024 09:10:18 -0800 (PST)
Received: from postal.iol.unh.edu (postal.iol.unh.edu.
 [2606:4100:3880:1234::84]) by smtp-relay.gmail.com with ESMTPS id
 v19-20020a1709028d9300b001dca9b21266sm99405plo.90.2024.03.01.09.10.18
 (version=TLS1_2 cipher=ECDHE-ECDSA-AES128-GCM-SHA256 bits=128/128);
 Fri, 01 Mar 2024 09:10:18 -0800 (PST)
X-Relaying-Domain: iol.unh.edu
Date: Fri, 01 Mar 2024 09:10:18 -0800 (PST)
Message-ID: <65e20bfa.170a0220.99b0f.6771SMTPIN_ADDED_MISSING@mx.google.com>
Received: from [172.21.0.6] (unknown [172.18.0.240])
 by postal.iol.unh.edu (Postfix) with ESMTP id 212756052712;
 Fri,  1 Mar 2024 12:10:18 -0500 (EST)
Subject: |SUCCESS| pw137674 [PATCH] crypto/mlx5: add max segment assert
From: dpdklab@iol.unh.edu
To: Test Report <test-report@dpdk.org>
Cc: Suanming Mou <suanmingm@nvidia.com>
In-Reply-To: <20240301124246.1216467-1-suanmingm@nvidia.com>
References: <20240301124246.1216467-1-suanmingm@nvidia.com>
Content-Type: text/plain
X-BeenThere: test-report@dpdk.org
X-Mailman-Version: 2.1.29
Precedence: list
List-Id: automatic DPDK test reports <test-report.dpdk.org>
List-Unsubscribe: <https://mails.dpdk.org/options/test-report>,
 <mailto:test-report-request@dpdk.org?subject=unsubscribe>
List-Archive: <http://mails.dpdk.org/archives/test-report/>
List-Post: <mailto:test-report@dpdk.org>
List-Help: <mailto:test-report-request@dpdk.org?subject=help>
List-Subscribe: <https://mails.dpdk.org/listinfo/test-report>,
 <mailto:test-report-request@dpdk.org?subject=subscribe>
Errors-To: test-report-bounces@dpdk.org

Test-Label: iol-abi-testing
Test-Status: SUCCESS
http://dpdk.org/patch/137674

_Testing PASS_

Submitter: Suanming Mou <suanmingm@nvidia.com>
Date: Friday, March 01 2024 12:42:45 
DPDK git baseline: Repo:dpdk
  Branch: master
  CommitID:5ac50824383c2683c0dfdf24c6dc493f1fa54852

137674 --> testing pass

Test environment and result as below:

+------------------+----------+
|   Environment    | abi_test |
+==================+==========+
| openSUSE Leap 15 | PASS     |
+------------------+----------+
| RHEL8            | PASS     |
+------------------+----------+
| Fedora 38        | PASS     |
+------------------+----------+
| Debian 12 (arm)  | PASS     |
+------------------+----------+
| Ubuntu 22.04     | PASS     |
+------------------+----------+
| Fedora 37        | PASS     |
+------------------+----------+
| CentOS Stream 9  | PASS     |
+------------------+----------+
| CentOS Stream 8  | PASS     |
+------------------+----------+
| Debian Bullseye  | PASS     |
+------------------+----------+


openSUSE Leap 15
	Kernel: 4.18.0-240.10.1.el8_3.x86_64
	Compiler: gcc 7.5.0

RHEL8
	Kernel: 4.18.0-240.10.1.el8_3.x86_64
	Compiler: gcc 8.3.1 20191121 (Red Hat 8.3.1-5)

Fedora 38
	Kernel: Depends on container host
	Compiler: clang 16.0.3

Debian 12 (arm)
	Kernel: Container Host Kernel
	Compiler: gcc 11

Ubuntu 22.04
	Kernel: 4.18.0-240.10.1.el8_3.x86_64
	Compiler: gcc 11.3.0

Fedora 37
	Kernel: Depends on container host system
	Compiler: gcc 12.3.1

CentOS Stream 9
	Kernel: 4.18.0-240.10.1.el8_3.x86_64
	Compiler: gcc 11.3.1 20220421

CentOS Stream 8
	Kernel: 4.18.0-240.10.1.el8_3.x86_64
	Compiler: gcc 8.4.1 20200928

Debian Bullseye
	Kernel: 5.4.0-122-generic
	Compiler: gcc 10.2.1-6

To view detailed results, visit:
https://lab.dpdk.org/results/dashboard/patchsets/29371/

UNH-IOL DPDK Community Lab

To manage your email subscriptions, visit: 
https://lab.dpdk.org/results/dashboard/preferences/subscriptions/