From mboxrd@z Thu Jan  1 00:00:00 1970
Return-Path: <test-report-bounces@dpdk.org>
Received: from mails.dpdk.org (mails.dpdk.org [217.70.189.124])
	by inbox.dpdk.org (Postfix) with ESMTP id 176BB43C12
	for <public@inbox.dpdk.org>; Fri,  1 Mar 2024 18:12:53 +0100 (CET)
Received: from mails.dpdk.org (localhost [127.0.0.1])
	by mails.dpdk.org (Postfix) with ESMTP id 13D854029A;
	Fri,  1 Mar 2024 18:12:53 +0100 (CET)
Received: from mail-il1-f228.google.com (mail-il1-f228.google.com
 [209.85.166.228])
 by mails.dpdk.org (Postfix) with ESMTP id 4CF134029A
 for <test-report@dpdk.org>; Fri,  1 Mar 2024 18:12:52 +0100 (CET)
Received: by mail-il1-f228.google.com with SMTP id
 e9e14a558f8ab-365124888a5so9646415ab.1
 for <test-report@dpdk.org>; Fri, 01 Mar 2024 09:12:52 -0800 (PST)
DKIM-Signature: v=1; a=rsa-sha256; c=relaxed/relaxed;
 d=iol.unh.edu; s=unh-iol; t=1709313171; x=1709917971; darn=dpdk.org;
 h=references:in-reply-to:cc:to:from:subject:message-id:date:from:to
 :cc:subject:date:message-id:reply-to;
 bh=PYReq6d6rJs4kJIx8BJROu/TLU22+LjoxanOirZWnhs=;
 b=cDtY+GeoFqlEkBNfl9umZk7KGt4BI8uhvg8qrQ8TNTpeemlSU8luQr7Wf69aEsEjxW
 p6HuB1AvcYtjMxVu/I4ZE7CHc8lTPDHvb3D7kaJ82Ys5ahLee65GYAy7K4CoBBDKOrXu
 zXcobxO5Iyv9E/UUumutETH4Jn20TXjs1KSFA=
X-Google-DKIM-Signature: v=1; a=rsa-sha256; c=relaxed/relaxed;
 d=1e100.net; s=20230601; t=1709313171; x=1709917971;
 h=references:in-reply-to:cc:to:from:subject:message-id:date
 :x-gm-message-state:from:to:cc:subject:date:message-id:reply-to;
 bh=PYReq6d6rJs4kJIx8BJROu/TLU22+LjoxanOirZWnhs=;
 b=n63qdZNuGimxIucXucAG5ntC8BQJBeZRUoE+BHDPxIJpM8f98WC8TXG6OgaW47naUB
 +JxMBTSKZ3OE7lKKav13hK1h5/3UvlPkQJOXI15zFVTHaX7baS0nVnIht29wXQ0x8jdw
 rqcWMm2LAogjxrxIkc1KDCv1tu7mdj66oLtC6fJLbOfUsnvZ+/Wt5yc+3QHhhslGB2em
 a8xdNq3FktGbKqG3WY2tbaFgpuCdtZGbH7TegyLHncCUGUkOMSQ8HltbPbEj0UJ9p4Rk
 KIzLl+5Xs3w9o35gOwQJcUzgeVvMkdpK3zQJ4su43CzyfYJKssxJiC+WO7s8lnoaQvfh
 wxUg==
X-Gm-Message-State: AOJu0YxO2sMVfsFLICoXbTy3pGPZKZTQngVyKdp0LLbZ48whVwVdhvx/
 KIxuisSNrqw2yDSn40Jsl6iWfdIjh0L+Sv+N5NBNsTIMNjEOlfsSJfuzRDPYh8UCMKnEiXnd7Xj
 sfOA4mTvZXARSNoC2NMhxprgB1JWui1zrCR500oDtB4cdjYw8Dh6y4l2V
X-Google-Smtp-Source: AGHT+IEN3x2tGNSzS5YXPqv4AVT1TG+0Kim+y/m+n1z7K1nNcrjkTbOgQ4Md4/ASb6CSMmHHJa9NhG+XOUui
X-Received: by 2002:a05:6e02:170e:b0:365:a358:9820 with SMTP id
 u14-20020a056e02170e00b00365a3589820mr2956995ill.26.1709313171721; 
 Fri, 01 Mar 2024 09:12:51 -0800 (PST)
Received: from postal.iol.unh.edu (postal.iol.unh.edu.
 [2606:4100:3880:1234::84]) by smtp-relay.gmail.com with ESMTPS id
 bd8-20020a056e02300800b00363d9deea97sm208231ilb.16.2024.03.01.09.12.51
 (version=TLS1_2 cipher=ECDHE-ECDSA-AES128-GCM-SHA256 bits=128/128);
 Fri, 01 Mar 2024 09:12:51 -0800 (PST)
X-Relaying-Domain: iol.unh.edu
Date: Fri, 01 Mar 2024 09:12:51 -0800 (PST)
Message-ID: <65e20c93.050a0220.3300a.e6b6SMTPIN_ADDED_MISSING@mx.google.com>
Received: from [172.17.0.9] (unknown [172.18.0.217])
 by postal.iol.unh.edu (Postfix) with ESMTP id 3B8E06052712;
 Fri,  1 Mar 2024 12:12:51 -0500 (EST)
Subject: |SUCCESS| pw137674 [PATCH] crypto/mlx5: add max segment assert
From: dpdklab@iol.unh.edu
To: Test Report <test-report@dpdk.org>
Cc: Suanming Mou <suanmingm@nvidia.com>
In-Reply-To: <20240301124246.1216467-1-suanmingm@nvidia.com>
References: <20240301124246.1216467-1-suanmingm@nvidia.com>
Content-Type: text/plain
X-BeenThere: test-report@dpdk.org
X-Mailman-Version: 2.1.29
Precedence: list
List-Id: automatic DPDK test reports <test-report.dpdk.org>
List-Unsubscribe: <https://mails.dpdk.org/options/test-report>,
 <mailto:test-report-request@dpdk.org?subject=unsubscribe>
List-Archive: <http://mails.dpdk.org/archives/test-report/>
List-Post: <mailto:test-report@dpdk.org>
List-Help: <mailto:test-report-request@dpdk.org?subject=help>
List-Subscribe: <https://mails.dpdk.org/listinfo/test-report>,
 <mailto:test-report-request@dpdk.org?subject=subscribe>
Errors-To: test-report-bounces@dpdk.org

Test-Label: iol-abi-testing
Test-Status: SUCCESS
http://dpdk.org/patch/137674

_Testing PASS_

Submitter: Suanming Mou <suanmingm@nvidia.com>
Date: Friday, March 01 2024 12:42:45 
DPDK git baseline: Repo:dpdk
  Branch: master
  CommitID:5ac50824383c2683c0dfdf24c6dc493f1fa54852

137674 --> testing pass

Test environment and result as below:

+------------------+----------+
|   Environment    | abi_test |
+==================+==========+
| openSUSE Leap 15 | PASS     |
+------------------+----------+
| RHEL8            | PASS     |
+------------------+----------+
| Fedora 38        | PASS     |
+------------------+----------+
| Debian 12 (arm)  | PASS     |
+------------------+----------+
| Ubuntu 22.04     | PASS     |
+------------------+----------+
| Fedora 37        | PASS     |
+------------------+----------+
| CentOS Stream 9  | PASS     |
+------------------+----------+
| CentOS Stream 8  | PASS     |
+------------------+----------+
| Debian Bullseye  | PASS     |
+------------------+----------+


openSUSE Leap 15
	Kernel: 4.18.0-240.10.1.el8_3.x86_64
	Compiler: gcc 7.5.0

RHEL8
	Kernel: 4.18.0-240.10.1.el8_3.x86_64
	Compiler: gcc 8.3.1 20191121 (Red Hat 8.3.1-5)

Fedora 38
	Kernel: Depends on container host
	Compiler: clang 16.0.3

Debian 12 (arm)
	Kernel: Container Host Kernel
	Compiler: gcc 11

Ubuntu 22.04
	Kernel: 4.18.0-240.10.1.el8_3.x86_64
	Compiler: gcc 11.3.0

Fedora 37
	Kernel: Depends on container host system
	Compiler: gcc 12.3.1

CentOS Stream 9
	Kernel: 4.18.0-240.10.1.el8_3.x86_64
	Compiler: gcc 11.3.1 20220421

CentOS Stream 8
	Kernel: 4.18.0-240.10.1.el8_3.x86_64
	Compiler: gcc 8.4.1 20200928

Debian Bullseye
	Kernel: 5.4.0-122-generic
	Compiler: gcc 10.2.1-6

To view detailed results, visit:
https://lab.dpdk.org/results/dashboard/patchsets/29371/

UNH-IOL DPDK Community Lab

To manage your email subscriptions, visit: 
https://lab.dpdk.org/results/dashboard/preferences/subscriptions/