From mboxrd@z Thu Jan  1 00:00:00 1970
Return-Path: <test-report-bounces@dpdk.org>
Received: from mails.dpdk.org (mails.dpdk.org [217.70.189.124])
	by inbox.dpdk.org (Postfix) with ESMTP id 662BD43C12
	for <public@inbox.dpdk.org>; Fri,  1 Mar 2024 18:13:49 +0100 (CET)
Received: from mails.dpdk.org (localhost [127.0.0.1])
	by mails.dpdk.org (Postfix) with ESMTP id 624424025C;
	Fri,  1 Mar 2024 18:13:49 +0100 (CET)
Received: from mail-io1-f99.google.com (mail-io1-f99.google.com
 [209.85.166.99]) by mails.dpdk.org (Postfix) with ESMTP id 6B6E9400D5
 for <test-report@dpdk.org>; Fri,  1 Mar 2024 18:13:48 +0100 (CET)
Received: by mail-io1-f99.google.com with SMTP id
 ca18e2360f4ac-7c7c9846910so105932939f.1
 for <test-report@dpdk.org>; Fri, 01 Mar 2024 09:13:48 -0800 (PST)
DKIM-Signature: v=1; a=rsa-sha256; c=relaxed/relaxed;
 d=iol.unh.edu; s=unh-iol; t=1709313228; x=1709918028; darn=dpdk.org;
 h=references:in-reply-to:cc:to:from:subject:message-id:date:from:to
 :cc:subject:date:message-id:reply-to;
 bh=PYReq6d6rJs4kJIx8BJROu/TLU22+LjoxanOirZWnhs=;
 b=hRLr9fulIizzwRUCabW8zhJtTy+paYEqlTIj6GP797Z0s6IjZVkXWjhfdwVeNHtWvQ
 F1z1kmGHeLfAxsfATU65Ps8lvPMMAaFx4QKbhgIjmk+9wxuM2ddBCcf/qSnjIDEO0QZm
 rcpKdUMNrjwWTHVfxIgmv8JvlrJGnLY6/7Ffk=
X-Google-DKIM-Signature: v=1; a=rsa-sha256; c=relaxed/relaxed;
 d=1e100.net; s=20230601; t=1709313228; x=1709918028;
 h=references:in-reply-to:cc:to:from:subject:message-id:date
 :x-gm-message-state:from:to:cc:subject:date:message-id:reply-to;
 bh=PYReq6d6rJs4kJIx8BJROu/TLU22+LjoxanOirZWnhs=;
 b=t6sveJnOJSSqHjNXE0xOCuluN8WUpYb3AZTfLqSdPN1LkprEFzEnckukRckEy5o36T
 28Tq9oC++SKBEQVAFGGsmbP7MW1jZnSpuI6K9GU1IdNPliYfvEoyOrkorhBz1i5/DYwz
 OlJPNKoUlOZeaoaLre0tJiMhGYcpfDGZR+CgM4xPxCKDWwPmLHmXnMb1dQd0vyoI8hP4
 d8qgeszCk8Oi6rybw0kjXGDBt0Es49DI1ki3cUAbOZ7XD4avG3e0/a7lEwTn6KmTFnJ7
 sKxLGUI6lb92nJcot71f4hwgtxr1k75kOu5Q6OjU0SO/rXWIgwhmTQd91AtQod1r3OiX
 TL1w==
X-Gm-Message-State: AOJu0YzZLUc366FqIQ8BXMYAAkvyjDHlGGJ4nQ2y9+rOi1Hev0/32scP
 YVxZ3SyXRcuikdFwUBdoNo/SsZJ6hirQjGMSTNC7AatqoEeRwx1HT9RDuO+TZIVhQiDoR5Lxwmp
 3t8JmDvYpV4ybOa2phelKH1cQr/Jybm9xL4lCwsvTyY3y3eKkIA5mdydm
X-Google-Smtp-Source: AGHT+IF1r41MQpv/OiMJ1d9flhZat5YC0bhOVg3pl0u6jyZdDCWvr2ZrYDLBjiwqkeQ4PIa+y1NYPjMqCn0X
X-Received: by 2002:a5e:db4d:0:b0:7c8:2702:404 with SMTP id
 r13-20020a5edb4d000000b007c827020404mr1732154iop.16.1709313227901; 
 Fri, 01 Mar 2024 09:13:47 -0800 (PST)
Received: from postal.iol.unh.edu (postal.iol.unh.edu.
 [2606:4100:3880:1234::84]) by smtp-relay.gmail.com with ESMTPS id
 fl43-20020a05663863eb00b004739d01c1f6sm117948jab.61.2024.03.01.09.13.47
 (version=TLS1_2 cipher=ECDHE-ECDSA-AES128-GCM-SHA256 bits=128/128);
 Fri, 01 Mar 2024 09:13:47 -0800 (PST)
X-Relaying-Domain: iol.unh.edu
Date: Fri, 01 Mar 2024 09:13:47 -0800 (PST)
Message-ID: <65e20ccb.050a0220.aa7b3.80f3SMTPIN_ADDED_MISSING@mx.google.com>
Received: from [172.17.0.7] (unknown [172.18.0.217])
 by postal.iol.unh.edu (Postfix) with ESMTP id 709396052712;
 Fri,  1 Mar 2024 12:13:47 -0500 (EST)
Subject: |SUCCESS| pw137674 [PATCH] crypto/mlx5: add max segment assert
From: dpdklab@iol.unh.edu
To: Test Report <test-report@dpdk.org>
Cc: Suanming Mou <suanmingm@nvidia.com>
In-Reply-To: <20240301124246.1216467-1-suanmingm@nvidia.com>
References: <20240301124246.1216467-1-suanmingm@nvidia.com>
Content-Type: text/plain
X-BeenThere: test-report@dpdk.org
X-Mailman-Version: 2.1.29
Precedence: list
List-Id: automatic DPDK test reports <test-report.dpdk.org>
List-Unsubscribe: <https://mails.dpdk.org/options/test-report>,
 <mailto:test-report-request@dpdk.org?subject=unsubscribe>
List-Archive: <http://mails.dpdk.org/archives/test-report/>
List-Post: <mailto:test-report@dpdk.org>
List-Help: <mailto:test-report-request@dpdk.org?subject=help>
List-Subscribe: <https://mails.dpdk.org/listinfo/test-report>,
 <mailto:test-report-request@dpdk.org?subject=subscribe>
Errors-To: test-report-bounces@dpdk.org

Test-Label: iol-abi-testing
Test-Status: SUCCESS
http://dpdk.org/patch/137674

_Testing PASS_

Submitter: Suanming Mou <suanmingm@nvidia.com>
Date: Friday, March 01 2024 12:42:45 
DPDK git baseline: Repo:dpdk
  Branch: master
  CommitID:5ac50824383c2683c0dfdf24c6dc493f1fa54852

137674 --> testing pass

Test environment and result as below:

+------------------+----------+
|   Environment    | abi_test |
+==================+==========+
| openSUSE Leap 15 | PASS     |
+------------------+----------+
| RHEL8            | PASS     |
+------------------+----------+
| Fedora 38        | PASS     |
+------------------+----------+
| Debian 12 (arm)  | PASS     |
+------------------+----------+
| Ubuntu 22.04     | PASS     |
+------------------+----------+
| Fedora 37        | PASS     |
+------------------+----------+
| CentOS Stream 9  | PASS     |
+------------------+----------+
| CentOS Stream 8  | PASS     |
+------------------+----------+
| Debian Bullseye  | PASS     |
+------------------+----------+


openSUSE Leap 15
	Kernel: 4.18.0-240.10.1.el8_3.x86_64
	Compiler: gcc 7.5.0

RHEL8
	Kernel: 4.18.0-240.10.1.el8_3.x86_64
	Compiler: gcc 8.3.1 20191121 (Red Hat 8.3.1-5)

Fedora 38
	Kernel: Depends on container host
	Compiler: clang 16.0.3

Debian 12 (arm)
	Kernel: Container Host Kernel
	Compiler: gcc 11

Ubuntu 22.04
	Kernel: 4.18.0-240.10.1.el8_3.x86_64
	Compiler: gcc 11.3.0

Fedora 37
	Kernel: Depends on container host system
	Compiler: gcc 12.3.1

CentOS Stream 9
	Kernel: 4.18.0-240.10.1.el8_3.x86_64
	Compiler: gcc 11.3.1 20220421

CentOS Stream 8
	Kernel: 4.18.0-240.10.1.el8_3.x86_64
	Compiler: gcc 8.4.1 20200928

Debian Bullseye
	Kernel: 5.4.0-122-generic
	Compiler: gcc 10.2.1-6

To view detailed results, visit:
https://lab.dpdk.org/results/dashboard/patchsets/29371/

UNH-IOL DPDK Community Lab

To manage your email subscriptions, visit: 
https://lab.dpdk.org/results/dashboard/preferences/subscriptions/