From mboxrd@z Thu Jan  1 00:00:00 1970
Return-Path: <test-report-bounces@dpdk.org>
Received: from mails.dpdk.org (mails.dpdk.org [217.70.189.124])
	by inbox.dpdk.org (Postfix) with ESMTP id 962ED43C12
	for <public@inbox.dpdk.org>; Fri,  1 Mar 2024 18:14:21 +0100 (CET)
Received: from mails.dpdk.org (localhost [127.0.0.1])
	by mails.dpdk.org (Postfix) with ESMTP id 925944025C;
	Fri,  1 Mar 2024 18:14:21 +0100 (CET)
Received: from mail-yw1-f227.google.com (mail-yw1-f227.google.com
 [209.85.128.227])
 by mails.dpdk.org (Postfix) with ESMTP id 74B9E400D5
 for <test-report@dpdk.org>; Fri,  1 Mar 2024 18:14:20 +0100 (CET)
Received: by mail-yw1-f227.google.com with SMTP id
 00721157ae682-60982a6d8a7so10527347b3.0
 for <test-report@dpdk.org>; Fri, 01 Mar 2024 09:14:20 -0800 (PST)
DKIM-Signature: v=1; a=rsa-sha256; c=relaxed/relaxed;
 d=iol.unh.edu; s=unh-iol; t=1709313260; x=1709918060; darn=dpdk.org;
 h=references:in-reply-to:cc:to:from:subject:message-id:date:from:to
 :cc:subject:date:message-id:reply-to;
 bh=JSYQLvrE6T9xiuU1A6y4XD9VfqCJyfXO1QWXRqV+iqM=;
 b=TrloCFMPxKq045yTEHJm0yPcaTDJtIlYS/oFl/taPs5icCCAEHh/P6GdmjrZibkKEQ
 YTfenwmwjEtqBecdceZvN5Ng4MwaSnyNmIWwiRC8jFrykNXxOevoNA02DvOrcP3xvbHh
 a7vcvuoDT+AMw602Qya4DkQX5UGUauBalbi1Q=
X-Google-DKIM-Signature: v=1; a=rsa-sha256; c=relaxed/relaxed;
 d=1e100.net; s=20230601; t=1709313260; x=1709918060;
 h=references:in-reply-to:cc:to:from:subject:message-id:date
 :x-gm-message-state:from:to:cc:subject:date:message-id:reply-to;
 bh=JSYQLvrE6T9xiuU1A6y4XD9VfqCJyfXO1QWXRqV+iqM=;
 b=Yn764cUQXAAI3pKWzyz2gufdRRfT5uuK+fei3BrR0g//nPI0N4qEPk4P73A+jiltvb
 IxWAeHQGvtkplbOgnC558gbl67gcXiVPc7NzKW7EMYcmxWVKLzeSV49a8gV5e3Iq8Aa7
 kPAuy25zz2DpfEJp3yiWI+41J1TS7FxwyXd6pYWliDmQjBB4IdeHoL1ZrRxLb6sVQx3k
 p9TMmcI4NFMG19NMfT7lkv9+u6piAhztQ+KpuFqwwyd55pcgq+0H0jQMpdVtIQyRsYKv
 oY4S4e6FCRRaCQudOuKzBe4GwgQqSIB5SpOGf1SEPDBIdDivk7dqbp2ECO2ip9YDlZkZ
 6LnA==
X-Gm-Message-State: AOJu0Ywyndl3TpvlqBhajuBupyQa9Ark8y6SRrEX1cSnDpNC0hGHv5yF
 YA395Lh6tNdzqXnS3WvvGONOK79w59+WgTpPvrDi7ZBm1Bwy3ImB5FE90LHTKcx8N69ykH7QKYG
 OKUFxhZyCjMBrhAfbRurylfqtQ8pyEpKVJ+oLVkQCFzbq+QCEP4F/XPsz
X-Google-Smtp-Source: AGHT+IGVZPCKGga0n+ZRmfyriosF4UjA4BzV8kNCB27BLx74hPW0oRG57yQe69Rxq5ZEUy8xU1VeQPpvlLaQ
X-Received: by 2002:a81:4854:0:b0:608:4ca9:6aa0 with SMTP id
 v81-20020a814854000000b006084ca96aa0mr2102624ywa.20.1709313259936; 
 Fri, 01 Mar 2024 09:14:19 -0800 (PST)
Received: from postal.iol.unh.edu (postal.iol.unh.edu.
 [2606:4100:3880:1234::84]) by smtp-relay.gmail.com with ESMTPS id
 a207-20020a0dd8d8000000b00609704066c3sm200837ywe.18.2024.03.01.09.14.19
 (version=TLS1_2 cipher=ECDHE-ECDSA-AES128-GCM-SHA256 bits=128/128);
 Fri, 01 Mar 2024 09:14:19 -0800 (PST)
X-Relaying-Domain: iol.unh.edu
Date: Fri, 01 Mar 2024 09:14:19 -0800 (PST)
Message-ID: <65e20ceb.0d0a0220.2bc98.df4eSMTPIN_ADDED_MISSING@mx.google.com>
Received: from [172.17.0.7] (unknown [172.18.0.217])
 by postal.iol.unh.edu (Postfix) with ESMTP id 8C61660527CD;
 Fri,  1 Mar 2024 12:14:19 -0500 (EST)
Subject: |SUCCESS| pw137661 [PATCH] [v3] net/ice: add diagnostic support in T
From: dpdklab@iol.unh.edu
To: Test Report <test-report@dpdk.org>
Cc: dpdk-test-reports@iol.unh.edu
In-Reply-To: <20240301095052.460597-1-mingjinx.ye@intel.com>
References: <20240301095052.460597-1-mingjinx.ye@intel.com>
Content-Type: text/plain
X-BeenThere: test-report@dpdk.org
X-Mailman-Version: 2.1.29
Precedence: list
List-Id: automatic DPDK test reports <test-report.dpdk.org>
List-Unsubscribe: <https://mails.dpdk.org/options/test-report>,
 <mailto:test-report-request@dpdk.org?subject=unsubscribe>
List-Archive: <http://mails.dpdk.org/archives/test-report/>
List-Post: <mailto:test-report@dpdk.org>
List-Help: <mailto:test-report-request@dpdk.org?subject=help>
List-Subscribe: <https://mails.dpdk.org/listinfo/test-report>,
 <mailto:test-report-request@dpdk.org?subject=subscribe>
Errors-To: test-report-bounces@dpdk.org

Test-Label: iol-compile-amd64-testing
Test-Status: SUCCESS
http://dpdk.org/patch/137661

_Testing PASS_

Submitter: Mingjin Ye <mingjinx.ye@intel.com>
Date: Friday, March 01 2024 09:50:51 
DPDK git baseline: Repo:dpdk
  Branch: master
  CommitID:3408b132b31906fe1ed28d6b2009b98202e1cff0

137661 --> testing pass

Test environment and result as below:

+---------------------+--------------------+----------------------+
|     Environment     | dpdk_meson_compile | dpdk_mingw64_compile |
+=====================+====================+======================+
| FreeBSD 13.2        | PASS               | SKIPPED              |
+---------------------+--------------------+----------------------+
| Windows Server 2019 | PASS               | PASS                 |
+---------------------+--------------------+----------------------+
| CentOS Stream 8     | PASS               | SKIPPED              |
+---------------------+--------------------+----------------------+
| Debian 12 (arm)     | PASS               | SKIPPED              |
+---------------------+--------------------+----------------------+
| CentOS Stream 9     | PASS               | SKIPPED              |
+---------------------+--------------------+----------------------+
| Debian Bullseye     | PASS               | SKIPPED              |
+---------------------+--------------------+----------------------+
| Fedora 37           | PASS               | SKIPPED              |
+---------------------+--------------------+----------------------+
| openSUSE Leap 15    | PASS               | SKIPPED              |
+---------------------+--------------------+----------------------+
| Fedora 38           | PASS               | SKIPPED              |
+---------------------+--------------------+----------------------+
| Ubuntu 22.04        | PASS               | SKIPPED              |
+---------------------+--------------------+----------------------+
| RHEL8               | PASS               | SKIPPED              |
+---------------------+--------------------+----------------------+
| Ubuntu 20.04        | PASS               | SKIPPED              |
+---------------------+--------------------+----------------------+
| Alpine              | PASS               | SKIPPED              |
+---------------------+--------------------+----------------------+
| Windows Server 2022 | PASS               | SKIPPED              |
+---------------------+--------------------+----------------------+


FreeBSD 13.2
	Kernel: 13.2
	Compiler: clang 11.3.0

Windows Server 2019
	Kernel: 10.0
	Compiler: clang 14.0 and gcc 8.1.0 (MinGW)

CentOS Stream 8
	Kernel: 4.18.0-240.10.1.el8_3.x86_64
	Compiler: gcc 8.4.1 20200928

Debian 12 (arm)
	Kernel: Container Host Kernel
	Compiler: gcc 11

CentOS Stream 9
	Kernel: 4.18.0-240.10.1.el8_3.x86_64
	Compiler: gcc 11.3.1 20220421

Debian Bullseye
	Kernel: 5.4.0-122-generic
	Compiler: gcc 10.2.1-6

Fedora 37
	Kernel: Depends on container host system
	Compiler: gcc 12.3.1

openSUSE Leap 15
	Kernel: 4.18.0-240.10.1.el8_3.x86_64
	Compiler: gcc 7.5.0

Fedora 38
	Kernel: Depends on container host
	Compiler: gcc 13.1.1

Ubuntu 22.04
	Kernel: 4.18.0-240.10.1.el8_3.x86_64
	Compiler: gcc 11.3.0

RHEL8
	Kernel: 4.18.0-240.10.1.el8_3.x86_64
	Compiler: gcc 8.3.1 20191121 (Red Hat 8.3.1-5)

Ubuntu 20.04
	Kernel: 5.4.0-153-generic
	Compiler: gcc 9.4.0-1ubuntu1~20.04.1

Alpine
	Kernel: 5.4.0-73-generic
	Compiler: gcc (Alpine 10.3.1_git20210424) 10.3.1 20210424

Windows Server 2022
	Kernel: OS Build 20348.2031
	Compiler: MSVC VS-Preview

To view detailed results, visit:
https://lab.dpdk.org/results/dashboard/patchsets/29367/

UNH-IOL DPDK Community Lab

To manage your email subscriptions, visit: 
https://lab.dpdk.org/results/dashboard/preferences/subscriptions/