From mboxrd@z Thu Jan  1 00:00:00 1970
Return-Path: <test-report-bounces@dpdk.org>
Received: from mails.dpdk.org (mails.dpdk.org [217.70.189.124])
	by inbox.dpdk.org (Postfix) with ESMTP id CD60643C12
	for <public@inbox.dpdk.org>; Fri,  1 Mar 2024 18:15:00 +0100 (CET)
Received: from mails.dpdk.org (localhost [127.0.0.1])
	by mails.dpdk.org (Postfix) with ESMTP id C894D4025C;
	Fri,  1 Mar 2024 18:15:00 +0100 (CET)
Received: from mail-yw1-f228.google.com (mail-yw1-f228.google.com
 [209.85.128.228])
 by mails.dpdk.org (Postfix) with ESMTP id 854A4400D5
 for <test-report@dpdk.org>; Fri,  1 Mar 2024 18:14:59 +0100 (CET)
Received: by mail-yw1-f228.google.com with SMTP id
 00721157ae682-6096ff3e4abso19575737b3.0
 for <test-report@dpdk.org>; Fri, 01 Mar 2024 09:14:59 -0800 (PST)
DKIM-Signature: v=1; a=rsa-sha256; c=relaxed/relaxed;
 d=iol.unh.edu; s=unh-iol; t=1709313299; x=1709918099; darn=dpdk.org;
 h=references:in-reply-to:cc:to:from:subject:message-id:date:from:to
 :cc:subject:date:message-id:reply-to;
 bh=b3i86VUww8Ao6ahvr7GI6mhTU7fqgXPI5bYRrIsIfHo=;
 b=bz6Ct3nk3Zs+did3iltnIloHCKfMD1kKJP19xvwPaFrWTwySrk0nmredf4gbevgOXj
 Aa9Ufsm7YywgLXc9Ku9DYXMF2hFDu8AvWk7nsZCSrzMa654C/P52/kwfDe+Tgotsl2bO
 nTKSt+jN2iUexFBprHIHY+yJ4O6ucA/hwToQY=
X-Google-DKIM-Signature: v=1; a=rsa-sha256; c=relaxed/relaxed;
 d=1e100.net; s=20230601; t=1709313299; x=1709918099;
 h=references:in-reply-to:cc:to:from:subject:message-id:date
 :x-gm-message-state:from:to:cc:subject:date:message-id:reply-to;
 bh=b3i86VUww8Ao6ahvr7GI6mhTU7fqgXPI5bYRrIsIfHo=;
 b=Zg734YMIdYWUctjrw2rqqre5Gxzlkz76frgkfy4Y3ZNJKvdHgxNEp/TmDRtsBENidi
 vdG8m18i/2CZOq5IY/q9hkIuGBwKEGdEpIZK9vvOphfnrpFb1btLoMWKVIi4r+utmaQ2
 77DxOFfZPLcJmbJmQUAKyGQFPTtg2ti33fJvL4lBfupG/QMIs8ukKSeAhHAvszJiB+Z3
 x8IWgDuZxLpGMrzY8+FlZjxCnira84S6dAo+kkjReZFnA4GXApf61KqIqeDq16OQ/REI
 4P4UMlGRtuloC7OVIuXc2YlWXWCEPNjoXVg+X33kgvqaZ+LYjJz/8GVhD/HZRIP7InpV
 ZcKg==
X-Gm-Message-State: AOJu0YyzzRqs3gM8a1EAwJ8nHrgiVweQcQaJ4iEr3cwc0E8tJr1J0TNp
 CZDbRLVLLpJZHepZZUmoe+IRTv4Uxl0KGAiLsuv/f7ZX8xeLv5d5UICnTGJaX95Vxnvc9zXAFEh
 IY4f/Ow37k4cysUavjbp7dYE6Fa7LxUv7PldtRGN5
X-Google-Smtp-Source: AGHT+IFUX0B0jiMUzJH8hquPcIBt08u5GEQw0iv0gzjwSwD3jORFzpREM62WniF8adCrrYvOrl0OMGVqSp1w
X-Received: by 2002:a0d:d9c1:0:b0:609:23fd:a3b5 with SMTP id
 b184-20020a0dd9c1000000b0060923fda3b5mr2395006ywe.40.1709313298516; 
 Fri, 01 Mar 2024 09:14:58 -0800 (PST)
Received: from postal.iol.unh.edu (postal.iol.unh.edu. [132.177.123.84])
 by smtp-relay.gmail.com with ESMTPS id
 u128-20020a816086000000b006093c2c7542sm206942ywb.39.2024.03.01.09.14.58
 (version=TLS1_2 cipher=ECDHE-ECDSA-AES128-GCM-SHA256 bits=128/128);
 Fri, 01 Mar 2024 09:14:58 -0800 (PST)
X-Relaying-Domain: iol.unh.edu
Date: Fri, 01 Mar 2024 09:14:58 -0800 (PST)
Message-ID: <65e20d12.810a0220.c670d.e045SMTPIN_ADDED_MISSING@mx.google.com>
Received: from [172.17.0.9] (unknown [172.18.0.217])
 by postal.iol.unh.edu (Postfix) with ESMTP id 3A35560527CD;
 Fri,  1 Mar 2024 12:14:58 -0500 (EST)
Subject: |SUCCESS| pw137661 [PATCH] [v3] net/ice: add diagnostic support in T
From: dpdklab@iol.unh.edu
To: Test Report <test-report@dpdk.org>
Cc: dpdk-test-reports@iol.unh.edu
In-Reply-To: <20240301095052.460597-1-mingjinx.ye@intel.com>
References: <20240301095052.460597-1-mingjinx.ye@intel.com>
Content-Type: text/plain
X-BeenThere: test-report@dpdk.org
X-Mailman-Version: 2.1.29
Precedence: list
List-Id: automatic DPDK test reports <test-report.dpdk.org>
List-Unsubscribe: <https://mails.dpdk.org/options/test-report>,
 <mailto:test-report-request@dpdk.org?subject=unsubscribe>
List-Archive: <http://mails.dpdk.org/archives/test-report/>
List-Post: <mailto:test-report@dpdk.org>
List-Help: <mailto:test-report-request@dpdk.org?subject=help>
List-Subscribe: <https://mails.dpdk.org/listinfo/test-report>,
 <mailto:test-report-request@dpdk.org?subject=subscribe>
Errors-To: test-report-bounces@dpdk.org

Test-Label: iol-compile-arm64-testing
Test-Status: SUCCESS
http://dpdk.org/patch/137661

_Testing PASS_

Submitter: Mingjin Ye <mingjinx.ye@intel.com>
Date: Friday, March 01 2024 09:50:51 
DPDK git baseline: Repo:dpdk
  Branch: master
  CommitID:3408b132b31906fe1ed28d6b2009b98202e1cff0

137661 --> testing pass

Test environment and result as below:

+----------------------------------------+--------------------+
|              Environment               | dpdk_meson_compile |
+========================================+====================+
| Ubuntu 20.04 ARM SVE                   | PASS               |
+----------------------------------------+--------------------+
| Ubuntu 20.04 (ARM)                     | PASS               |
+----------------------------------------+--------------------+
| Debian 12 (arm)                        | PASS               |
+----------------------------------------+--------------------+
| Fedora 37 (ARM)                        | PASS               |
+----------------------------------------+--------------------+
| Fedora 38 (ARM)                        | PASS               |
+----------------------------------------+--------------------+
| Debian 11 (Buster) (ARM)               | PASS               |
+----------------------------------------+--------------------+
| CentOS Stream 9 (ARM)                  | PASS               |
+----------------------------------------+--------------------+
| Ubuntu 20.04 aarch32 GCC Cross Compile | PASS               |
+----------------------------------------+--------------------+
| Ubuntu 20.04 ARM Clang Cross Compile   | PASS               |
+----------------------------------------+--------------------+
| Ubuntu 20.04 ARM GCC Cross Compile     | PASS               |
+----------------------------------------+--------------------+


Ubuntu 20.04 ARM SVE
	Kernel: 5.4.0-80-generic
	Compiler: gcc 10.3.0 (Ubuntu 10.3.0-1ubuntu1~20.04)

Ubuntu 20.04 (ARM)
	Kernel: Container Host Kernel
	Compiler: gcc 9.4.0

Debian 12 (arm)
	Kernel: Container Host Kernel
	Compiler: gcc 11

Fedora 37 (ARM)
	Kernel: Depends on container host
	Compiler: gcc 12.3.1

Fedora 38 (ARM)
	Kernel: Depends on container host
	Compiler: gcc 13.1.1

Debian 11 (Buster) (ARM)
	Kernel: Container Host Kernel
	Compiler: gcc 10.2.1

CentOS Stream 9 (ARM)
	Kernel: Container Host Kernel
	Compiler: gcc 11.3.1

Ubuntu 20.04 aarch32 GCC Cross Compile
	Kernel: 5.4.0-72-generic
	Compiler: gcc 9.3.0

Ubuntu 20.04 ARM Clang Cross Compile
	Kernel: 5.4.0-72-generic
	Compiler: clang version 10.0.0-4ubuntu1

Ubuntu 20.04 ARM GCC Cross Compile
	Kernel: 5.4.0-72-generic
	Compiler: aarch64-linux-gnu-gcc (Ubuntu 9.3.0-17ubuntu1~20.04) 9.3.0

To view detailed results, visit:
https://lab.dpdk.org/results/dashboard/patchsets/29367/

UNH-IOL DPDK Community Lab

To manage your email subscriptions, visit: 
https://lab.dpdk.org/results/dashboard/preferences/subscriptions/