From mboxrd@z Thu Jan  1 00:00:00 1970
Return-Path: <test-report-bounces@dpdk.org>
Received: from mails.dpdk.org (mails.dpdk.org [217.70.189.124])
	by inbox.dpdk.org (Postfix) with ESMTP id BC6B243C12
	for <public@inbox.dpdk.org>; Fri,  1 Mar 2024 18:21:42 +0100 (CET)
Received: from mails.dpdk.org (localhost [127.0.0.1])
	by mails.dpdk.org (Postfix) with ESMTP id B4F97433EC;
	Fri,  1 Mar 2024 18:21:42 +0100 (CET)
Received: from mail-oa1-f98.google.com (mail-oa1-f98.google.com
 [209.85.160.98]) by mails.dpdk.org (Postfix) with ESMTP id 8CE1742FC3
 for <test-report@dpdk.org>; Fri,  1 Mar 2024 18:21:39 +0100 (CET)
Received: by mail-oa1-f98.google.com with SMTP id
 586e51a60fabf-21e8a740439so1318972fac.1
 for <test-report@dpdk.org>; Fri, 01 Mar 2024 09:21:39 -0800 (PST)
DKIM-Signature: v=1; a=rsa-sha256; c=relaxed/relaxed;
 d=iol.unh.edu; s=unh-iol; t=1709313699; x=1709918499; darn=dpdk.org;
 h=references:in-reply-to:cc:to:from:subject:message-id:date:from:to
 :cc:subject:date:message-id:reply-to;
 bh=zG4lA2w8GBtfKCKUazfB6Z/QP7efZe5Wo+FLwcd9Ykw=;
 b=PEwQ61pOuZ9/7vB8DWB8XCYe/xxtMSajwPheM33SjHzycnPBDg4IILRcbXe820YZ6z
 lPpQWo1HLlFMp8E3Yd5JXUdWhlIkB0F6J4FgpwAHP6cDjzFemyd49XUNhJ3t9B1nXFWr
 lmIO8dCS5as0xJNCV4lP8BXG1R5ozucgqmFzM=
X-Google-DKIM-Signature: v=1; a=rsa-sha256; c=relaxed/relaxed;
 d=1e100.net; s=20230601; t=1709313699; x=1709918499;
 h=references:in-reply-to:cc:to:from:subject:message-id:date
 :x-gm-message-state:from:to:cc:subject:date:message-id:reply-to;
 bh=zG4lA2w8GBtfKCKUazfB6Z/QP7efZe5Wo+FLwcd9Ykw=;
 b=WZJ89UrSVmaFD/RmWhlDzv46iIi3sn+KQMengW78fYxCY4qRCGSFQ0ooXWnGoC6My0
 aIF1A0P5SXnqQp2/lxLZXqpqtXfkrtEHALN+PcqzABymWAmwPHv2azvb7mqRyjIfw/Pt
 nY8TVQiXY8penqfN9fcgZ9LxYWAO30avCA0KMwM1f60QTQQwJ+nOuPM2QwSrXCXmpg37
 bLBaQR3EIxiZ5MVltm1fR6cfNvv24fh7vA3jC2ndZQmOpHttqOY5VPgFm9upwkA/9c0t
 T8YnUNdlhw4q3DXg+cEDjsWWYLQyyFoW6HIfGeWJbXxCuMNxjPc1m+DEaDqJ9oyRd3CZ
 Fpxw==
X-Gm-Message-State: AOJu0YySyiIfrrv9OW6qJbpF1QUUx72dS5qzUWEzZhFj7OH29YMFt4v4
 j/ER/v3Qfm8yq7UnpOzrl3y/0QBikuu0ftq02bmFGLvE2XlQ3Fd9ih0DUSZX6W8k4qaM2FUJmds
 IMZjhUkiIezP7ByT70HvJzppKHKb4fzgu+Am9ZqFWE2rQJSOGTIw86ljm
X-Google-Smtp-Source: AGHT+IEus/EfoM7GBUAagnCzzv46Z/Q/HCicqGyJP7iFk9TvcwYGQ/bAJb1CfhX6SyKszK55nFUPpfTIJ3uX
X-Received: by 2002:a05:6871:4311:b0:220:9f66:4fdc with SMTP id
 lu17-20020a056871431100b002209f664fdcmr963414oab.11.1709313698845; 
 Fri, 01 Mar 2024 09:21:38 -0800 (PST)
Received: from postal.iol.unh.edu (postal.iol.unh.edu.
 [2606:4100:3880:1234::84]) by smtp-relay.gmail.com with ESMTPS id
 ow1-20020a056871778100b0021e7c9d798bsm136845oac.5.2024.03.01.09.21.38
 (version=TLS1_2 cipher=ECDHE-ECDSA-AES128-GCM-SHA256 bits=128/128);
 Fri, 01 Mar 2024 09:21:38 -0800 (PST)
X-Relaying-Domain: iol.unh.edu
Date: Fri, 01 Mar 2024 09:21:38 -0800 (PST)
Message-ID: <65e20ea2.050a0220.79007.8ff4SMTPIN_ADDED_MISSING@mx.google.com>
Received: from [172.17.0.7] (unknown [172.18.0.217])
 by postal.iol.unh.edu (Postfix) with ESMTP id 52E7C60527CD;
 Fri,  1 Mar 2024 12:21:38 -0500 (EST)
Subject: |SUCCESS| pw137659 [PATCH] [v4] net/cnxk: support Tx queue descripto
From: dpdklab@iol.unh.edu
To: Test Report <test-report@dpdk.org>
Cc: dpdk-test-reports@iol.unh.edu
In-Reply-To: <1709286509-18322-1-git-send-email-skoteshwar@marvell.com>
References: <1709286509-18322-1-git-send-email-skoteshwar@marvell.com>
Content-Type: text/plain
X-BeenThere: test-report@dpdk.org
X-Mailman-Version: 2.1.29
Precedence: list
List-Id: automatic DPDK test reports <test-report.dpdk.org>
List-Unsubscribe: <https://mails.dpdk.org/options/test-report>,
 <mailto:test-report-request@dpdk.org?subject=unsubscribe>
List-Archive: <http://mails.dpdk.org/archives/test-report/>
List-Post: <mailto:test-report@dpdk.org>
List-Help: <mailto:test-report-request@dpdk.org?subject=help>
List-Subscribe: <https://mails.dpdk.org/listinfo/test-report>,
 <mailto:test-report-request@dpdk.org?subject=subscribe>
Errors-To: test-report-bounces@dpdk.org

Test-Label: iol-compile-amd64-testing
Test-Status: SUCCESS
http://dpdk.org/patch/137659

_Testing PASS_

Submitter: Satha Koteswara Rao Kottidi <skoteshwar@marvell.com>
Date: Friday, March 01 2024 09:48:29 
DPDK git baseline: Repo:dpdk
  Branch: master
  CommitID:ce8ce20ae46fe0df7632a0172c73d2dcd1ac0187

137659 --> testing pass

Test environment and result as below:

+---------------------+--------------------+----------------------+
|     Environment     | dpdk_meson_compile | dpdk_mingw64_compile |
+=====================+====================+======================+
| FreeBSD 13.2        | PASS               | SKIPPED              |
+---------------------+--------------------+----------------------+
| CentOS Stream 8     | PASS               | SKIPPED              |
+---------------------+--------------------+----------------------+
| CentOS Stream 9     | PASS               | SKIPPED              |
+---------------------+--------------------+----------------------+
| Debian Bullseye     | PASS               | SKIPPED              |
+---------------------+--------------------+----------------------+
| Fedora 38           | PASS               | SKIPPED              |
+---------------------+--------------------+----------------------+
| Debian 12 (arm)     | PASS               | SKIPPED              |
+---------------------+--------------------+----------------------+
| Ubuntu 22.04        | PASS               | SKIPPED              |
+---------------------+--------------------+----------------------+
| Ubuntu 20.04        | PASS               | SKIPPED              |
+---------------------+--------------------+----------------------+
| Fedora 37           | PASS               | SKIPPED              |
+---------------------+--------------------+----------------------+
| RHEL8               | PASS               | SKIPPED              |
+---------------------+--------------------+----------------------+
| openSUSE Leap 15    | PASS               | SKIPPED              |
+---------------------+--------------------+----------------------+
| Windows Server 2019 | PASS               | PASS                 |
+---------------------+--------------------+----------------------+
| Alpine              | PASS               | SKIPPED              |
+---------------------+--------------------+----------------------+


FreeBSD 13.2
	Kernel: 13.2
	Compiler: clang 11.3.0

CentOS Stream 8
	Kernel: 4.18.0-240.10.1.el8_3.x86_64
	Compiler: gcc 8.4.1 20200928

CentOS Stream 9
	Kernel: 4.18.0-240.10.1.el8_3.x86_64
	Compiler: gcc 11.3.1 20220421

Debian Bullseye
	Kernel: 5.4.0-122-generic
	Compiler: gcc 10.2.1-6

Fedora 38
	Kernel: Depends on container host
	Compiler: gcc 13.1.1

Debian 12 (arm)
	Kernel: Container Host Kernel
	Compiler: gcc 11

Ubuntu 22.04
	Kernel: 4.18.0-240.10.1.el8_3.x86_64
	Compiler: gcc 11.3.0

Ubuntu 20.04
	Kernel: 5.4.0-153-generic
	Compiler: gcc 9.4.0-1ubuntu1~20.04.1

Fedora 37
	Kernel: Depends on container host system
	Compiler: gcc 12.3.1

RHEL8
	Kernel: 4.18.0-240.10.1.el8_3.x86_64
	Compiler: gcc 8.3.1 20191121 (Red Hat 8.3.1-5)

openSUSE Leap 15
	Kernel: 4.18.0-240.10.1.el8_3.x86_64
	Compiler: gcc 7.5.0

Windows Server 2019
	Kernel: 10.0
	Compiler: clang 14.0 and gcc 8.1.0 (MinGW)

Alpine
	Kernel: 5.4.0-73-generic
	Compiler: gcc (Alpine 10.3.1_git20210424) 10.3.1 20210424

To view detailed results, visit:
https://lab.dpdk.org/results/dashboard/patchsets/29365/

UNH-IOL DPDK Community Lab

To manage your email subscriptions, visit: 
https://lab.dpdk.org/results/dashboard/preferences/subscriptions/