From mboxrd@z Thu Jan  1 00:00:00 1970
Return-Path: <test-report-bounces@dpdk.org>
Received: from mails.dpdk.org (mails.dpdk.org [217.70.189.124])
	by inbox.dpdk.org (Postfix) with ESMTP id 5F95143C12
	for <public@inbox.dpdk.org>; Fri,  1 Mar 2024 18:23:11 +0100 (CET)
Received: from mails.dpdk.org (localhost [127.0.0.1])
	by mails.dpdk.org (Postfix) with ESMTP id 512F3433E4;
	Fri,  1 Mar 2024 18:23:11 +0100 (CET)
Received: from mail-il1-f228.google.com (mail-il1-f228.google.com
 [209.85.166.228])
 by mails.dpdk.org (Postfix) with ESMTP id 3870E433D7
 for <test-report@dpdk.org>; Fri,  1 Mar 2024 18:23:10 +0100 (CET)
Received: by mail-il1-f228.google.com with SMTP id
 e9e14a558f8ab-36540b9885cso8564865ab.1
 for <test-report@dpdk.org>; Fri, 01 Mar 2024 09:23:10 -0800 (PST)
DKIM-Signature: v=1; a=rsa-sha256; c=relaxed/relaxed;
 d=iol.unh.edu; s=unh-iol; t=1709313789; x=1709918589; darn=dpdk.org;
 h=references:in-reply-to:cc:to:from:subject:message-id:date:from:to
 :cc:subject:date:message-id:reply-to;
 bh=fCgP7cOQkvb8CmTmLpRgWc8UFWWIzMvYtCCOAljhphk=;
 b=ZYBxMDVa1WvgNnjz+M0whfzsvI6LFdGsujuE1wv0NYyo8nMUFn8eAtfdP9VEBteRFC
 KYmdwUqxboYSZgjqOZ08TsHEFEVgBOaxOdo+TS1qAYnu8OVXDgO9FKAcdpXIUZSIOZTv
 kD67C480+xhmWIXNp31zLAG9Hgc5cV9p1jfQg=
X-Google-DKIM-Signature: v=1; a=rsa-sha256; c=relaxed/relaxed;
 d=1e100.net; s=20230601; t=1709313789; x=1709918589;
 h=references:in-reply-to:cc:to:from:subject:message-id:date
 :x-gm-message-state:from:to:cc:subject:date:message-id:reply-to;
 bh=fCgP7cOQkvb8CmTmLpRgWc8UFWWIzMvYtCCOAljhphk=;
 b=UalEzA4TXCaI0C+cYhMDYV21F+mAd6Yduw5evO/tVgx2t8/btegoFf7h20WSGLm9vE
 Ay6m2i4dEvKMAkVsjgsrxg9n+JaNnxv+e+h79Exf8ZTitpPpcQCxuj+FhVymKM9f+eUF
 S6oICG5rS2s3Xya9nD3XEqlevydHjQ/B8LRXcsC+JLcnR2MERgYIR3GCXu7GcQvjIPIC
 ZCPh/+Xo6CiN/QLux2DMKWAnmCaTRAeuQPwpv81iwF+k7/5MjcCHQPr0YtClu/GayIeI
 FdZIkETDFM/bjtptHvYp5OwVNuhItsk5PHRilZ6mguUdIXInfHrDg7sfH0ErSj2yMBrP
 lUwA==
X-Gm-Message-State: AOJu0YyHZWnSsL6iqSdAkVQj4DW8mlqD6SR6FnKWQKOFBlFa9bB18o9n
 PAldZW5W7g16LBcUtFZ7FO0m8JxV9uF4K5XJu6n4MCAw/wWrJZ4/Zj82o3GiQB694tRvXrNlKBl
 wQlO+tb/kw2X8N0wSqfLgMxLcpGZuD6FclDfxvhH6ImE+wJFz497pAJ0P
X-Google-Smtp-Source: AGHT+IHaSWl87LGzycKkpjaG32SgD9lGk51FGev+WyUTu4SXa4RklxeImIN0/iWsCF23S/T9YhgAcL09t48S
X-Received: by 2002:a05:6e02:1c09:b0:365:3086:74de with SMTP id
 l9-20020a056e021c0900b00365308674demr1478126ilh.0.1709313789640; 
 Fri, 01 Mar 2024 09:23:09 -0800 (PST)
Received: from postal.iol.unh.edu (postal.iol.unh.edu.
 [2606:4100:3880:1234::84]) by smtp-relay.gmail.com with ESMTPS id
 n9-20020a02a909000000b00474a578f624sm119015jam.39.2024.03.01.09.23.09
 (version=TLS1_2 cipher=ECDHE-ECDSA-AES128-GCM-SHA256 bits=128/128);
 Fri, 01 Mar 2024 09:23:09 -0800 (PST)
X-Relaying-Domain: iol.unh.edu
Date: Fri, 01 Mar 2024 09:23:09 -0800 (PST)
Message-ID: <65e20efd.020a0220.a107b.7cc2SMTPIN_ADDED_MISSING@mx.google.com>
Received: from [172.17.0.7] (unknown [172.18.0.217])
 by postal.iol.unh.edu (Postfix) with ESMTP id 49A8F60527CD;
 Fri,  1 Mar 2024 12:23:09 -0500 (EST)
Subject: |SUCCESS| pw137659 [PATCH] [v4] net/cnxk: support Tx queue descripto
From: dpdklab@iol.unh.edu
To: Test Report <test-report@dpdk.org>
Cc: dpdk-test-reports@iol.unh.edu
In-Reply-To: <1709286509-18322-1-git-send-email-skoteshwar@marvell.com>
References: <1709286509-18322-1-git-send-email-skoteshwar@marvell.com>
Content-Type: text/plain
X-BeenThere: test-report@dpdk.org
X-Mailman-Version: 2.1.29
Precedence: list
List-Id: automatic DPDK test reports <test-report.dpdk.org>
List-Unsubscribe: <https://mails.dpdk.org/options/test-report>,
 <mailto:test-report-request@dpdk.org?subject=unsubscribe>
List-Archive: <http://mails.dpdk.org/archives/test-report/>
List-Post: <mailto:test-report@dpdk.org>
List-Help: <mailto:test-report-request@dpdk.org?subject=help>
List-Subscribe: <https://mails.dpdk.org/listinfo/test-report>,
 <mailto:test-report-request@dpdk.org?subject=subscribe>
Errors-To: test-report-bounces@dpdk.org

Test-Label: iol-unit-amd64-testing
Test-Status: SUCCESS
http://dpdk.org/patch/137659

_Testing PASS_

Submitter: Satha Koteswara Rao Kottidi <skoteshwar@marvell.com>
Date: Friday, March 01 2024 09:48:29 
DPDK git baseline: Repo:dpdk
  Branch: master
  CommitID:ce8ce20ae46fe0df7632a0172c73d2dcd1ac0187

137659 --> testing pass

Test environment and result as below:

+------------------+----------------+
|   Environment    | dpdk_unit_test |
+==================+================+
| CentOS Stream 8  | PASS           |
+------------------+----------------+
| CentOS Stream 9  | PASS           |
+------------------+----------------+
| Fedora 37        | PASS           |
+------------------+----------------+
| Debian Bullseye  | PASS           |
+------------------+----------------+
| Fedora 38        | PASS           |
+------------------+----------------+
| Debian 12 (arm)  | PASS           |
+------------------+----------------+
| Ubuntu 20.04     | PASS           |
+------------------+----------------+
| openSUSE Leap 15 | PASS           |
+------------------+----------------+
| RHEL8            | PASS           |
+------------------+----------------+
| Ubuntu 22.04     | PASS           |
+------------------+----------------+


CentOS Stream 8
	Kernel: 4.18.0-240.10.1.el8_3.x86_64
	Compiler: gcc 8.4.1 20200928

CentOS Stream 9
	Kernel: 4.18.0-240.10.1.el8_3.x86_64
	Compiler: gcc 11.3.1 20220421

Fedora 37
	Kernel: Depends on container host system
	Compiler: gcc 12.3.1

Debian Bullseye
	Kernel: 5.4.0-122-generic
	Compiler: gcc 10.2.1-6

Fedora 38
	Kernel: Depends on container host
	Compiler: gcc 13.1.1

Debian 12 (arm)
	Kernel: Container Host Kernel
	Compiler: gcc 11

Ubuntu 20.04
	Kernel: 5.4.0-153-generic
	Compiler: gcc 9.4.0-1ubuntu1~20.04.1

openSUSE Leap 15
	Kernel: 4.18.0-240.10.1.el8_3.x86_64
	Compiler: gcc 7.5.0

RHEL8
	Kernel: 4.18.0-240.10.1.el8_3.x86_64
	Compiler: gcc 8.3.1 20191121 (Red Hat 8.3.1-5)

Ubuntu 22.04
	Kernel: 4.18.0-240.10.1.el8_3.x86_64
	Compiler: gcc 11.3.0

To view detailed results, visit:
https://lab.dpdk.org/results/dashboard/patchsets/29365/

UNH-IOL DPDK Community Lab

To manage your email subscriptions, visit: 
https://lab.dpdk.org/results/dashboard/preferences/subscriptions/