From mboxrd@z Thu Jan  1 00:00:00 1970
Return-Path: <test-report-bounces@dpdk.org>
Received: from mails.dpdk.org (mails.dpdk.org [217.70.189.124])
	by inbox.dpdk.org (Postfix) with ESMTP id 021BB43C12
	for <public@inbox.dpdk.org>; Fri,  1 Mar 2024 18:31:12 +0100 (CET)
Received: from mails.dpdk.org (localhost [127.0.0.1])
	by mails.dpdk.org (Postfix) with ESMTP id E4500427D8;
	Fri,  1 Mar 2024 18:31:11 +0100 (CET)
Received: from mail-yw1-f225.google.com (mail-yw1-f225.google.com
 [209.85.128.225])
 by mails.dpdk.org (Postfix) with ESMTP id E91BA402EA
 for <test-report@dpdk.org>; Fri,  1 Mar 2024 18:31:09 +0100 (CET)
Received: by mail-yw1-f225.google.com with SMTP id
 00721157ae682-60821136c5aso18325377b3.1
 for <test-report@dpdk.org>; Fri, 01 Mar 2024 09:31:09 -0800 (PST)
DKIM-Signature: v=1; a=rsa-sha256; c=relaxed/relaxed;
 d=iol.unh.edu; s=unh-iol; t=1709314269; x=1709919069; darn=dpdk.org;
 h=references:in-reply-to:cc:to:from:subject:message-id:date:from:to
 :cc:subject:date:message-id:reply-to;
 bh=zG4lA2w8GBtfKCKUazfB6Z/QP7efZe5Wo+FLwcd9Ykw=;
 b=co0Ikq44/q8kCwL/XX/ND95RarRlw+pH1Nj/V0YkDDw+51PiY6/MVtnxvC8etazhji
 SsUw6BtA3NVjKClsKjodvVIs9+abDo2stWqyLuc6FDhYV7GlH43WNo+sUFv73ze5GGBe
 AI8984VvdFTYUYUOAsyNftBfikkSixfi5xgyQ=
X-Google-DKIM-Signature: v=1; a=rsa-sha256; c=relaxed/relaxed;
 d=1e100.net; s=20230601; t=1709314269; x=1709919069;
 h=references:in-reply-to:cc:to:from:subject:message-id:date
 :x-gm-message-state:from:to:cc:subject:date:message-id:reply-to;
 bh=zG4lA2w8GBtfKCKUazfB6Z/QP7efZe5Wo+FLwcd9Ykw=;
 b=esSHMz+onckCg6jAFzlZFIqpa2l98mmoOswAOuCx/ulaEsBsZAGJUNCiBmz2aPLY+Q
 ub8dvilSIWzC1mMVwuu3YfWLm3TjioO0Wy4E2RBn2UFvghmle8FcCdu53X53EsEl0mr4
 RXbcI8irz3hyQivgqWPwskN6LFiLavlTH/klx3Xe71q55OugZ1orfwxgHeESJ2WCpfQ+
 zqxXnk6l49l1q9Poezq9j9Odb50iuQpiosC/jeKqjDaTKzrQJxWxo9TZ+Dtv2svNTkSy
 9xrRHTbMbRThZODtoQsVq1bph5jXn+vGtAdK5l/3WrcfBDo2pcU8uWFxiic0LdEetTIK
 EzUA==
X-Gm-Message-State: AOJu0Yyr8WPR6/QFNBr9AEOgHvDzpksgom+NoTGmz77oaP0ietmOWcyQ
 33OScUm+kSonYARJcW1qIdRxF6YO4j04qm3D667hTu7iAqzSfaoNcnDxqS7wboeZOgjQYdmlC49
 gTy0IaAuIqFGI4oChb9H2Y8y6NXNSVGXM4I73hMicgvOjRKFzywkiYRLB
X-Google-Smtp-Source: AGHT+IEsiLMfVTGpR6N9kl4dT4gvKbrbwsDo6z6f1QoYdhIiX6e3zdzx/kJ7ZhRPujvhQNHApqb5OQJeTgAY
X-Received: by 2002:a81:a50e:0:b0:607:6fe9:f55a with SMTP id
 u14-20020a81a50e000000b006076fe9f55amr2454657ywg.35.1709314269342; 
 Fri, 01 Mar 2024 09:31:09 -0800 (PST)
Received: from postal.iol.unh.edu (postal.iol.unh.edu.
 [2606:4100:3880:1234::84]) by smtp-relay.gmail.com with ESMTPS id
 x4-20020a814a04000000b00607a366dffdsm209300ywa.14.2024.03.01.09.31.09
 (version=TLS1_2 cipher=ECDHE-ECDSA-AES128-GCM-SHA256 bits=128/128);
 Fri, 01 Mar 2024 09:31:09 -0800 (PST)
X-Relaying-Domain: iol.unh.edu
Date: Fri, 01 Mar 2024 09:31:09 -0800 (PST)
Message-ID: <65e210dd.810a0220.75096.e1e1SMTPIN_ADDED_MISSING@mx.google.com>
Received: from [172.17.0.8] (unknown [172.18.0.217])
 by postal.iol.unh.edu (Postfix) with ESMTP id EF1C260527CD;
 Fri,  1 Mar 2024 12:31:08 -0500 (EST)
Subject: |SUCCESS| pw137659 [PATCH] [v4] net/cnxk: support Tx queue descripto
From: dpdklab@iol.unh.edu
To: Test Report <test-report@dpdk.org>
Cc: dpdk-test-reports@iol.unh.edu
In-Reply-To: <1709286509-18322-1-git-send-email-skoteshwar@marvell.com>
References: <1709286509-18322-1-git-send-email-skoteshwar@marvell.com>
Content-Type: text/plain
X-BeenThere: test-report@dpdk.org
X-Mailman-Version: 2.1.29
Precedence: list
List-Id: automatic DPDK test reports <test-report.dpdk.org>
List-Unsubscribe: <https://mails.dpdk.org/options/test-report>,
 <mailto:test-report-request@dpdk.org?subject=unsubscribe>
List-Archive: <http://mails.dpdk.org/archives/test-report/>
List-Post: <mailto:test-report@dpdk.org>
List-Help: <mailto:test-report-request@dpdk.org?subject=help>
List-Subscribe: <https://mails.dpdk.org/listinfo/test-report>,
 <mailto:test-report-request@dpdk.org?subject=subscribe>
Errors-To: test-report-bounces@dpdk.org

Test-Label: iol-compile-amd64-testing
Test-Status: SUCCESS
http://dpdk.org/patch/137659

_Testing PASS_

Submitter: Satha Koteswara Rao Kottidi <skoteshwar@marvell.com>
Date: Friday, March 01 2024 09:48:29 
DPDK git baseline: Repo:dpdk
  Branch: master
  CommitID:ce8ce20ae46fe0df7632a0172c73d2dcd1ac0187

137659 --> testing pass

Test environment and result as below:

+---------------------+--------------------+----------------------+
|     Environment     | dpdk_meson_compile | dpdk_mingw64_compile |
+=====================+====================+======================+
| FreeBSD 13.2        | PASS               | SKIPPED              |
+---------------------+--------------------+----------------------+
| CentOS Stream 8     | PASS               | SKIPPED              |
+---------------------+--------------------+----------------------+
| CentOS Stream 9     | PASS               | SKIPPED              |
+---------------------+--------------------+----------------------+
| Debian Bullseye     | PASS               | SKIPPED              |
+---------------------+--------------------+----------------------+
| Fedora 38           | PASS               | SKIPPED              |
+---------------------+--------------------+----------------------+
| Debian 12 (arm)     | PASS               | SKIPPED              |
+---------------------+--------------------+----------------------+
| Ubuntu 22.04        | PASS               | SKIPPED              |
+---------------------+--------------------+----------------------+
| Ubuntu 20.04        | PASS               | SKIPPED              |
+---------------------+--------------------+----------------------+
| Fedora 37           | PASS               | SKIPPED              |
+---------------------+--------------------+----------------------+
| RHEL8               | PASS               | SKIPPED              |
+---------------------+--------------------+----------------------+
| openSUSE Leap 15    | PASS               | SKIPPED              |
+---------------------+--------------------+----------------------+
| Windows Server 2019 | PASS               | PASS                 |
+---------------------+--------------------+----------------------+
| Alpine              | PASS               | SKIPPED              |
+---------------------+--------------------+----------------------+


FreeBSD 13.2
	Kernel: 13.2
	Compiler: clang 11.3.0

CentOS Stream 8
	Kernel: 4.18.0-240.10.1.el8_3.x86_64
	Compiler: gcc 8.4.1 20200928

CentOS Stream 9
	Kernel: 4.18.0-240.10.1.el8_3.x86_64
	Compiler: gcc 11.3.1 20220421

Debian Bullseye
	Kernel: 5.4.0-122-generic
	Compiler: gcc 10.2.1-6

Fedora 38
	Kernel: Depends on container host
	Compiler: gcc 13.1.1

Debian 12 (arm)
	Kernel: Container Host Kernel
	Compiler: gcc 11

Ubuntu 22.04
	Kernel: 4.18.0-240.10.1.el8_3.x86_64
	Compiler: gcc 11.3.0

Ubuntu 20.04
	Kernel: 5.4.0-153-generic
	Compiler: gcc 9.4.0-1ubuntu1~20.04.1

Fedora 37
	Kernel: Depends on container host system
	Compiler: gcc 12.3.1

RHEL8
	Kernel: 4.18.0-240.10.1.el8_3.x86_64
	Compiler: gcc 8.3.1 20191121 (Red Hat 8.3.1-5)

openSUSE Leap 15
	Kernel: 4.18.0-240.10.1.el8_3.x86_64
	Compiler: gcc 7.5.0

Windows Server 2019
	Kernel: 10.0
	Compiler: clang 14.0 and gcc 8.1.0 (MinGW)

Alpine
	Kernel: 5.4.0-73-generic
	Compiler: gcc (Alpine 10.3.1_git20210424) 10.3.1 20210424

To view detailed results, visit:
https://lab.dpdk.org/results/dashboard/patchsets/29365/

UNH-IOL DPDK Community Lab

To manage your email subscriptions, visit: 
https://lab.dpdk.org/results/dashboard/preferences/subscriptions/