From mboxrd@z Thu Jan  1 00:00:00 1970
Return-Path: <test-report-bounces@dpdk.org>
Received: from mails.dpdk.org (mails.dpdk.org [217.70.189.124])
	by inbox.dpdk.org (Postfix) with ESMTP id 9511943C0B
	for <public@inbox.dpdk.org>; Fri,  1 Mar 2024 18:51:24 +0100 (CET)
Received: from mails.dpdk.org (localhost [127.0.0.1])
	by mails.dpdk.org (Postfix) with ESMTP id 8FDEF43362;
	Fri,  1 Mar 2024 18:51:24 +0100 (CET)
Received: from mail-yb1-f228.google.com (mail-yb1-f228.google.com
 [209.85.219.228])
 by mails.dpdk.org (Postfix) with ESMTP id 584F2402CD
 for <test-report@dpdk.org>; Fri,  1 Mar 2024 18:51:23 +0100 (CET)
Received: by mail-yb1-f228.google.com with SMTP id
 3f1490d57ef6-dc23bf7e5aaso2727949276.0
 for <test-report@dpdk.org>; Fri, 01 Mar 2024 09:51:23 -0800 (PST)
DKIM-Signature: v=1; a=rsa-sha256; c=relaxed/relaxed;
 d=iol.unh.edu; s=unh-iol; t=1709315483; x=1709920283; darn=dpdk.org;
 h=references:in-reply-to:cc:to:from:subject:message-id:date:from:to
 :cc:subject:date:message-id:reply-to;
 bh=IrQNjuoz0V9f1nuV+mLCZjufIvfGrMhcJXi1L1f6QXE=;
 b=ObgvdOdSAudd9zr2as18KyDKTaAQLpvXG2SLwM4i6irhS2JUAf5aP6037LcI/B82kE
 OGzq/Lcnr8Ov1ldjds6yu6XdgZrMEK+c4Xn45nM85Gmtc4LikbbmAlHkRCGAvdg/4abF
 2I+Dwl+Fd/gxXrYW9/qr+57kknRzjX3Yhos+M=
X-Google-DKIM-Signature: v=1; a=rsa-sha256; c=relaxed/relaxed;
 d=1e100.net; s=20230601; t=1709315483; x=1709920283;
 h=references:in-reply-to:cc:to:from:subject:message-id:date
 :x-gm-message-state:from:to:cc:subject:date:message-id:reply-to;
 bh=IrQNjuoz0V9f1nuV+mLCZjufIvfGrMhcJXi1L1f6QXE=;
 b=AxC5Tm3fhIh7GxkroPW7+aYvFaa043SbT2ZViJxQ1/wR0TmpXfThTbxSTT1RWLW2GR
 TDDdGt1zW1KeulDKBshKwniosJZHp2bGQoCrjWxzTYWlH/jvoqzKb1rncx4K4WMKj96t
 +//Ig7uTZHlyLFm4u344n5QwV37MBMLlDIqG0ti2WVbclK4VUCuHyRb0M5BMJfjw4LeJ
 e1S6ya8sMGjphan3SyTC542fZ9XTmoA3oLARGlljBgQiMiiw1qBIUgtBnSQpvuJ9yJy4
 HcHkzxEZOqXkcVV+zv3Nfkm1tBjqFB5qk12m35+so48AQtDF622qWCHT9W46aVCELHYe
 OvfQ==
X-Gm-Message-State: AOJu0YyEmh+ZvWDVZ7maH1W5p0z8+m/i6SK/ECZ4VpKSec5vvIyBhFmW
 8tDzBflsScn65DhrlhS19lYA5S2JxGIuO7WU+saksWMlNleTfp0iVmjmxHhcQ8tywoqlSCvRhIa
 F070ze8p+9QJp/fpkr618kHeNirerFegAXczThisC
X-Google-Smtp-Source: AGHT+IHAaxkWWvZJ4w3w5UyaGMGA1UYgKVyB12LntFXmhNm7ryd0+CLz4IeCOLImiJEg208xwyFtMwHqxfvV
X-Received: by 2002:a25:ce11:0:b0:dc7:43aa:5c0b with SMTP id
 x17-20020a25ce11000000b00dc743aa5c0bmr2524238ybe.21.1709315482759; 
 Fri, 01 Mar 2024 09:51:22 -0800 (PST)
Received: from postal.iol.unh.edu (postal.iol.unh.edu. [132.177.123.84])
 by smtp-relay.gmail.com with ESMTPS id
 e4-20020ac84904000000b0042c68946df9sm119532qtq.0.2024.03.01.09.51.22
 (version=TLS1_2 cipher=ECDHE-ECDSA-AES128-GCM-SHA256 bits=128/128);
 Fri, 01 Mar 2024 09:51:22 -0800 (PST)
X-Relaying-Domain: iol.unh.edu
Date: Fri, 01 Mar 2024 09:51:22 -0800 (PST)
Message-ID: <65e2159a.c80a0220.5cfff.7ca5SMTPIN_ADDED_MISSING@mx.google.com>
Received: from [172.21.0.6] (unknown [172.18.0.240])
 by postal.iol.unh.edu (Postfix) with ESMTP id 76D1660527CD;
 Fri,  1 Mar 2024 12:51:22 -0500 (EST)
Subject: |SUCCESS| pw137662-137665 [PATCH] [v7,4/4] test: add unit test for p
From: dpdklab@iol.unh.edu
To: Test Report <test-report@dpdk.org>
Cc: dpdk-test-reports@iol.unh.edu
In-Reply-To: <20240301102104.20074-5-paul.szczepanek@arm.com>
References: <20240301102104.20074-5-paul.szczepanek@arm.com>
Content-Type: text/plain
X-BeenThere: test-report@dpdk.org
X-Mailman-Version: 2.1.29
Precedence: list
List-Id: automatic DPDK test reports <test-report.dpdk.org>
List-Unsubscribe: <https://mails.dpdk.org/options/test-report>,
 <mailto:test-report-request@dpdk.org?subject=unsubscribe>
List-Archive: <http://mails.dpdk.org/archives/test-report/>
List-Post: <mailto:test-report@dpdk.org>
List-Help: <mailto:test-report-request@dpdk.org?subject=help>
List-Subscribe: <https://mails.dpdk.org/listinfo/test-report>,
 <mailto:test-report-request@dpdk.org?subject=subscribe>
Errors-To: test-report-bounces@dpdk.org

Test-Label: iol-compile-arm64-testing
Test-Status: SUCCESS
http://dpdk.org/patch/137665

_Testing PASS_

Submitter: Paul Szczepanek <paul.szczepanek@arm.com>
Date: Friday, March 01 2024 10:21:04 
DPDK git baseline: Repo:dpdk
  Branch: master
  CommitID:5df34de5808a7b826b8bc035d6ee3161a12be364

137662-137665 --> testing pass

Test environment and result as below:

+----------------------------------------+--------------------+
|              Environment               | dpdk_meson_compile |
+========================================+====================+
| Ubuntu 20.04 ARM SVE                   | PASS               |
+----------------------------------------+--------------------+
| Fedora 37 (ARM)                        | PASS               |
+----------------------------------------+--------------------+
| Fedora 38 (ARM)                        | PASS               |
+----------------------------------------+--------------------+
| Ubuntu 20.04 (ARM)                     | PASS               |
+----------------------------------------+--------------------+
| Debian 12 (arm)                        | PASS               |
+----------------------------------------+--------------------+
| CentOS Stream 9 (ARM)                  | PASS               |
+----------------------------------------+--------------------+
| Debian 11 (Buster) (ARM)               | PASS               |
+----------------------------------------+--------------------+
| Ubuntu 20.04 ARM GCC Cross Compile     | PASS               |
+----------------------------------------+--------------------+
| Ubuntu 20.04 aarch32 GCC Cross Compile | PASS               |
+----------------------------------------+--------------------+
| Ubuntu 20.04 ARM Clang Cross Compile   | PASS               |
+----------------------------------------+--------------------+
| Fedora 38 (ARM Clang)                  | PASS               |
+----------------------------------------+--------------------+


Ubuntu 20.04 ARM SVE
	Kernel: 5.4.0-80-generic
	Compiler: gcc 10.3.0 (Ubuntu 10.3.0-1ubuntu1~20.04)

Fedora 37 (ARM)
	Kernel: Depends on container host
	Compiler: gcc 12.3.1

Fedora 38 (ARM)
	Kernel: Depends on container host
	Compiler: gcc 13.1.1

Ubuntu 20.04 (ARM)
	Kernel: Container Host Kernel
	Compiler: gcc 9.4.0

Debian 12 (arm)
	Kernel: Container Host Kernel
	Compiler: gcc 11

CentOS Stream 9 (ARM)
	Kernel: Container Host Kernel
	Compiler: gcc 11.3.1

Debian 11 (Buster) (ARM)
	Kernel: Container Host Kernel
	Compiler: gcc 10.2.1

Ubuntu 20.04 ARM GCC Cross Compile
	Kernel: 5.4.0-72-generic
	Compiler: aarch64-linux-gnu-gcc (Ubuntu 9.3.0-17ubuntu1~20.04) 9.3.0

Ubuntu 20.04 aarch32 GCC Cross Compile
	Kernel: 5.4.0-72-generic
	Compiler: gcc 9.3.0

Ubuntu 20.04 ARM Clang Cross Compile
	Kernel: 5.4.0-72-generic
	Compiler: clang version 10.0.0-4ubuntu1

Fedora 38 (ARM Clang)
	Kernel: Depends on container host
	Compiler: clang 16.0.3

To view detailed results, visit:
https://lab.dpdk.org/results/dashboard/patchsets/29368/

UNH-IOL DPDK Community Lab

To manage your email subscriptions, visit: 
https://lab.dpdk.org/results/dashboard/preferences/subscriptions/