From mboxrd@z Thu Jan  1 00:00:00 1970
Return-Path: <test-report-bounces@dpdk.org>
Received: from mails.dpdk.org (mails.dpdk.org [217.70.189.124])
	by inbox.dpdk.org (Postfix) with ESMTP id 9B79A43BD1
	for <public@inbox.dpdk.org>; Fri,  1 Mar 2024 19:27:54 +0100 (CET)
Received: from mails.dpdk.org (localhost [127.0.0.1])
	by mails.dpdk.org (Postfix) with ESMTP id 976FE42D68;
	Fri,  1 Mar 2024 19:27:54 +0100 (CET)
Received: from mail-vk1-f228.google.com (mail-vk1-f228.google.com
 [209.85.221.228])
 by mails.dpdk.org (Postfix) with ESMTP id 57B31402B8
 for <test-report@dpdk.org>; Fri,  1 Mar 2024 19:27:53 +0100 (CET)
Received: by mail-vk1-f228.google.com with SMTP id
 71dfb90a1353d-4d33d049cbaso740197e0c.0
 for <test-report@dpdk.org>; Fri, 01 Mar 2024 10:27:53 -0800 (PST)
DKIM-Signature: v=1; a=rsa-sha256; c=relaxed/relaxed;
 d=iol.unh.edu; s=unh-iol; t=1709317672; x=1709922472; darn=dpdk.org;
 h=references:in-reply-to:cc:to:from:subject:message-id:date:from:to
 :cc:subject:date:message-id:reply-to;
 bh=Mot8i5tVnq4vOz4pLCeHpC2TRfL6VrVYEedElzj+9xA=;
 b=EO61fVVk84kC8UX+ZsGzc4E/qUtHFPr7m0UyufcpcRqmkaYgJsedoFa1CDnSZ4lOVT
 aytCJ+B+FC1OrfwocCOrKMqXsxbC0OW4rtSRaFFbvkmS4X+EYyl9hYsKHnAyiE8wChOI
 A8csuu1BBnhEvoauH28H5Qge5hAAVU5rFLvA4=
X-Google-DKIM-Signature: v=1; a=rsa-sha256; c=relaxed/relaxed;
 d=1e100.net; s=20230601; t=1709317672; x=1709922472;
 h=references:in-reply-to:cc:to:from:subject:message-id:date
 :x-gm-message-state:from:to:cc:subject:date:message-id:reply-to;
 bh=Mot8i5tVnq4vOz4pLCeHpC2TRfL6VrVYEedElzj+9xA=;
 b=aI0fQsozn/NTTFgk1RBRZI9Rf/SSssEOjnr7CrqB4vtSqZBkLwrZcjd1vyyodtOXzK
 aKKTaMihySwcNI2E9+bkv0CWMLxhoMllvcaqOHnTYKTzfWYdzWfh53IquhFpqcMGC9Xk
 h70rHEPSVpwfYsWvhHKAdIACiXiSVk9k2wwh6JCbYIkffK5ZX7Cfx2NPEeeIMTJ2eZJe
 N+EqxZPc/dxqp1ATwC0QC2EATRxKdmG+aZudCOuIjru0r0ZmoETgXCnSIhJW7BFkZdCU
 cN1zgycg5Lhn+9qsKYRlLkWeA/oSJ+3rPKDeBPDuGowjZ/CCQSNWMOW/is6/lT/3oT+A
 1Jyw==
X-Gm-Message-State: AOJu0Yxc/i7jK9nw3p8qHSdZ500d+cvam6Y0DBGXnLTxXCYnAXMAAEah
 Geg/+T+7zkzo40SVmdiM4HpZbgdug2YAYtHxVgZf9RJZC1idlAl69Xy8QgtyTI4P+2L0Ac7xpJy
 g0fBluIRCngOl1Ehgj9Vk0rrp0lSfSup/JmT9WxCSlKxzR95ja52xgZsN
X-Google-Smtp-Source: AGHT+IEQ641pT17G7jZ97OCzcKkCx5DxCMIoh8NUq8/DrBsUPQkdepDbb3//0/M1cObEtENairf9qT4gUOOk
X-Received: by 2002:a1f:7382:0:b0:4d3:4aad:4a01 with SMTP id
 o124-20020a1f7382000000b004d34aad4a01mr2152334vkc.0.1709317672621; 
 Fri, 01 Mar 2024 10:27:52 -0800 (PST)
Received: from postal.iol.unh.edu (postal.iol.unh.edu.
 [2606:4100:3880:1234::84]) by smtp-relay.gmail.com with ESMTPS id
 i25-20020ac5cbf9000000b004c0368180b6sm189872vkn.13.2024.03.01.10.27.52
 (version=TLS1_2 cipher=ECDHE-ECDSA-AES128-GCM-SHA256 bits=128/128);
 Fri, 01 Mar 2024 10:27:52 -0800 (PST)
X-Relaying-Domain: iol.unh.edu
Date: Fri, 01 Mar 2024 10:27:52 -0800 (PST)
Message-ID: <65e21e28.c50a0220.3dd85.aea3SMTPIN_ADDED_MISSING@mx.google.com>
Received: from [172.21.0.6] (unknown [172.18.0.240])
 by postal.iol.unh.edu (Postfix) with ESMTP id 4069D60527CD;
 Fri,  1 Mar 2024 13:27:52 -0500 (EST)
Subject: |SUCCESS| pw137660 [PATCH] [v5] net/i40e: add diagnostic support in 
From: dpdklab@iol.unh.edu
To: Test Report <test-report@dpdk.org>
Cc: dpdk-test-reports@iol.unh.edu
In-Reply-To: <20240301094422.460012-1-mingjinx.ye@intel.com>
References: <20240301094422.460012-1-mingjinx.ye@intel.com>
Content-Type: text/plain
X-BeenThere: test-report@dpdk.org
X-Mailman-Version: 2.1.29
Precedence: list
List-Id: automatic DPDK test reports <test-report.dpdk.org>
List-Unsubscribe: <https://mails.dpdk.org/options/test-report>,
 <mailto:test-report-request@dpdk.org?subject=unsubscribe>
List-Archive: <http://mails.dpdk.org/archives/test-report/>
List-Post: <mailto:test-report@dpdk.org>
List-Help: <mailto:test-report-request@dpdk.org?subject=help>
List-Subscribe: <https://mails.dpdk.org/listinfo/test-report>,
 <mailto:test-report-request@dpdk.org?subject=subscribe>
Errors-To: test-report-bounces@dpdk.org

Test-Label: iol-unit-amd64-testing
Test-Status: SUCCESS
http://dpdk.org/patch/137660

_Testing PASS_

Submitter: Mingjin Ye <mingjinx.ye@intel.com>
Date: Friday, March 01 2024 09:44:21 
DPDK git baseline: Repo:dpdk
  Branch: master
  CommitID:3408b132b31906fe1ed28d6b2009b98202e1cff0

137660 --> testing pass

Test environment and result as below:

+------------------+----------------+
|   Environment    | dpdk_unit_test |
+==================+================+
| Debian Bullseye  | PASS           |
+------------------+----------------+
| CentOS Stream 9  | PASS           |
+------------------+----------------+
| Fedora 37        | PASS           |
+------------------+----------------+
| CentOS Stream 8  | PASS           |
+------------------+----------------+
| Fedora 38        | PASS           |
+------------------+----------------+
| Debian 12 (arm)  | PASS           |
+------------------+----------------+
| RHEL8            | PASS           |
+------------------+----------------+
| Ubuntu 20.04     | PASS           |
+------------------+----------------+
| openSUSE Leap 15 | PASS           |
+------------------+----------------+
| Ubuntu 22.04     | PASS           |
+------------------+----------------+


Debian Bullseye
	Kernel: 5.4.0-122-generic
	Compiler: gcc 10.2.1-6

CentOS Stream 9
	Kernel: 4.18.0-240.10.1.el8_3.x86_64
	Compiler: gcc 11.3.1 20220421

Fedora 37
	Kernel: Depends on container host system
	Compiler: gcc 12.3.1

CentOS Stream 8
	Kernel: 4.18.0-240.10.1.el8_3.x86_64
	Compiler: gcc 8.4.1 20200928

Fedora 38
	Kernel: Depends on container host
	Compiler: gcc 13.1.1

Debian 12 (arm)
	Kernel: Container Host Kernel
	Compiler: gcc 11

RHEL8
	Kernel: 4.18.0-240.10.1.el8_3.x86_64
	Compiler: gcc 8.3.1 20191121 (Red Hat 8.3.1-5)

Ubuntu 20.04
	Kernel: 5.4.0-153-generic
	Compiler: gcc 9.4.0-1ubuntu1~20.04.1

openSUSE Leap 15
	Kernel: 4.18.0-240.10.1.el8_3.x86_64
	Compiler: gcc 7.5.0

Ubuntu 22.04
	Kernel: 4.18.0-240.10.1.el8_3.x86_64
	Compiler: gcc 11.3.0

To view detailed results, visit:
https://lab.dpdk.org/results/dashboard/patchsets/29366/

UNH-IOL DPDK Community Lab

To manage your email subscriptions, visit: 
https://lab.dpdk.org/results/dashboard/preferences/subscriptions/