From mboxrd@z Thu Jan  1 00:00:00 1970
Return-Path: <test-report-bounces@dpdk.org>
Received: from mails.dpdk.org (mails.dpdk.org [217.70.189.124])
	by inbox.dpdk.org (Postfix) with ESMTP id 358B443BD1
	for <public@inbox.dpdk.org>; Fri,  1 Mar 2024 19:29:56 +0100 (CET)
Received: from mails.dpdk.org (localhost [127.0.0.1])
	by mails.dpdk.org (Postfix) with ESMTP id 30C7E42D68;
	Fri,  1 Mar 2024 19:29:56 +0100 (CET)
Received: from mail-pg1-f227.google.com (mail-pg1-f227.google.com
 [209.85.215.227])
 by mails.dpdk.org (Postfix) with ESMTP id 8FE96402B8
 for <test-report@dpdk.org>; Fri,  1 Mar 2024 19:29:55 +0100 (CET)
Received: by mail-pg1-f227.google.com with SMTP id
 41be03b00d2f7-5d3907ff128so2251273a12.3
 for <test-report@dpdk.org>; Fri, 01 Mar 2024 10:29:55 -0800 (PST)
DKIM-Signature: v=1; a=rsa-sha256; c=relaxed/relaxed;
 d=iol.unh.edu; s=unh-iol; t=1709317795; x=1709922595; darn=dpdk.org;
 h=references:in-reply-to:cc:to:from:subject:message-id:date:from:to
 :cc:subject:date:message-id:reply-to;
 bh=G4Nlx/TqrWxQaUveao9OkxtRG0E/iwdeGSe+9xpde2Q=;
 b=ZsF8gKhS9MjO2KGrD3Xn2VyADN/9KWWcrmhzZuWYwvvZV/BGwcTKGaFoAllQk9nTTx
 dzOgxzjNjQxF700qTiC8x4pEVfV0/alALv9e2gKXlBf/wXzxoxPtTNCaefzTcLl7X8Vi
 +NXv2xfKW9kHc7vFfpbTr5j2iXDdu4/uqh1sw=
X-Google-DKIM-Signature: v=1; a=rsa-sha256; c=relaxed/relaxed;
 d=1e100.net; s=20230601; t=1709317795; x=1709922595;
 h=references:in-reply-to:cc:to:from:subject:message-id:date
 :x-gm-message-state:from:to:cc:subject:date:message-id:reply-to;
 bh=G4Nlx/TqrWxQaUveao9OkxtRG0E/iwdeGSe+9xpde2Q=;
 b=WIDbV2kH7yaaxylvQpoD03uLbhPaWI4XzX/LTsTlvxUDbfKgAOd0mxAijv41/lxWGk
 FSHA3P/4izGE8jxWmmCaROvSYiFDgY17X+oPfbxcQhfEIFEnwQun47t2B6FoQKAkgI1/
 LpzwMP4vS3YzzNJfd5G3tJFSEz0EjCKfFGdteQtYRjeKui940ZVY1uAP+mN/17i/wGzz
 cqKzDkAitE5hgaGRyo/sZi7PqTN6SFbkWXuGdSbW/pBK4ag7I9/sjWzaqlrJX1RRDqog
 Bg6H0kHBUTpUTy6hcsCR2S8oeiUibcAkdwnJgkMo5ulXsAO4B9Bhz6TEEGSyxvOYwISi
 fAgw==
X-Gm-Message-State: AOJu0YxQB1yGL8NKoThN5gv2RAyxeHpjXeE4/dYe1KTRAbKxN+21akCO
 s4wjHZWlFdXt4yyC3UAlihMBnqfDNvTtrOVXXfk1TX9UPjvEhXZUjAqEivl5dW68hgqX1idMIFb
 Pw2dsJPqxv2WVitJcji+JjRwlVapEJG27kBenvIOo
X-Google-Smtp-Source: AGHT+IH8ZUxsikC+F6wGBOY5ltdVvpkaJgf1PLgjKQbN14iwAd8XwLAu580idNMXu89IlmjBeXq4SIIdqXh+
X-Received: by 2002:a17:90b:8d1:b0:29a:5ed9:eca1 with SMTP id
 ds17-20020a17090b08d100b0029a5ed9eca1mr2301317pjb.41.1709317794800; 
 Fri, 01 Mar 2024 10:29:54 -0800 (PST)
Received: from postal.iol.unh.edu (postal.iol.unh.edu. [132.177.123.84])
 by smtp-relay.gmail.com with ESMTPS id
 bg15-20020a17090b0d8f00b0029ae92973a4sm151533pjb.6.2024.03.01.10.29.54
 (version=TLS1_2 cipher=ECDHE-ECDSA-AES128-GCM-SHA256 bits=128/128);
 Fri, 01 Mar 2024 10:29:54 -0800 (PST)
X-Relaying-Domain: iol.unh.edu
Date: Fri, 01 Mar 2024 10:29:54 -0800 (PST)
Message-ID: <65e21ea2.170a0220.5869f.9a16SMTPIN_ADDED_MISSING@mx.google.com>
Received: from [172.21.0.6] (unknown [172.18.0.240])
 by postal.iol.unh.edu (Postfix) with ESMTP id 4059860527CD;
 Fri,  1 Mar 2024 13:29:54 -0500 (EST)
Subject: |SUCCESS| pw137659 [PATCH] [v4] net/cnxk: support Tx queue descripto
From: dpdklab@iol.unh.edu
To: Test Report <test-report@dpdk.org>
Cc: dpdk-test-reports@iol.unh.edu
In-Reply-To: <1709286509-18322-1-git-send-email-skoteshwar@marvell.com>
References: <1709286509-18322-1-git-send-email-skoteshwar@marvell.com>
Content-Type: text/plain
X-BeenThere: test-report@dpdk.org
X-Mailman-Version: 2.1.29
Precedence: list
List-Id: automatic DPDK test reports <test-report.dpdk.org>
List-Unsubscribe: <https://mails.dpdk.org/options/test-report>,
 <mailto:test-report-request@dpdk.org?subject=unsubscribe>
List-Archive: <http://mails.dpdk.org/archives/test-report/>
List-Post: <mailto:test-report@dpdk.org>
List-Help: <mailto:test-report-request@dpdk.org?subject=help>
List-Subscribe: <https://mails.dpdk.org/listinfo/test-report>,
 <mailto:test-report-request@dpdk.org?subject=subscribe>
Errors-To: test-report-bounces@dpdk.org

Test-Label: iol-compile-amd64-testing
Test-Status: SUCCESS
http://dpdk.org/patch/137659

_Testing PASS_

Submitter: Satha Koteswara Rao Kottidi <skoteshwar@marvell.com>
Date: Friday, March 01 2024 09:48:29 
DPDK git baseline: Repo:dpdk
  Branch: master
  CommitID:ce8ce20ae46fe0df7632a0172c73d2dcd1ac0187

137659 --> testing pass

Test environment and result as below:

+---------------------+--------------------+----------------------+
|     Environment     | dpdk_meson_compile | dpdk_mingw64_compile |
+=====================+====================+======================+
| FreeBSD 13.2        | PASS               | SKIPPED              |
+---------------------+--------------------+----------------------+
| CentOS Stream 8     | PASS               | SKIPPED              |
+---------------------+--------------------+----------------------+
| CentOS Stream 9     | PASS               | SKIPPED              |
+---------------------+--------------------+----------------------+
| Debian Bullseye     | PASS               | SKIPPED              |
+---------------------+--------------------+----------------------+
| Fedora 38           | PASS               | SKIPPED              |
+---------------------+--------------------+----------------------+
| Debian 12 (arm)     | PASS               | SKIPPED              |
+---------------------+--------------------+----------------------+
| Ubuntu 22.04        | PASS               | SKIPPED              |
+---------------------+--------------------+----------------------+
| Ubuntu 20.04        | PASS               | SKIPPED              |
+---------------------+--------------------+----------------------+
| Fedora 37           | PASS               | SKIPPED              |
+---------------------+--------------------+----------------------+
| RHEL8               | PASS               | SKIPPED              |
+---------------------+--------------------+----------------------+
| openSUSE Leap 15    | PASS               | SKIPPED              |
+---------------------+--------------------+----------------------+
| Windows Server 2019 | PASS               | PASS                 |
+---------------------+--------------------+----------------------+
| Alpine              | PASS               | SKIPPED              |
+---------------------+--------------------+----------------------+
| Windows Server 2022 | PASS               | SKIPPED              |
+---------------------+--------------------+----------------------+


FreeBSD 13.2
	Kernel: 13.2
	Compiler: clang 11.3.0

CentOS Stream 8
	Kernel: 4.18.0-240.10.1.el8_3.x86_64
	Compiler: gcc 8.4.1 20200928

CentOS Stream 9
	Kernel: 4.18.0-240.10.1.el8_3.x86_64
	Compiler: gcc 11.3.1 20220421

Debian Bullseye
	Kernel: 5.4.0-122-generic
	Compiler: gcc 10.2.1-6

Fedora 38
	Kernel: Depends on container host
	Compiler: gcc 13.1.1

Debian 12 (arm)
	Kernel: Container Host Kernel
	Compiler: gcc 11

Ubuntu 22.04
	Kernel: 4.18.0-240.10.1.el8_3.x86_64
	Compiler: gcc 11.3.0

Ubuntu 20.04
	Kernel: 5.4.0-153-generic
	Compiler: gcc 9.4.0-1ubuntu1~20.04.1

Fedora 37
	Kernel: Depends on container host system
	Compiler: gcc 12.3.1

RHEL8
	Kernel: 4.18.0-240.10.1.el8_3.x86_64
	Compiler: gcc 8.3.1 20191121 (Red Hat 8.3.1-5)

openSUSE Leap 15
	Kernel: 4.18.0-240.10.1.el8_3.x86_64
	Compiler: gcc 7.5.0

Windows Server 2019
	Kernel: 10.0
	Compiler: clang 14.0 and gcc 8.1.0 (MinGW)

Alpine
	Kernel: 5.4.0-73-generic
	Compiler: gcc (Alpine 10.3.1_git20210424) 10.3.1 20210424

Windows Server 2022
	Kernel: OS Build 20348.2031
	Compiler: MSVC VS-Preview

To view detailed results, visit:
https://lab.dpdk.org/results/dashboard/patchsets/29365/

UNH-IOL DPDK Community Lab

To manage your email subscriptions, visit: 
https://lab.dpdk.org/results/dashboard/preferences/subscriptions/