From mboxrd@z Thu Jan  1 00:00:00 1970
Return-Path: <test-report-bounces@dpdk.org>
Received: from mails.dpdk.org (mails.dpdk.org [217.70.189.124])
	by inbox.dpdk.org (Postfix) with ESMTP id 8EFC343BD1
	for <public@inbox.dpdk.org>; Fri,  1 Mar 2024 19:39:04 +0100 (CET)
Received: from mails.dpdk.org (localhost [127.0.0.1])
	by mails.dpdk.org (Postfix) with ESMTP id 8729142D68;
	Fri,  1 Mar 2024 19:39:04 +0100 (CET)
Received: from mail-oi1-f227.google.com (mail-oi1-f227.google.com
 [209.85.167.227])
 by mails.dpdk.org (Postfix) with ESMTP id EF2A7402B8
 for <test-report@dpdk.org>; Fri,  1 Mar 2024 19:39:03 +0100 (CET)
Received: by mail-oi1-f227.google.com with SMTP id
 5614622812f47-3bbd6ea06f5so1350706b6e.1
 for <test-report@dpdk.org>; Fri, 01 Mar 2024 10:39:03 -0800 (PST)
DKIM-Signature: v=1; a=rsa-sha256; c=relaxed/relaxed;
 d=iol.unh.edu; s=unh-iol; t=1709318343; x=1709923143; darn=dpdk.org;
 h=references:in-reply-to:cc:to:from:subject:message-id:date:from:to
 :cc:subject:date:message-id:reply-to;
 bh=TMZv4JnXM71lTYK+S0Y2vHW+l917IVOokw0htY+/EH4=;
 b=Ae1n580DbfvPW42TjfnChsECVmafZbwn2ceO22f7hhr+jMtvShWiYCSuuZ1VuwbYnl
 PhYjr7mfXSpgoyNO9c2HaTOHCnElCDN3oDJE24wEZIh856iAE5FtFOeJgRaLgAx9qGSn
 rGtJ1NDBnLLJTQ80feg99VYUTROsrNBc0KJso=
X-Google-DKIM-Signature: v=1; a=rsa-sha256; c=relaxed/relaxed;
 d=1e100.net; s=20230601; t=1709318343; x=1709923143;
 h=references:in-reply-to:cc:to:from:subject:message-id:date
 :x-gm-message-state:from:to:cc:subject:date:message-id:reply-to;
 bh=TMZv4JnXM71lTYK+S0Y2vHW+l917IVOokw0htY+/EH4=;
 b=ftH/8CoNbXueMUMFvyolEpuGCXDOhZP7j/HBMlDXIUMKt5cCXswVzb9Yoa1cB5keRD
 bF72x2pFU2woyd3XMvMkttUWYdXYYB5teQcX3UtS2KhT9j45TVDPLgU9B20if9ThMjIW
 5A4E9laHamMXvdEDMHdxIvRxaS7tsN/D/HfLsYmd+5VX4We5WpdfVbcjyF+dLz7iIw6M
 QQeNSGDOUv+ccMyfys8BpkkQHv89TXAZFbhRlyv2j3TcWwktLB3jvQetbL5YkFD8U2nQ
 gG+0gKHS68Njj/8JhiNp85er3i1/dJHSwVmT/ziVTRkFqYwI/JJqxdQArwHtSih/ZRyE
 C/4w==
X-Gm-Message-State: AOJu0Yw4QUgi47INcYoNtDabatbMAh1S/TO5ueB5vXBSwP3c1LCytag8
 03XJ9p4iy4iUC1mUDglcIHCrgKrM8HxmnZRtBuQPQVhKnhAcsj3VdmXimjiVLzFyAcMbDPvgFFM
 3pzH/yGt+gW3LRCEZJ+eo1AmZJpnkKybb910IOpVKm3WAR4x5RK7Ca9rJ
X-Google-Smtp-Source: AGHT+IH/jQMh8A0DFoffpEPaxwOxUpncSqi6GK+p4X0XpiSQocYmYNUKrcvHfn1fL3dirnQz2GEcks1nvo9k
X-Received: by 2002:a05:6808:8ca:b0:3c1:bdaa:bfd8 with SMTP id
 k10-20020a05680808ca00b003c1bdaabfd8mr2544834oij.22.1709318343354; 
 Fri, 01 Mar 2024 10:39:03 -0800 (PST)
Received: from postal.iol.unh.edu (postal.iol.unh.edu.
 [2606:4100:3880:1234::84]) by smtp-relay.gmail.com with ESMTPS id
 t184-20020a4a54c1000000b0059cda30858fsm201925ooa.6.2024.03.01.10.39.03
 (version=TLS1_2 cipher=ECDHE-ECDSA-AES128-GCM-SHA256 bits=128/128);
 Fri, 01 Mar 2024 10:39:03 -0800 (PST)
X-Relaying-Domain: iol.unh.edu
Date: Fri, 01 Mar 2024 10:39:03 -0800 (PST)
Message-ID: <65e220c7.4a0a0220.410c1.d13eSMTPIN_ADDED_MISSING@mx.google.com>
Received: from [172.17.0.7] (unknown [172.18.0.217])
 by postal.iol.unh.edu (Postfix) with ESMTP id DA77860527CD;
 Fri,  1 Mar 2024 13:39:02 -0500 (EST)
Subject: |SUCCESS| pw137660 [PATCH] [v5] net/i40e: add diagnostic support in 
From: dpdklab@iol.unh.edu
To: Test Report <test-report@dpdk.org>
Cc: dpdk-test-reports@iol.unh.edu
In-Reply-To: <20240301094422.460012-1-mingjinx.ye@intel.com>
References: <20240301094422.460012-1-mingjinx.ye@intel.com>
Content-Type: text/plain
X-BeenThere: test-report@dpdk.org
X-Mailman-Version: 2.1.29
Precedence: list
List-Id: automatic DPDK test reports <test-report.dpdk.org>
List-Unsubscribe: <https://mails.dpdk.org/options/test-report>,
 <mailto:test-report-request@dpdk.org?subject=unsubscribe>
List-Archive: <http://mails.dpdk.org/archives/test-report/>
List-Post: <mailto:test-report@dpdk.org>
List-Help: <mailto:test-report-request@dpdk.org?subject=help>
List-Subscribe: <https://mails.dpdk.org/listinfo/test-report>,
 <mailto:test-report-request@dpdk.org?subject=subscribe>
Errors-To: test-report-bounces@dpdk.org

Test-Label: iol-compile-arm64-testing
Test-Status: SUCCESS
http://dpdk.org/patch/137660

_Testing PASS_

Submitter: Mingjin Ye <mingjinx.ye@intel.com>
Date: Friday, March 01 2024 09:44:21 
DPDK git baseline: Repo:dpdk
  Branch: master
  CommitID:3408b132b31906fe1ed28d6b2009b98202e1cff0

137660 --> testing pass

Test environment and result as below:

+----------------------------------------+--------------------+
|              Environment               | dpdk_meson_compile |
+========================================+====================+
| Ubuntu 20.04 ARM SVE                   | PASS               |
+----------------------------------------+--------------------+
| Ubuntu 20.04 (ARM)                     | PASS               |
+----------------------------------------+--------------------+
| Debian 11 (Buster) (ARM)               | PASS               |
+----------------------------------------+--------------------+
| Debian 12 (arm)                        | PASS               |
+----------------------------------------+--------------------+
| Fedora 38 (ARM)                        | PASS               |
+----------------------------------------+--------------------+
| Ubuntu 20.04 aarch32 GCC Cross Compile | PASS               |
+----------------------------------------+--------------------+
| Fedora 37 (ARM)                        | PASS               |
+----------------------------------------+--------------------+
| CentOS Stream 9 (ARM)                  | PASS               |
+----------------------------------------+--------------------+
| Ubuntu 20.04 ARM Clang Cross Compile   | PASS               |
+----------------------------------------+--------------------+
| Ubuntu 20.04 ARM GCC Cross Compile     | PASS               |
+----------------------------------------+--------------------+


Ubuntu 20.04 ARM SVE
	Kernel: 5.4.0-80-generic
	Compiler: gcc 10.3.0 (Ubuntu 10.3.0-1ubuntu1~20.04)

Ubuntu 20.04 (ARM)
	Kernel: Container Host Kernel
	Compiler: gcc 9.4.0

Debian 11 (Buster) (ARM)
	Kernel: Container Host Kernel
	Compiler: gcc 10.2.1

Debian 12 (arm)
	Kernel: Container Host Kernel
	Compiler: gcc 11

Fedora 38 (ARM)
	Kernel: Depends on container host
	Compiler: gcc 13.1.1

Ubuntu 20.04 aarch32 GCC Cross Compile
	Kernel: 5.4.0-72-generic
	Compiler: gcc 9.3.0

Fedora 37 (ARM)
	Kernel: Depends on container host
	Compiler: gcc 12.3.1

CentOS Stream 9 (ARM)
	Kernel: Container Host Kernel
	Compiler: gcc 11.3.1

Ubuntu 20.04 ARM Clang Cross Compile
	Kernel: 5.4.0-72-generic
	Compiler: clang version 10.0.0-4ubuntu1

Ubuntu 20.04 ARM GCC Cross Compile
	Kernel: 5.4.0-72-generic
	Compiler: aarch64-linux-gnu-gcc (Ubuntu 9.3.0-17ubuntu1~20.04) 9.3.0

To view detailed results, visit:
https://lab.dpdk.org/results/dashboard/patchsets/29366/

UNH-IOL DPDK Community Lab

To manage your email subscriptions, visit: 
https://lab.dpdk.org/results/dashboard/preferences/subscriptions/