From mboxrd@z Thu Jan  1 00:00:00 1970
Return-Path: <test-report-bounces@dpdk.org>
Received: from mails.dpdk.org (mails.dpdk.org [217.70.189.124])
	by inbox.dpdk.org (Postfix) with ESMTP id A567A43BD1
	for <public@inbox.dpdk.org>; Fri,  1 Mar 2024 19:39:19 +0100 (CET)
Received: from mails.dpdk.org (localhost [127.0.0.1])
	by mails.dpdk.org (Postfix) with ESMTP id 9F8B542D68;
	Fri,  1 Mar 2024 19:39:19 +0100 (CET)
Received: from mail-pf1-f228.google.com (mail-pf1-f228.google.com
 [209.85.210.228])
 by mails.dpdk.org (Postfix) with ESMTP id 37CE2402B8
 for <test-report@dpdk.org>; Fri,  1 Mar 2024 19:39:18 +0100 (CET)
Received: by mail-pf1-f228.google.com with SMTP id
 d2e1a72fcca58-6e56787e691so2383525b3a.0
 for <test-report@dpdk.org>; Fri, 01 Mar 2024 10:39:18 -0800 (PST)
DKIM-Signature: v=1; a=rsa-sha256; c=relaxed/relaxed;
 d=iol.unh.edu; s=unh-iol; t=1709318357; x=1709923157; darn=dpdk.org;
 h=references:in-reply-to:cc:to:from:subject:message-id:date:from:to
 :cc:subject:date:message-id:reply-to;
 bh=566JHh6gdkae7DpnjKO4Rv9S0TG2UN3J67DLT66Wj+M=;
 b=DBudeCjKE8Bs/Mgu3JTI1T2JfnDMwBS2ODfF4n9A4TZ5ikSqoR+kk7XP7lQIrxFYGG
 KM+xTY63bpHOSqOaspb6nEs5EfAon5QqeHZXX+ahlSF/zcpWkIxhfCIlBuGDTtvfBs2N
 JdTL5XX+HGRuxqkT+byNpcKhRCuY9Cp/d6MNY=
X-Google-DKIM-Signature: v=1; a=rsa-sha256; c=relaxed/relaxed;
 d=1e100.net; s=20230601; t=1709318357; x=1709923157;
 h=references:in-reply-to:cc:to:from:subject:message-id:date
 :x-gm-message-state:from:to:cc:subject:date:message-id:reply-to;
 bh=566JHh6gdkae7DpnjKO4Rv9S0TG2UN3J67DLT66Wj+M=;
 b=H67FM/kS+I5/Chj05Eamy3nKGaMUebQW7soJ/cmDyeejaK6bVPbthy/Iuxrl6KUJ03
 wa9DBIElls/yb6SKzah6Qm4FRxTezaK4iz96qKeXJffx3SAX88FOE4IaLD4hOrMbew6O
 P1RNO/hA3y2RRoW7QuyRyaduu86Qc1n1jtQjXVirKrt+PAQvh92Xl3ar1bbjquhZBdhd
 tCYS6mhBMjl4z0o78/tnLtvI84RwV3uC/OVd4hVsUYLkyMx5MxQhrOZCezFxsQvzK83E
 jEMDlHoQ6GRz2L1r3UhHvZNr0ztN1IM1mg4XAKCCkPtHrcg5ZGXv/ySyxAixcqmODanf
 fSJQ==
X-Gm-Message-State: AOJu0Yw8Mtu2E3tSKq6hiljNdMjS/aTFSUF2zumZ9GipbML+qR8uxOxx
 VcSZPF59BBFMkjHiDTLJ4wJXXWDPX1vaqLQ03RkvlrEwiQSdKDUojfT/VSg3X/Zgjq3Ag2F6BjL
 vRRDRa3+n/4hLVYr+J2N5e6OvzwMeDeOvbFh6M1Eq
X-Google-Smtp-Source: AGHT+IHDXp05xMLM2E/+2K7mYA+czflAcfKf1xxYyiqzXjoZdICOnWbNWALf/P+vWOTH1E9FRe+w9BhV1xpg
X-Received: by 2002:a05:6a20:9148:b0:19e:a9c2:e0cb with SMTP id
 x8-20020a056a20914800b0019ea9c2e0cbmr3778778pzc.25.1709318357382; 
 Fri, 01 Mar 2024 10:39:17 -0800 (PST)
Received: from postal.iol.unh.edu (postal.iol.unh.edu. [132.177.123.84])
 by smtp-relay.gmail.com with ESMTPS id
 a9-20020aa78e89000000b006e45cdb7f8asm118069pfr.19.2024.03.01.10.39.17
 (version=TLS1_2 cipher=ECDHE-ECDSA-AES128-GCM-SHA256 bits=128/128);
 Fri, 01 Mar 2024 10:39:17 -0800 (PST)
X-Relaying-Domain: iol.unh.edu
Date: Fri, 01 Mar 2024 10:39:17 -0800 (PST)
Message-ID: <65e220d5.a70a0220.28d30.74ffSMTPIN_ADDED_MISSING@mx.google.com>
Received: from [172.17.0.7] (unknown [172.18.0.217])
 by postal.iol.unh.edu (Postfix) with ESMTP id 88F8860527CD;
 Fri,  1 Mar 2024 13:39:16 -0500 (EST)
Subject: |SUCCESS| pw137660 [PATCH] [v5] net/i40e: add diagnostic support in 
From: dpdklab@iol.unh.edu
To: Test Report <test-report@dpdk.org>
Cc: dpdk-test-reports@iol.unh.edu
In-Reply-To: <20240301094422.460012-1-mingjinx.ye@intel.com>
References: <20240301094422.460012-1-mingjinx.ye@intel.com>
Content-Type: text/plain
X-BeenThere: test-report@dpdk.org
X-Mailman-Version: 2.1.29
Precedence: list
List-Id: automatic DPDK test reports <test-report.dpdk.org>
List-Unsubscribe: <https://mails.dpdk.org/options/test-report>,
 <mailto:test-report-request@dpdk.org?subject=unsubscribe>
List-Archive: <http://mails.dpdk.org/archives/test-report/>
List-Post: <mailto:test-report@dpdk.org>
List-Help: <mailto:test-report-request@dpdk.org?subject=help>
List-Subscribe: <https://mails.dpdk.org/listinfo/test-report>,
 <mailto:test-report-request@dpdk.org?subject=subscribe>
Errors-To: test-report-bounces@dpdk.org

Test-Label: iol-unit-arm64-testing
Test-Status: SUCCESS
http://dpdk.org/patch/137660

_Testing PASS_

Submitter: Mingjin Ye <mingjinx.ye@intel.com>
Date: Friday, March 01 2024 09:44:21 
DPDK git baseline: Repo:dpdk
  Branch: master
  CommitID:3408b132b31906fe1ed28d6b2009b98202e1cff0

137660 --> testing pass

Test environment and result as below:

+--------------------------+----------------+--------------+------------------------------+---------------------------+
|       Environment        | dpdk_unit_test | lpm_autotest | cryptodev_sw_snow3g_autotest | cryptodev_sw_zuc_autotest |
+==========================+================+==============+==============================+===========================+
| CentOS Stream 9 (ARM)    | PASS           | SKIPPED      | SKIPPED                      | SKIPPED                   |
+--------------------------+----------------+--------------+------------------------------+---------------------------+
| Debian 12 (arm)          | PASS           | SKIPPED      | PASS                         | PASS                      |
+--------------------------+----------------+--------------+------------------------------+---------------------------+
| Debian 11 (Buster) (ARM) | PASS           | SKIPPED      | SKIPPED                      | SKIPPED                   |
+--------------------------+----------------+--------------+------------------------------+---------------------------+
| Fedora 37 (ARM)          | PASS           | SKIPPED      | SKIPPED                      | SKIPPED                   |
+--------------------------+----------------+--------------+------------------------------+---------------------------+
| Fedora 38 (ARM)          | PASS           | SKIPPED      | SKIPPED                      | SKIPPED                   |
+--------------------------+----------------+--------------+------------------------------+---------------------------+
| Ubuntu 20.04 (ARM)       | PASS           | SKIPPED      | SKIPPED                      | SKIPPED                   |
+--------------------------+----------------+--------------+------------------------------+---------------------------+
| Fedora 38 (ARM Clang)    | PASS           | SKIPPED      | SKIPPED                      | SKIPPED                   |
+--------------------------+----------------+--------------+------------------------------+---------------------------+
| Ubuntu 20.04 ARM SVE     | SKIPPED        | PASS         | SKIPPED                      | SKIPPED                   |
+--------------------------+----------------+--------------+------------------------------+---------------------------+


CentOS Stream 9 (ARM)
	Kernel: Container Host Kernel
	Compiler: gcc 11.3.1

Debian 12 (arm)
	Kernel: Container Host Kernel
	Compiler: gcc 11

Debian 11 (Buster) (ARM)
	Kernel: Container Host Kernel
	Compiler: gcc 10.2.1

Fedora 37 (ARM)
	Kernel: Depends on container host
	Compiler: gcc 12.3.1

Fedora 38 (ARM)
	Kernel: Depends on container host
	Compiler: gcc 13.1.1

Ubuntu 20.04 (ARM)
	Kernel: Container Host Kernel
	Compiler: gcc 9.4.0

Fedora 38 (ARM Clang)
	Kernel: Depends on container host
	Compiler: clang 16.0.3

Ubuntu 20.04 ARM SVE
	Kernel: 5.4.0-80-generic
	Compiler: gcc 10.3.0 (Ubuntu 10.3.0-1ubuntu1~20.04)

To view detailed results, visit:
https://lab.dpdk.org/results/dashboard/patchsets/29366/

UNH-IOL DPDK Community Lab

To manage your email subscriptions, visit: 
https://lab.dpdk.org/results/dashboard/preferences/subscriptions/