From mboxrd@z Thu Jan  1 00:00:00 1970
Return-Path: <test-report-bounces@dpdk.org>
Received: from mails.dpdk.org (mails.dpdk.org [217.70.189.124])
	by inbox.dpdk.org (Postfix) with ESMTP id 5568343BD1
	for <public@inbox.dpdk.org>; Fri,  1 Mar 2024 19:41:00 +0100 (CET)
Received: from mails.dpdk.org (localhost [127.0.0.1])
	by mails.dpdk.org (Postfix) with ESMTP id 5181342D68;
	Fri,  1 Mar 2024 19:41:00 +0100 (CET)
Received: from mail-qk1-f228.google.com (mail-qk1-f228.google.com
 [209.85.222.228])
 by mails.dpdk.org (Postfix) with ESMTP id 7828A402B8
 for <test-report@dpdk.org>; Fri,  1 Mar 2024 19:40:58 +0100 (CET)
Received: by mail-qk1-f228.google.com with SMTP id
 af79cd13be357-7810827e54eso166813185a.2
 for <test-report@dpdk.org>; Fri, 01 Mar 2024 10:40:58 -0800 (PST)
DKIM-Signature: v=1; a=rsa-sha256; c=relaxed/relaxed;
 d=iol.unh.edu; s=unh-iol; t=1709318458; x=1709923258; darn=dpdk.org;
 h=references:in-reply-to:cc:to:from:subject:message-id:date:from:to
 :cc:subject:date:message-id:reply-to;
 bh=TMZv4JnXM71lTYK+S0Y2vHW+l917IVOokw0htY+/EH4=;
 b=BDUoBFFbuo435olGS3Mm585/LO6dqN6Ukg1r6CPGlXKTxntDVumsL4j3rbTN0C3fG8
 DDHT68Bn9jSpBceEbS4fo7CzHl9tJQQXLhJoFVbUn2r5V2oPyE7wM+V4Rxw/HfGpr+DQ
 tYEf67hFhYi+iZkjjk/Z68+BUW1YLKVDlUkhQ=
X-Google-DKIM-Signature: v=1; a=rsa-sha256; c=relaxed/relaxed;
 d=1e100.net; s=20230601; t=1709318458; x=1709923258;
 h=references:in-reply-to:cc:to:from:subject:message-id:date
 :x-gm-message-state:from:to:cc:subject:date:message-id:reply-to;
 bh=TMZv4JnXM71lTYK+S0Y2vHW+l917IVOokw0htY+/EH4=;
 b=XjNJWABPQJ3Km66M4xU+LypunF0WI2a/zZIfvi7U2FwkwMNbgcDrDCPAa0vad5iG+u
 6nYsMV8+Qh2PQvFO+g67VQitGsNUvD/GQbNm1LkU94781ndE6XZCfV2kh4DCmFPRBqoA
 6hPImJR0ZZ2kcoPd6OOg582lOv3mJOGmIpODYugUB/AVsX7q7qa0uvtOY8KiKrO5JUWl
 vR9oZJntcGybuuWC702NSKa+jYYkBUHUyqFbOPMhxnsg8ueLannoGfNom716BcaXP+5Z
 rYQlmNGojtvOryauW9l8nOqC5l/LSs527LR46AbKCSSxwwRwEDQANKMtRpS3pm9vEcx2
 ft6A==
X-Gm-Message-State: AOJu0Yx2p8zajh9d8oCgl9R2BZeXWcGPU+p16JUUMI49MpIr6ofJ+bVD
 s97ZWnAXrzHHpPjzzAEvOSuWAIq0iyyvkxH8DRlVD0omZTVKk/0Un1mLdll+wGKv+HVURAg9q3h
 iBavDpjTzMszejpOp0qN0Ex478xaSHyDdzhvTuFMIxc/6T5sqj8hSsKn4
X-Google-Smtp-Source: AGHT+IEcA3BMtBXmrrszX4Kp82wGgJOpFRZyXzDg3Y2B0svq6OX9hbTODmk8ng1CrZVO+5ae4k1LEFASrN1S
X-Received: by 2002:a0c:cb87:0:b0:68f:dddb:752 with SMTP id
 p7-20020a0ccb87000000b0068fdddb0752mr2705395qvk.48.1709318457821; 
 Fri, 01 Mar 2024 10:40:57 -0800 (PST)
Received: from postal.iol.unh.edu (postal.iol.unh.edu.
 [2606:4100:3880:1234::84]) by smtp-relay.gmail.com with ESMTPS id
 r9-20020a0562140c4900b0068c95c8d9b8sm189382qvj.45.2024.03.01.10.40.57
 (version=TLS1_2 cipher=ECDHE-ECDSA-AES128-GCM-SHA256 bits=128/128);
 Fri, 01 Mar 2024 10:40:57 -0800 (PST)
X-Relaying-Domain: iol.unh.edu
Date: Fri, 01 Mar 2024 10:40:57 -0800 (PST)
Message-ID: <65e22139.050a0220.18c28.e52eSMTPIN_ADDED_MISSING@mx.google.com>
Received: from [172.17.0.7] (unknown [172.18.0.217])
 by postal.iol.unh.edu (Postfix) with ESMTP id 8687260527CD;
 Fri,  1 Mar 2024 13:40:57 -0500 (EST)
Subject: |SUCCESS| pw137660 [PATCH] [v5] net/i40e: add diagnostic support in 
From: dpdklab@iol.unh.edu
To: Test Report <test-report@dpdk.org>
Cc: dpdk-test-reports@iol.unh.edu
In-Reply-To: <20240301094422.460012-1-mingjinx.ye@intel.com>
References: <20240301094422.460012-1-mingjinx.ye@intel.com>
Content-Type: text/plain
X-BeenThere: test-report@dpdk.org
X-Mailman-Version: 2.1.29
Precedence: list
List-Id: automatic DPDK test reports <test-report.dpdk.org>
List-Unsubscribe: <https://mails.dpdk.org/options/test-report>,
 <mailto:test-report-request@dpdk.org?subject=unsubscribe>
List-Archive: <http://mails.dpdk.org/archives/test-report/>
List-Post: <mailto:test-report@dpdk.org>
List-Help: <mailto:test-report-request@dpdk.org?subject=help>
List-Subscribe: <https://mails.dpdk.org/listinfo/test-report>,
 <mailto:test-report-request@dpdk.org?subject=subscribe>
Errors-To: test-report-bounces@dpdk.org

Test-Label: iol-compile-arm64-testing
Test-Status: SUCCESS
http://dpdk.org/patch/137660

_Testing PASS_

Submitter: Mingjin Ye <mingjinx.ye@intel.com>
Date: Friday, March 01 2024 09:44:21 
DPDK git baseline: Repo:dpdk
  Branch: master
  CommitID:3408b132b31906fe1ed28d6b2009b98202e1cff0

137660 --> testing pass

Test environment and result as below:

+----------------------------------------+--------------------+
|              Environment               | dpdk_meson_compile |
+========================================+====================+
| Ubuntu 20.04 ARM SVE                   | PASS               |
+----------------------------------------+--------------------+
| Ubuntu 20.04 (ARM)                     | PASS               |
+----------------------------------------+--------------------+
| Debian 11 (Buster) (ARM)               | PASS               |
+----------------------------------------+--------------------+
| Debian 12 (arm)                        | PASS               |
+----------------------------------------+--------------------+
| Fedora 38 (ARM)                        | PASS               |
+----------------------------------------+--------------------+
| Ubuntu 20.04 aarch32 GCC Cross Compile | PASS               |
+----------------------------------------+--------------------+
| Fedora 37 (ARM)                        | PASS               |
+----------------------------------------+--------------------+
| CentOS Stream 9 (ARM)                  | PASS               |
+----------------------------------------+--------------------+
| Ubuntu 20.04 ARM Clang Cross Compile   | PASS               |
+----------------------------------------+--------------------+
| Ubuntu 20.04 ARM GCC Cross Compile     | PASS               |
+----------------------------------------+--------------------+


Ubuntu 20.04 ARM SVE
	Kernel: 5.4.0-80-generic
	Compiler: gcc 10.3.0 (Ubuntu 10.3.0-1ubuntu1~20.04)

Ubuntu 20.04 (ARM)
	Kernel: Container Host Kernel
	Compiler: gcc 9.4.0

Debian 11 (Buster) (ARM)
	Kernel: Container Host Kernel
	Compiler: gcc 10.2.1

Debian 12 (arm)
	Kernel: Container Host Kernel
	Compiler: gcc 11

Fedora 38 (ARM)
	Kernel: Depends on container host
	Compiler: gcc 13.1.1

Ubuntu 20.04 aarch32 GCC Cross Compile
	Kernel: 5.4.0-72-generic
	Compiler: gcc 9.3.0

Fedora 37 (ARM)
	Kernel: Depends on container host
	Compiler: gcc 12.3.1

CentOS Stream 9 (ARM)
	Kernel: Container Host Kernel
	Compiler: gcc 11.3.1

Ubuntu 20.04 ARM Clang Cross Compile
	Kernel: 5.4.0-72-generic
	Compiler: clang version 10.0.0-4ubuntu1

Ubuntu 20.04 ARM GCC Cross Compile
	Kernel: 5.4.0-72-generic
	Compiler: aarch64-linux-gnu-gcc (Ubuntu 9.3.0-17ubuntu1~20.04) 9.3.0

To view detailed results, visit:
https://lab.dpdk.org/results/dashboard/patchsets/29366/

UNH-IOL DPDK Community Lab

To manage your email subscriptions, visit: 
https://lab.dpdk.org/results/dashboard/preferences/subscriptions/