From mboxrd@z Thu Jan  1 00:00:00 1970
Return-Path: <test-report-bounces@dpdk.org>
Received: from mails.dpdk.org (mails.dpdk.org [217.70.189.124])
	by inbox.dpdk.org (Postfix) with ESMTP id 6E13343BD1
	for <public@inbox.dpdk.org>; Fri,  1 Mar 2024 19:41:08 +0100 (CET)
Received: from mails.dpdk.org (localhost [127.0.0.1])
	by mails.dpdk.org (Postfix) with ESMTP id 639E442D68;
	Fri,  1 Mar 2024 19:41:08 +0100 (CET)
Received: from mail-pl1-f228.google.com (mail-pl1-f228.google.com
 [209.85.214.228])
 by mails.dpdk.org (Postfix) with ESMTP id 6291A402B8
 for <test-report@dpdk.org>; Fri,  1 Mar 2024 19:41:07 +0100 (CET)
Received: by mail-pl1-f228.google.com with SMTP id
 d9443c01a7336-1dc1ff3ba1aso20802815ad.3
 for <test-report@dpdk.org>; Fri, 01 Mar 2024 10:41:07 -0800 (PST)
DKIM-Signature: v=1; a=rsa-sha256; c=relaxed/relaxed;
 d=iol.unh.edu; s=unh-iol; t=1709318466; x=1709923266; darn=dpdk.org;
 h=references:in-reply-to:cc:to:from:subject:message-id:date:from:to
 :cc:subject:date:message-id:reply-to;
 bh=566JHh6gdkae7DpnjKO4Rv9S0TG2UN3J67DLT66Wj+M=;
 b=CrmSDprVL2WV1WDggmwyvCNIy6ttGPu6vkm4NebtiNHSFQ5f+Rn5Z5xhU6xSrNkt2I
 WjoIUisywDtGad0arf6rNaF6jIntx6MiPxWlVp/qAwP9OnyLtVyYWgOBaN5X3weL+wrs
 8oaixk/2+UFRFU/Ti3YR+scxjcaKnl8rAM/KI=
X-Google-DKIM-Signature: v=1; a=rsa-sha256; c=relaxed/relaxed;
 d=1e100.net; s=20230601; t=1709318466; x=1709923266;
 h=references:in-reply-to:cc:to:from:subject:message-id:date
 :x-gm-message-state:from:to:cc:subject:date:message-id:reply-to;
 bh=566JHh6gdkae7DpnjKO4Rv9S0TG2UN3J67DLT66Wj+M=;
 b=YJE1+SiFpS3a0i9ObjUs4VqNLSFdJ3SLrEd0kI3zxT2g7FBCBAFCpzyHZE8/VyxqJX
 s8UThVHSwrh9c5GxrAlIaL4EhOZHcrnIp4qqQ5C+YjUFzWZVJ7NwIVWJnQ3d25MhMJMf
 ou0vsQ4WwMa1uGMUgftMQ46dbCpqMGDRGIa+4umrsBW1Pr82G+8mqgH2yg9mQw55x5CT
 REmPJXA0C8QFb5Xiway3dcN9D3LMmmyo/tJUU+5mHIRjD2yCKD2J2mTssjGP41Zwz0+J
 jQpaHOZWznV51ls2HJxz2Su+dC8WTTqCi+UMbw9mY+p5LmeVsIDXSgDjxATsH5HiJPph
 iYdw==
X-Gm-Message-State: AOJu0YzWixlxebkQTpXEGAiqpsNxesyZUsdsSJ7FTDRIbaQvutZUZWUl
 +8FbOdumahOF/oHR12pT52yefTGqG8zEouCo4cUuA8t8Rju2yV9gHcmgYNbB5hh58zHjYA/KPM0
 5qX+WeAbiW2fU90VxmXfTOwgdsXfG/z5TOdL7Bhrg
X-Google-Smtp-Source: AGHT+IEqF9FSrviPFiw04ZL3Bx+azBNzcMug4g45ZVukDj+PJDfw56VNYcOUeylI0pRF8PbbOGm6ydfGMjDr
X-Received: by 2002:a17:902:c948:b0:1dc:b382:da8d with SMTP id
 i8-20020a170902c94800b001dcb382da8dmr3344515pla.38.1709318466553; 
 Fri, 01 Mar 2024 10:41:06 -0800 (PST)
Received: from postal.iol.unh.edu (postal.iol.unh.edu. [132.177.123.84])
 by smtp-relay.gmail.com with ESMTPS id
 o18-20020a17090323d200b001dc7427abcasm119058plh.62.2024.03.01.10.41.06
 (version=TLS1_2 cipher=ECDHE-ECDSA-AES128-GCM-SHA256 bits=128/128);
 Fri, 01 Mar 2024 10:41:06 -0800 (PST)
X-Relaying-Domain: iol.unh.edu
Date: Fri, 01 Mar 2024 10:41:06 -0800 (PST)
Message-ID: <65e22142.170a0220.51a25.79aaSMTPIN_ADDED_MISSING@mx.google.com>
Received: from [172.17.0.7] (unknown [172.18.0.217])
 by postal.iol.unh.edu (Postfix) with ESMTP id B5DD560527CD;
 Fri,  1 Mar 2024 13:41:05 -0500 (EST)
Subject: |SUCCESS| pw137660 [PATCH] [v5] net/i40e: add diagnostic support in 
From: dpdklab@iol.unh.edu
To: Test Report <test-report@dpdk.org>
Cc: dpdk-test-reports@iol.unh.edu
In-Reply-To: <20240301094422.460012-1-mingjinx.ye@intel.com>
References: <20240301094422.460012-1-mingjinx.ye@intel.com>
Content-Type: text/plain
X-BeenThere: test-report@dpdk.org
X-Mailman-Version: 2.1.29
Precedence: list
List-Id: automatic DPDK test reports <test-report.dpdk.org>
List-Unsubscribe: <https://mails.dpdk.org/options/test-report>,
 <mailto:test-report-request@dpdk.org?subject=unsubscribe>
List-Archive: <http://mails.dpdk.org/archives/test-report/>
List-Post: <mailto:test-report@dpdk.org>
List-Help: <mailto:test-report-request@dpdk.org?subject=help>
List-Subscribe: <https://mails.dpdk.org/listinfo/test-report>,
 <mailto:test-report-request@dpdk.org?subject=subscribe>
Errors-To: test-report-bounces@dpdk.org

Test-Label: iol-unit-arm64-testing
Test-Status: SUCCESS
http://dpdk.org/patch/137660

_Testing PASS_

Submitter: Mingjin Ye <mingjinx.ye@intel.com>
Date: Friday, March 01 2024 09:44:21 
DPDK git baseline: Repo:dpdk
  Branch: master
  CommitID:3408b132b31906fe1ed28d6b2009b98202e1cff0

137660 --> testing pass

Test environment and result as below:

+--------------------------+----------------+--------------+------------------------------+---------------------------+
|       Environment        | dpdk_unit_test | lpm_autotest | cryptodev_sw_snow3g_autotest | cryptodev_sw_zuc_autotest |
+==========================+================+==============+==============================+===========================+
| CentOS Stream 9 (ARM)    | PASS           | SKIPPED      | SKIPPED                      | SKIPPED                   |
+--------------------------+----------------+--------------+------------------------------+---------------------------+
| Debian 12 (arm)          | PASS           | SKIPPED      | PASS                         | PASS                      |
+--------------------------+----------------+--------------+------------------------------+---------------------------+
| Debian 11 (Buster) (ARM) | PASS           | SKIPPED      | SKIPPED                      | SKIPPED                   |
+--------------------------+----------------+--------------+------------------------------+---------------------------+
| Fedora 37 (ARM)          | PASS           | SKIPPED      | SKIPPED                      | SKIPPED                   |
+--------------------------+----------------+--------------+------------------------------+---------------------------+
| Fedora 38 (ARM)          | PASS           | SKIPPED      | SKIPPED                      | SKIPPED                   |
+--------------------------+----------------+--------------+------------------------------+---------------------------+
| Ubuntu 20.04 (ARM)       | PASS           | SKIPPED      | SKIPPED                      | SKIPPED                   |
+--------------------------+----------------+--------------+------------------------------+---------------------------+
| Fedora 38 (ARM Clang)    | PASS           | SKIPPED      | SKIPPED                      | SKIPPED                   |
+--------------------------+----------------+--------------+------------------------------+---------------------------+
| Ubuntu 20.04 ARM SVE     | SKIPPED        | PASS         | SKIPPED                      | SKIPPED                   |
+--------------------------+----------------+--------------+------------------------------+---------------------------+


CentOS Stream 9 (ARM)
	Kernel: Container Host Kernel
	Compiler: gcc 11.3.1

Debian 12 (arm)
	Kernel: Container Host Kernel
	Compiler: gcc 11

Debian 11 (Buster) (ARM)
	Kernel: Container Host Kernel
	Compiler: gcc 10.2.1

Fedora 37 (ARM)
	Kernel: Depends on container host
	Compiler: gcc 12.3.1

Fedora 38 (ARM)
	Kernel: Depends on container host
	Compiler: gcc 13.1.1

Ubuntu 20.04 (ARM)
	Kernel: Container Host Kernel
	Compiler: gcc 9.4.0

Fedora 38 (ARM Clang)
	Kernel: Depends on container host
	Compiler: clang 16.0.3

Ubuntu 20.04 ARM SVE
	Kernel: 5.4.0-80-generic
	Compiler: gcc 10.3.0 (Ubuntu 10.3.0-1ubuntu1~20.04)

To view detailed results, visit:
https://lab.dpdk.org/results/dashboard/patchsets/29366/

UNH-IOL DPDK Community Lab

To manage your email subscriptions, visit: 
https://lab.dpdk.org/results/dashboard/preferences/subscriptions/