From mboxrd@z Thu Jan  1 00:00:00 1970
Return-Path: <test-report-bounces@dpdk.org>
Received: from mails.dpdk.org (mails.dpdk.org [217.70.189.124])
	by inbox.dpdk.org (Postfix) with ESMTP id CDDA043BD1
	for <public@inbox.dpdk.org>; Fri,  1 Mar 2024 19:44:35 +0100 (CET)
Received: from mails.dpdk.org (localhost [127.0.0.1])
	by mails.dpdk.org (Postfix) with ESMTP id C711D42D68;
	Fri,  1 Mar 2024 19:44:35 +0100 (CET)
Received: from mail-il1-f225.google.com (mail-il1-f225.google.com
 [209.85.166.225])
 by mails.dpdk.org (Postfix) with ESMTP id E7F07402B8
 for <test-report@dpdk.org>; Fri,  1 Mar 2024 19:44:34 +0100 (CET)
Received: by mail-il1-f225.google.com with SMTP id
 e9e14a558f8ab-365c773ae6cso9061665ab.2
 for <test-report@dpdk.org>; Fri, 01 Mar 2024 10:44:34 -0800 (PST)
DKIM-Signature: v=1; a=rsa-sha256; c=relaxed/relaxed;
 d=iol.unh.edu; s=unh-iol; t=1709318674; x=1709923474; darn=dpdk.org;
 h=references:in-reply-to:cc:to:from:subject:message-id:date:from:to
 :cc:subject:date:message-id:reply-to;
 bh=TMZv4JnXM71lTYK+S0Y2vHW+l917IVOokw0htY+/EH4=;
 b=gkC0wvTtMDGioZMK1FY3fgTC17iX8MhvRX+0oNbawjPyhBot0v3WtEzyYGfkNqzMf9
 jfP4jkrtb4fK9eqgUf000ja5ig6FPlYbkgOfAJhOGf+h0PbfbGGLNZ12XGq1s6NvRd8J
 msi4ZT5N+0W5/XK9Pb1LYDtopybLG293Aonfw=
X-Google-DKIM-Signature: v=1; a=rsa-sha256; c=relaxed/relaxed;
 d=1e100.net; s=20230601; t=1709318674; x=1709923474;
 h=references:in-reply-to:cc:to:from:subject:message-id:date
 :x-gm-message-state:from:to:cc:subject:date:message-id:reply-to;
 bh=TMZv4JnXM71lTYK+S0Y2vHW+l917IVOokw0htY+/EH4=;
 b=r6xJGXtN4Oof0vmnFZyYAPJe1d/9GDrIHo1jPbVLF7CgJS7ibSHiSrNgsR3Ivjb2S6
 7Uwzi8apCwO+NhyzWs6QEkF/k3ZUid6DpPXIXCTj3eZyouy9GTPb6sGb/KxjqVtmuuJR
 C0N5bRT7nIPJkKUfGdncpazyJ6bdSfZA4wyIe6V0h8H9dCGmY8gvgiDlSqmMR+AhjIB8
 d+HW8b0mlf175U5rKJWfY60ia36KOkCN50AlZLpeOmEFW0iOm1cyqhC2ZrWW7Pbm9IFk
 GgykNHIlREh5GKrF3kNx853+F0GVCOkSQHcGJPpcbOdoIqZNOMb4lmciQV1f1ZgJm19Q
 hiYQ==
X-Gm-Message-State: AOJu0Yzq7O//voVpJAm+hCLvCnNRUqW37WwPheiMmrCDgGLan7rSXnj7
 MWSc2npTYa62OiBT45RuCY+jub8geoykxYxciflSwHALMjdT3fFm2576x8hBHIvI53jLXK7Suh1
 zyAeiR7AgZ8yD56u1ZlQrdqGMBtPSYryZskfirvLz
X-Google-Smtp-Source: AGHT+IGCMMEMWqd/nXmJiPg0yZDK9f6QLCXmC/PdmyqR22FTQsHzu72DYKilxeoMl/VogqUr2buRnz1Vgx0V
X-Received: by 2002:a05:6e02:1e07:b0:365:139b:f4 with SMTP id
 g7-20020a056e021e0700b00365139b00f4mr3126267ila.2.1709318674417; 
 Fri, 01 Mar 2024 10:44:34 -0800 (PST)
Received: from postal.iol.unh.edu (postal.iol.unh.edu. [132.177.123.84])
 by smtp-relay.gmail.com with ESMTPS id
 bd8-20020a056e02300800b00363d9deea97sm216991ilb.16.2024.03.01.10.44.34
 (version=TLS1_2 cipher=ECDHE-ECDSA-AES128-GCM-SHA256 bits=128/128);
 Fri, 01 Mar 2024 10:44:34 -0800 (PST)
X-Relaying-Domain: iol.unh.edu
Date: Fri, 01 Mar 2024 10:44:34 -0800 (PST)
Message-ID: <65e22212.050a0220.3300a.ef53SMTPIN_ADDED_MISSING@mx.google.com>
Received: from [172.17.0.6] (unknown [172.18.0.217])
 by postal.iol.unh.edu (Postfix) with ESMTP id EEF8460527CD;
 Fri,  1 Mar 2024 13:44:33 -0500 (EST)
Subject: |SUCCESS| pw137660 [PATCH] [v5] net/i40e: add diagnostic support in 
From: dpdklab@iol.unh.edu
To: Test Report <test-report@dpdk.org>
Cc: dpdk-test-reports@iol.unh.edu
In-Reply-To: <20240301094422.460012-1-mingjinx.ye@intel.com>
References: <20240301094422.460012-1-mingjinx.ye@intel.com>
Content-Type: text/plain
X-BeenThere: test-report@dpdk.org
X-Mailman-Version: 2.1.29
Precedence: list
List-Id: automatic DPDK test reports <test-report.dpdk.org>
List-Unsubscribe: <https://mails.dpdk.org/options/test-report>,
 <mailto:test-report-request@dpdk.org?subject=unsubscribe>
List-Archive: <http://mails.dpdk.org/archives/test-report/>
List-Post: <mailto:test-report@dpdk.org>
List-Help: <mailto:test-report-request@dpdk.org?subject=help>
List-Subscribe: <https://mails.dpdk.org/listinfo/test-report>,
 <mailto:test-report-request@dpdk.org?subject=subscribe>
Errors-To: test-report-bounces@dpdk.org

Test-Label: iol-compile-arm64-testing
Test-Status: SUCCESS
http://dpdk.org/patch/137660

_Testing PASS_

Submitter: Mingjin Ye <mingjinx.ye@intel.com>
Date: Friday, March 01 2024 09:44:21 
DPDK git baseline: Repo:dpdk
  Branch: master
  CommitID:3408b132b31906fe1ed28d6b2009b98202e1cff0

137660 --> testing pass

Test environment and result as below:

+----------------------------------------+--------------------+
|              Environment               | dpdk_meson_compile |
+========================================+====================+
| Ubuntu 20.04 ARM SVE                   | PASS               |
+----------------------------------------+--------------------+
| Ubuntu 20.04 (ARM)                     | PASS               |
+----------------------------------------+--------------------+
| Debian 11 (Buster) (ARM)               | PASS               |
+----------------------------------------+--------------------+
| Debian 12 (arm)                        | PASS               |
+----------------------------------------+--------------------+
| Fedora 38 (ARM)                        | PASS               |
+----------------------------------------+--------------------+
| Ubuntu 20.04 aarch32 GCC Cross Compile | PASS               |
+----------------------------------------+--------------------+
| Fedora 37 (ARM)                        | PASS               |
+----------------------------------------+--------------------+
| CentOS Stream 9 (ARM)                  | PASS               |
+----------------------------------------+--------------------+
| Ubuntu 20.04 ARM Clang Cross Compile   | PASS               |
+----------------------------------------+--------------------+
| Ubuntu 20.04 ARM GCC Cross Compile     | PASS               |
+----------------------------------------+--------------------+


Ubuntu 20.04 ARM SVE
	Kernel: 5.4.0-80-generic
	Compiler: gcc 10.3.0 (Ubuntu 10.3.0-1ubuntu1~20.04)

Ubuntu 20.04 (ARM)
	Kernel: Container Host Kernel
	Compiler: gcc 9.4.0

Debian 11 (Buster) (ARM)
	Kernel: Container Host Kernel
	Compiler: gcc 10.2.1

Debian 12 (arm)
	Kernel: Container Host Kernel
	Compiler: gcc 11

Fedora 38 (ARM)
	Kernel: Depends on container host
	Compiler: gcc 13.1.1

Ubuntu 20.04 aarch32 GCC Cross Compile
	Kernel: 5.4.0-72-generic
	Compiler: gcc 9.3.0

Fedora 37 (ARM)
	Kernel: Depends on container host
	Compiler: gcc 12.3.1

CentOS Stream 9 (ARM)
	Kernel: Container Host Kernel
	Compiler: gcc 11.3.1

Ubuntu 20.04 ARM Clang Cross Compile
	Kernel: 5.4.0-72-generic
	Compiler: clang version 10.0.0-4ubuntu1

Ubuntu 20.04 ARM GCC Cross Compile
	Kernel: 5.4.0-72-generic
	Compiler: aarch64-linux-gnu-gcc (Ubuntu 9.3.0-17ubuntu1~20.04) 9.3.0

To view detailed results, visit:
https://lab.dpdk.org/results/dashboard/patchsets/29366/

UNH-IOL DPDK Community Lab

To manage your email subscriptions, visit: 
https://lab.dpdk.org/results/dashboard/preferences/subscriptions/