From mboxrd@z Thu Jan  1 00:00:00 1970
Return-Path: <test-report-bounces@dpdk.org>
Received: from mails.dpdk.org (mails.dpdk.org [217.70.189.124])
	by inbox.dpdk.org (Postfix) with ESMTP id 5FC6743BD1
	for <public@inbox.dpdk.org>; Fri,  1 Mar 2024 19:46:06 +0100 (CET)
Received: from mails.dpdk.org (localhost [127.0.0.1])
	by mails.dpdk.org (Postfix) with ESMTP id 5B9D742D68;
	Fri,  1 Mar 2024 19:46:06 +0100 (CET)
Received: from mail-pl1-f225.google.com (mail-pl1-f225.google.com
 [209.85.214.225])
 by mails.dpdk.org (Postfix) with ESMTP id E9035402B8
 for <test-report@dpdk.org>; Fri,  1 Mar 2024 19:46:04 +0100 (CET)
Received: by mail-pl1-f225.google.com with SMTP id
 d9443c01a7336-1dc29f1956cso21721775ad.0
 for <test-report@dpdk.org>; Fri, 01 Mar 2024 10:46:04 -0800 (PST)
DKIM-Signature: v=1; a=rsa-sha256; c=relaxed/relaxed;
 d=iol.unh.edu; s=unh-iol; t=1709318764; x=1709923564; darn=dpdk.org;
 h=references:in-reply-to:cc:to:from:subject:message-id:date:from:to
 :cc:subject:date:message-id:reply-to;
 bh=tZ1mKeEZbUlunTxJdAdM9LU1lv8DuiYPpJVVAbz957U=;
 b=Q2ZQC6YV+QaUS8Lv/bRxKKrRvoPxsHaibNhHKeuz/zghpVEt3+3KtpHZcZEj9IcwwO
 xm/ECYAdUDnLzaF6Kh3YZc5G3jg1ivjg+DvM19HIpWfT3eR7iUIYvz/cQhjG1dTkobJG
 v7WI3/PAoxER4gnPu5yXwS1soZjeJgOwXrWl4=
X-Google-DKIM-Signature: v=1; a=rsa-sha256; c=relaxed/relaxed;
 d=1e100.net; s=20230601; t=1709318764; x=1709923564;
 h=references:in-reply-to:cc:to:from:subject:message-id:date
 :x-gm-message-state:from:to:cc:subject:date:message-id:reply-to;
 bh=tZ1mKeEZbUlunTxJdAdM9LU1lv8DuiYPpJVVAbz957U=;
 b=Y9fvPs+jrUVGFhlmPj/F+g/AdP5oeXq+4QWW20SxWujmu2+H5THeLpTsSdLVouffCq
 gXuqpBu14ZsshPZg9gj4iUbcg1jkW5MNojj7ssczPyPHC1ueok4YMpgsfqaeHhMHx8Em
 77MfxUcTrxogmSvuCELhKNLVIo/Q4kEXhe2HpudhUs6wz9bAT3uCpnDyHzGBkskh3Mue
 ppm5QS+7GcMiaNpHQuvtwbfiMmySWVpJk/3lkFwuepZ1zbTh5CizL2OMDVgKRofSost7
 jCRFcw+k3scYglRuTD78kQM6QXgaRWsHS2PAPmmUXr/qPwUu6J0aMBjRhvsuOZlaP+ZB
 sXgQ==
X-Gm-Message-State: AOJu0YyTViwq78/7lO5y6nQAhBDNNyqPrcyMfaHRCyaLwyDPgX38Wbav
 Bi6IWJ0yYEufwjMy1/0hCLX6zrOQ3uM+hoGhgBkX287tKPeXv8+3xEcALMuDiK8f5FVJ4lvuNWp
 JVec07OWwCIWOh2SEALUeF07pii5tAHnT7UPd3uCR+TrFTYsWonPBG/kD
X-Google-Smtp-Source: AGHT+IFqxrb6yrcaOsJDx8CWO19cRVu58XiK6/IZKFvrYAgrPvKZM+AJhQFPlArKrhjmo2z8h8VBs/QLKISk
X-Received: by 2002:a17:903:187:b0:1dc:abe7:a1a6 with SMTP id
 z7-20020a170903018700b001dcabe7a1a6mr2980062plg.17.1709318764131; 
 Fri, 01 Mar 2024 10:46:04 -0800 (PST)
Received: from postal.iol.unh.edu (postal.iol.unh.edu.
 [2606:4100:3880:1234::84]) by smtp-relay.gmail.com with ESMTPS id
 jw5-20020a170903278500b001db4af8701asm121282plb.98.2024.03.01.10.46.03
 (version=TLS1_2 cipher=ECDHE-ECDSA-AES128-GCM-SHA256 bits=128/128);
 Fri, 01 Mar 2024 10:46:04 -0800 (PST)
X-Relaying-Domain: iol.unh.edu
Date: Fri, 01 Mar 2024 10:46:04 -0800 (PST)
Message-ID: <65e2226c.170a0220.49e8a.927bSMTPIN_ADDED_MISSING@mx.google.com>
Received: from [172.17.0.7] (unknown [172.18.0.217])
 by postal.iol.unh.edu (Postfix) with ESMTP id 484EB60527CD;
 Fri,  1 Mar 2024 13:46:03 -0500 (EST)
Subject: |SUCCESS| pw137660 [PATCH] [v5] net/i40e: add diagnostic support in 
From: dpdklab@iol.unh.edu
To: Test Report <test-report@dpdk.org>
Cc: dpdk-test-reports@iol.unh.edu
In-Reply-To: <20240301094422.460012-1-mingjinx.ye@intel.com>
References: <20240301094422.460012-1-mingjinx.ye@intel.com>
Content-Type: text/plain
X-BeenThere: test-report@dpdk.org
X-Mailman-Version: 2.1.29
Precedence: list
List-Id: automatic DPDK test reports <test-report.dpdk.org>
List-Unsubscribe: <https://mails.dpdk.org/options/test-report>,
 <mailto:test-report-request@dpdk.org?subject=unsubscribe>
List-Archive: <http://mails.dpdk.org/archives/test-report/>
List-Post: <mailto:test-report@dpdk.org>
List-Help: <mailto:test-report-request@dpdk.org?subject=help>
List-Subscribe: <https://mails.dpdk.org/listinfo/test-report>,
 <mailto:test-report-request@dpdk.org?subject=subscribe>
Errors-To: test-report-bounces@dpdk.org

Test-Label: iol-compile-amd64-testing
Test-Status: SUCCESS
http://dpdk.org/patch/137660

_Testing PASS_

Submitter: Mingjin Ye <mingjinx.ye@intel.com>
Date: Friday, March 01 2024 09:44:21 
DPDK git baseline: Repo:dpdk
  Branch: master
  CommitID:3408b132b31906fe1ed28d6b2009b98202e1cff0

137660 --> testing pass

Test environment and result as below:

+---------------------+--------------------+----------------------+
|     Environment     | dpdk_meson_compile | dpdk_mingw64_compile |
+=====================+====================+======================+
| FreeBSD 13.2        | PASS               | SKIPPED              |
+---------------------+--------------------+----------------------+
| Windows Server 2019 | PASS               | PASS                 |
+---------------------+--------------------+----------------------+
| Debian Bullseye     | PASS               | SKIPPED              |
+---------------------+--------------------+----------------------+
| CentOS Stream 8     | PASS               | SKIPPED              |
+---------------------+--------------------+----------------------+
| Debian 12 (arm)     | PASS               | SKIPPED              |
+---------------------+--------------------+----------------------+
| CentOS Stream 9     | PASS               | SKIPPED              |
+---------------------+--------------------+----------------------+
| Fedora 38           | PASS               | SKIPPED              |
+---------------------+--------------------+----------------------+
| Ubuntu 22.04        | PASS               | SKIPPED              |
+---------------------+--------------------+----------------------+
| openSUSE Leap 15    | PASS               | SKIPPED              |
+---------------------+--------------------+----------------------+
| RHEL8               | PASS               | SKIPPED              |
+---------------------+--------------------+----------------------+
| Ubuntu 20.04        | PASS               | SKIPPED              |
+---------------------+--------------------+----------------------+
| Alpine              | PASS               | SKIPPED              |
+---------------------+--------------------+----------------------+
| Fedora 37           | PASS               | SKIPPED              |
+---------------------+--------------------+----------------------+
| Windows Server 2022 | PASS               | SKIPPED              |
+---------------------+--------------------+----------------------+


FreeBSD 13.2
	Kernel: 13.2
	Compiler: clang 11.3.0

Windows Server 2019
	Kernel: 10.0
	Compiler: clang 14.0 and gcc 8.1.0 (MinGW)

Debian Bullseye
	Kernel: 5.4.0-122-generic
	Compiler: gcc 10.2.1-6

CentOS Stream 8
	Kernel: 4.18.0-240.10.1.el8_3.x86_64
	Compiler: gcc 8.4.1 20200928

Debian 12 (arm)
	Kernel: Container Host Kernel
	Compiler: gcc 11

CentOS Stream 9
	Kernel: 4.18.0-240.10.1.el8_3.x86_64
	Compiler: gcc 11.3.1 20220421

Fedora 38
	Kernel: Depends on container host
	Compiler: gcc 13.1.1

Ubuntu 22.04
	Kernel: 4.18.0-240.10.1.el8_3.x86_64
	Compiler: gcc 11.3.0

openSUSE Leap 15
	Kernel: 4.18.0-240.10.1.el8_3.x86_64
	Compiler: gcc 7.5.0

RHEL8
	Kernel: 4.18.0-240.10.1.el8_3.x86_64
	Compiler: gcc 8.3.1 20191121 (Red Hat 8.3.1-5)

Ubuntu 20.04
	Kernel: 5.4.0-153-generic
	Compiler: gcc 9.4.0-1ubuntu1~20.04.1

Alpine
	Kernel: 5.4.0-73-generic
	Compiler: gcc (Alpine 10.3.1_git20210424) 10.3.1 20210424

Fedora 37
	Kernel: Depends on container host system
	Compiler: gcc 12.3.1

Windows Server 2022
	Kernel: OS Build 20348.2031
	Compiler: MSVC VS-Preview

To view detailed results, visit:
https://lab.dpdk.org/results/dashboard/patchsets/29366/

UNH-IOL DPDK Community Lab

To manage your email subscriptions, visit: 
https://lab.dpdk.org/results/dashboard/preferences/subscriptions/